{"text_format":"1","workbook":"xlsx","n_sheets":37,"sheets":["Score","Totals","Template","Players","ChSc","BrBu","DeSc","PaEm","ViSc","BeCy","BoSc","BrTe","CaLi","ChRo","CoRo","CoNo","DaHo","DaLo","DeNe","HaMc","JaFa","JaGr","JaHo","JiBu","JiZi","JoCh","JoLy","JTFo","JuBl","KaBy","MiWa","MiWi","MiMc","RoSa","TiHa","TrKi","StSa"],"not_rendered":{"charts":0,"images":6,"macros":1,"external_links":0,"defined_names":1,"comments":0,"pivot_tables":0},"unopened":[],"bounds":{"document_bytes":16777216,"sheet_cells":100000,"rows_first":2000,"rows_last":500,"rows_between":2000,"halvings":0,"cell_chars":16384,"cell_head_chars":4096},"cells_cut":0,"cells_raw":0,"read":"whole","date_system":"1900"}

{"sheet":"Score","index":0,"n_rows":33,"n_cols":12,"rows_kept":33,"cut":false,"hidden":false,"merged":[]}
["Full Name","First Nm","Last Nm","PDGA #","City","State","Div","Angry","Nevin","Renny","Score","Registration"]
["Christian Scott","Christian","Scott",45982,"Charlotte","NC","Metal Minors",{"$f":"ChSc!$AB$8","v":81},{"$f":"ChSc!$AB$18","v":81},{"$f":"ChSc!$AB$28","v":88},{"$f":"ChSc!$AB$34","v":250},"5/13/19 4:15 PM"]
["Debbie Scott","Debbie","Scott",43896,"Charlotte","NC","Iron Maidens",{"$f":"DeSc!$AB$8","v":77},{"$f":"DeSc!$AB$18","v":82},{"$f":"DeSc!$AB$28","v":81},{"$f":"DeSc!$AB$34","v":240},"5/09/19 10:53 PM"]
["Brandi Buckalew","Brandi","Buckalew",95739,"Catawba","NC","Iron Maidens",{"$f":"BrBu!$AB$8","v":81},{"$f":"BrBu!$AB$18","v":78},{"$f":"BrBu!$AB$28","v":89},{"$f":"BrBu!$AB$34","v":248},"6/09/19 9:54 PM"]
["Paetyn Emmert","Paetyn","Emmert",95550,"Johnson City","TN","Iron Maidens",{"$f":"PaEm!$AB$8","v":85},{"$f":"PaEm!$AB$18","v":94},{"$f":"PaEm!$AB$28","v":89},{"$f":"PaEm!$AB$34","v":268},"6/13/19 11:56 AM"]
["Victoria Scott","Victoria","Scott",45761,"Charlotte","NC","Iron Maidens",{"$f":"ViSc!$AB$8","v":89},{"$f":"ViSc!$AB$18","v":100},{"$f":"ViSc!$AB$28","v":97},{"$f":"ViSc!$AB$34","v":286},"5/13/19 4:13 PM"]
["James Hopkins","James","Farmer",50270,"Greensboro","NC","Iron Men",{"$f":"JaHo!$AB$8","v":63},{"$f":"JaHo!$AB$18","v":61},{"$f":"JaHo!$AB$28","v":65},{"$f":"JaHo!$AB$34","v":189},"6/20/19 11:35 AM"]
["David Love","David","Love",71737,"Kingsport","TN","Iron Men",{"$f":"DaLo!$AB$8","v":63},{"$f":"DaLo!$AB$18","v":63},{"$f":"DaLo!$AB$28","v":69},{"$f":"DaLo!$AB$34","v":195},"6/13/19 9:28 PM"]
["Trey King","Trey","King",null,"Charlotte","NC","Iron Men",{"$f":"TrKi!$AB$8","v":63},{"$f":"TrKi!$AB$18","v":72},{"$f":"TrKi!$AB$28","v":72},{"$f":"TrKi!$AB$34","v":207},"6/19/19 10:45 PM"]
["Christopher Rowe","Christopher","Rowe",79142,"Johnson City","TN","Iron Men",{"$f":"ChRo!$AB$8","v":65},{"$f":"ChRo!$AB$18","v":68},{"$f":"ChRo!$AB$28","v":77},{"$f":"ChRo!$AB$34","v":210},"6/13/19 12:08 PM"]
["Jimmy Ziros","Jimmy","Ziros",117793,"Charlotte","NC","Iron Men",{"$f":"JiZi!$AB$8","v":67},{"$f":"JiZi!$AB$18","v":74},{"$f":"JiZi!$AB$28","v":73},{"$f":"JiZi!$AB$34","v":214},"6/04/19 12:18 PM"]
["Dakota Hopkins","Dakota","Hopkins",82258,"Bristol","TN","Iron Men",{"$f":"DaHo!$AB$8","v":73},{"$f":"DaHo!$AB$18","v":67},{"$f":"DaHo!$AB$28","v":77},{"$f":"DaHo!$AB$34","v":217},"6/18/19 2:58 PM"]
["JT Ford","JT","Ford",null,"Concord","NC","Iron Men",{"$f":"JTFo!$AB$8","v":75},{"$f":"JTFo!$AB$18","v":72},{"$f":"JTFo!$AB$28","v":76},{"$f":"JTFo!$AB$34","v":223},"6/13/19 6:53 PM"]
["Tim Hatley","Tim","Hatley",null,"Pineville","NC","Iron Men",{"$f":"TiHa!$AB$8","v":74},{"$f":"TiHa!$AB$18","v":75},{"$f":"TiHa!$AB$28","v":77},{"$f":"TiHa!$AB$34","v":226},"5/18/19 8:07 PM"]
["Benjamin Cybul","Benjamin","Cybul",56757,"Charlotte","AL","Iron Men",{"$f":"BeCy!$AB$8","v":72},{"$f":"BeCy!$AB$18","v":78},{"$f":"BeCy!$AB$28","v":77},{"$f":"BeCy!$AB$34","v":227},"6/06/19 11:11 AM"]
["Devon Neely","Devon","Neely",null,"Concord","NC","Iron Men",{"$f":"DeNe!$AB$8","v":74},{"$f":"DeNe!$AB$18","v":75},{"$f":"DeNe!$AB$28","v":81},{"$f":"DeNe!$AB$34","v":230},"6/13/19 2:00 PM"]
["Justin Black","Justin","Black",90302,"Statesville","NC","Iron Men",{"$f":"JuBl!$AB$8","v":73},{"$f":"JuBl!$AB$18","v":76},{"$f":"JuBl!$AB$28","v":81},{"$f":"JuBl!$AB$34","v":230},"6/20/19 8:29 AM"]
["Kael Byrd","Kael","Byrd",116384,"N. Wilkesboro","NC","Iron Men",{"$f":"KaBy!$AB$8","v":74},{"$f":"KaBy!$AB$18","v":74},{"$f":"KaBy!$AB$28","v":83},{"$f":"KaBy!$AB$34","v":231},"6/19/19 3:26 PM"]
["Jonathan Charping","Jonathan","Charping",51153,"Gastonia","NC","Iron Men",{"$f":"JoCh!$AB$8","v":68},{"$f":"JoCh!$AB$18","v":83},{"$f":"JoCh!$AB$28","v":81},{"$f":"JoCh!$AB$34","v":232},"6/19/19 5:58 PM"]
["Jim Buckalew","Jim","Buckalew Jr",94060,"Newton","NC","Iron Men",{"$f":"JiBu!$AB$8","v":76},{"$f":"JiBu!$AB$18","v":77},{"$f":"JiBu!$AB$28","v":82},{"$f":"JiBu!$AB$34","v":235},"6/09/19 9:55 PM"]
["Corey Nortz","Corey","Nortz",null,"Mooresville","NC","Iron Men",{"$f":"CoNo!$AB$8","v":79},{"$f":"CoNo!$AB$18","v":80},{"$f":"CoNo!$AB$28","v":79},{"$f":"CoNo!$AB$34","v":238},"6/11/19 8:43 AM"]
["Michael Walseman","Michael","Walseman",108324,"Charlotte","NC","Iron Men",{"$f":"MiWa!$AB$8","v":77},{"$f":"MiWa!$AB$18","v":82},{"$f":"MiWa!$AB$28","v":81},{"$f":"MiWa!$AB$34","v":240},"6/10/19 8:35 PM"]
["James Farmer","James","Graves",30904,"Winston Salem","NC","Iron Men",{"$f":"JaFa!$AB$8","v":77},{"$f":"JaFa!$AB$18","v":87},{"$f":"JaFa!$AB$28","v":79},{"$f":"JaFa!$AB$34","v":243},"5/13/19 2:04 PM"]
["Cody Robinson","Cody","Robinson",100259,"Taylorsville","NC","Iron Men",{"$f":"CoRo!$AB$8","v":77},{"$f":"CoRo!$AB$18","v":85},{"$f":"CoRo!$AB$28","v":83},{"$f":"CoRo!$AB$34","v":245},"6/19/19 2:54 PM"]
["Bob Scott","Bob","Scott",68996,"Charlotte","NC","Iron Men",{"$f":"BoSc!$AB$8","v":83},{"$f":"BoSc!$AB$18","v":88},{"$f":"BoSc!$AB$28","v":81},{"$f":"BoSc!$AB$34","v":252},"5/13/19 4:06 PM"]
["James Graves","James","Hopkins",49184,"Leland","NC","Iron Men",{"$f":"JaGr!$AB$8","v":80},{"$f":"JaGr!$AB$18","v":83},{"$f":"JaGr!$AB$28","v":90},{"$f":"JaGr!$AB$34","v":253},"6/18/19 5:21 PM"]
["Robert Sadowski","Robert","Sadowski",68521,"Granite Falls","NC","Iron Men",{"$f":"RoSa!$AB$8","v":89},{"$f":"RoSa!$AB$18","v":84},{"$f":"RoSa!$AB$28","v":92},{"$f":"RoSa!$AB$34","v":265},"5/30/19 11:49 PM"]
["Brandon Terry","Brandon","Terry",null,"Rock Hill","SC","Iron Men",{"$f":"BrTe!$AB$8","v":92},{"$f":"BrTe!$AB$18","v":91},{"$f":"BrTe!$AB$28","v":85},{"$f":"BrTe!$AB$34","v":268},"5/14/19 1:57 PM"]
["Hannable McGarity","Hannable","McGarity",90754,"Lillington","NC","Iron Men",{"$f":"HaMc!$AB$8","v":87},{"$f":"HaMc!$AB$18","v":94},{"$f":"HaMc!$AB$28","v":88},{"$f":"HaMc!$AB$34","v":269},"6/20/19 6:31 AM"]
["Michael Williams","Michael","Williams",null,null,"NC","Iron Men",{"$f":"MiWi!$AB$8","v":94},{"$f":"MiWi!$AB$18","v":96},{"$f":"MiWi!$AB$28","v":84},{"$f":"MiWi!$AB$34","v":274},"6/13/19 6:56 PM"]
["Cameron Linger","Cameron","Linger",null,"Charlotte","SC","Iron Men",{"$f":"CaLi!$AB$8","v":95},{"$f":"CaLi!$AB$18","v":98},{"$f":"CaLi!$AB$28","v":105},{"$f":"CaLi!$AB$34","v":298},"5/13/19 10:51 AM"]
["Jordan Lyndaker","Jordan","Lyndaker",null,"Charlotte","NC","Iron Men",{"$f":"JoLy!$AB$8","v":89},{"$f":"JoLy!$AB$18","v":102},{"$f":"JoLy!$AB$28","v":107},{"$f":"JoLy!$AB$34","v":298},"6/18/19 2:06 PM"]
["Mitchell McGarity","Mitchell","McGarity",99534,"Lillington","NC","Iron Men",{"$f":"MiMc!$AB$8","v":103},{"$f":"MiMc!$AB$18","v":96},{"$f":"MiMc!$AB$28","v":101},{"$f":"MiMc!$AB$34","v":300},"6/20/19 10:18 AM"]

{"sheet":"Totals","index":1,"n_rows":34,"n_cols":28,"rows_kept":34,"cut":false,"hidden":false,"merged":[[0,0,33,0],[0,16,3,16],[0,17,33,17],[1,20,1,24],[1,26,1,27],[10,12,13,12],[20,16,23,16],[29,1,29,10],[29,12,29,13],[30,1,30,10],[30,12,30,13],[31,1,31,10],[31,12,31,13],[32,1,32,10],[32,12,32,13]]}
["2019 Charlotte Iron Man",null,null,null,null,"Hole",1,2,3,4,5,6,7,8,9,"Out","ANGRY"]
[null,null,null,null,null,"Dist.",235,158,222,439,801,491,282,567,268,{"$f":"SUM(G2:O2)","v":3463},null,null,null,"Name","Totals (all players)",null,null,null,null,"Div","All Divisions"]
[null,null,null,null,null,"Par",3,3,3,4,5,4,3,4,3,{"$f":"SUM(G3:O3)","v":32}]
[null,null,null,null,null,"Score",null,null,null,null,null,null,null,null,null,0]
[null,null,null,null,null,"Hole",10,11,12,13,14,15,16,17,18,"In","Total",null,null,"ANGRY","Ace","Eag","Bir","Par","Bog","Bg+","Sno","Score"]
[null,null,null,null,null,"Dist.",563,465,215,409,333,702,431,282,814,{"$f":"SUM(G6:O6)","v":4214},{"$f":"P6+P2","v":7677},null,null,"Front",{"$f":"SUM(ChSc!U6,BrBu!U6,DeSc!U6,PaEm!U6,ViSc!U6,BeCy!U6,BoSc!U6,BrTe!U6,CaLi!U6,ChRo!U6,CoRo!U6,CoNo!U6,DaHo!U6,DaLo!U6,DeNe!U6,HaMc!U6,JaFa!U6,JaGr!U6,JaHo!U6,JiZi!U6,JoCh!U6,JoLy!U6,JiBu!U6,JTFo!U6,JuBl!U6,KaBy!U6,MiWa!U6,MiWi!U6,MiMc!U6,RoSa!U6,TiHa!U6,TrKi!U6)","v":0},{"$f":"SUM(ChSc!V6,BrBu!V6,DeSc!V6,PaEm!V6,ViSc!V6,BeCy!V6,BoSc!V6,BrTe!V6,CaLi!V6,ChRo!V6,CoRo!V6,CoNo!V6,DaHo!V6,DaLo!V6,DeNe!V6,HaMc!V6,JaFa!V6,JaGr!V6,JaHo!V6,JiZi!V6,JoCh!V6,JoLy!V6,JiBu!V6,JTFo!V6,JuBl!V6,KaBy!V6,MiWa!V6,MiWi!V6,MiMc!V6,RoSa!V6,TiHa!V6,TrKi!V6)","v":0},{"$f":"SUM(ChSc!W6,BrBu!W6,DeSc!W6,PaEm!W6,ViSc!W6,BeCy!W6,BoSc!W6,BrTe!W6,CaLi!W6,ChRo!W6,CoRo!W6,CoNo!W6,DaHo!W6,DaLo!W6,DeNe!W6,HaMc!W6,JaFa!W6,JaGr!W6,JaHo!W6,JiZi!W6,JoCh!W6,JoLy!W6,JiBu!W6,JTFo!W6,JuBl!W6,KaBy!W6,MiWa!W6,MiWi!W6,MiMc!W6,RoSa!W6,TiHa!W6,TrKi!W6)","v":35},{"$f":"SUM(ChSc!X6,BrBu!X6,DeSc!X6,PaEm!X6,ViSc!X6,BeCy!X6,BoSc!X6,BrTe!X6,CaLi!X6,ChRo!X6,CoRo!X6,CoNo!X6,DaHo!X6,DaLo!X6,DeNe!X6,HaMc!X6,JaFa!X6,JaGr!X6,JaHo!X6,JiZi!X6,JoCh!X6,JoLy!X6,JiBu!X6,JTFo!X6,JuBl!X6,KaBy!X6,MiWa!X6,MiWi!X6,MiMc!X6,RoSa!X6,TiHa!X6,TrKi!X6)","v":119},{"$f":"SUM(ChSc!Y6,BrBu!Y6,DeSc!Y6,PaEm!Y6,ViSc!Y6,BeCy!Y6,BoSc!Y6,BrTe!Y6,CaLi!Y6,ChRo!Y6,CoRo!Y6,CoNo!Y6,DaHo!Y6,DaLo!Y6,DeNe!Y6,HaMc!Y6,JaFa!Y6,JaGr!Y6,JaHo!Y6,JiZi!Y6,JoCh!Y6,JoLy!Y6,JiBu!Y6,JTFo!Y6,JuBl!Y6,KaBy!Y6,MiWa!Y6,MiWi!Y6,MiMc!Y6,RoSa!Y6,TiHa!Y6,TrKi!Y6)","v":76},{"$f":"SUM(ChSc!Z6,BrBu!Z6,DeSc!Z6,PaEm!Z6,ViSc!Z6,BeCy!Z6,BoSc!Z6,BrTe!Z6,CaLi!Z6,ChRo!Z6,CoRo!Z6,CoNo!Z6,DaHo!Z6,DaLo!Z6,DeNe!Z6,HaMc!Z6,JaFa!Z6,JaGr!Z6,JaHo!Z6,JiZi!Z6,JoCh!Z6,JoLy!Z6,JiBu!Z6,JTFo!Z6,JuBl!Z6,KaBy!Z6,MiWa!Z6,MiWi!Z6,MiMc!Z6,RoSa!Z6,TiHa!Z6,TrKi!Z6)","v":58},{"$f":"SUM(ChSc!AA6,BrBu!AA6,DeSc!AA6,PaEm!AA6,ViSc!AA6,BeCy!AA6,BoSc!AA6,BrTe!AA6,CaLi!AA6,ChRo!AA6,CoRo!AA6,CoNo!AA6,DaHo!AA6,DaLo!AA6,DeNe!AA6,HaMc!AA6,JaFa!AA6,JaGr!AA6,JaHo!AA6,JiZi!AA6,JoCh!AA6,JoLy!AA6,JiBu!AA6,JTFo!AA6,JuBl!AA6,KaBy!AA6,MiWa!AA6,MiWi!AA6,MiMc!AA6,RoSa!AA6,TiHa!AA6,TrKi!AA6)","v":2},{"$f":"SUM(ChSc!AB6,BrBu!AB6,DeSc!AB6,PaEm!AB6,ViSc!AB6,BeCy!AB6,BoSc!AB6,BrTe!AB6,CaLi!AB6,ChRo!AB6,CoRo!AB6,CoNo!AB6,DaHo!AB6,DaLo!AB6,DeNe!AB6,HaMc!AB6,JaFa!AB6,JaGr!AB6,JaHo!AB6,JiZi!AB6,JoCh!AB6,JoLy!AB6,JiBu!AB6,JTFo!AB6,JuBl!AB6,KaBy!AB6,MiWa!AB6,MiWi!AB6,MiMc!AB6,RoSa!AB6,TiHa!AB6,TrKi!AB6)","v":1196}]
[null,null,null,null,null,"Par",4,4,3,4,3,5,4,3,5,{"$f":"SUM(G7:O7)","v":35},{"$f":"P7+P3","v":67},null,null,"Back",{"$f":"SUM(ChSc!U7,BrBu!U7,DeSc!U7,PaEm!U7,ViSc!U7,BeCy!U7,BoSc!U7,BrTe!U7,CaLi!U7,ChRo!U7,CoRo!U7,CoNo!U7,DaHo!U7,DaLo!U7,DeNe!U7,HaMc!U7,JaFa!U7,JaGr!U7,JaHo!U7,JiZi!U7,JoCh!U7,JoLy!U7,JiBu!U7,JTFo!U7,JuBl!U7,KaBy!U7,MiWa!U7,MiWi!U7,MiMc!U7,RoSa!U7,TiHa!U7,TrKi!U7)","v":0},{"$f":"SUM(ChSc!V7,BrBu!V7,DeSc!V7,PaEm!V7,ViSc!V7,BeCy!V7,BoSc!V7,BrTe!V7,CaLi!V7,ChRo!V7,CoRo!V7,CoNo!V7,DaHo!V7,DaLo!V7,DeNe!V7,HaMc!V7,JaFa!V7,JaGr!V7,JaHo!V7,JiZi!V7,JoCh!V7,JoLy!V7,JiBu!V7,JTFo!V7,JuBl!V7,KaBy!V7,MiWa!V7,MiWi!V7,MiMc!V7,RoSa!V7,TiHa!V7,TrKi!V7)","v":0},{"$f":"SUM(ChSc!W7,BrBu!W7,DeSc!W7,PaEm!W7,ViSc!W7,BeCy!W7,BoSc!W7,BrTe!W7,CaLi!W7,ChRo!W7,CoRo!W7,CoNo!W7,DaHo!W7,DaLo!W7,DeNe!W7,HaMc!W7,JaFa!W7,JaGr!W7,JaHo!W7,JiZi!W7,JoCh!W7,JoLy!W7,JiBu!W7,JTFo!W7,JuBl!W7,KaBy!W7,MiWa!W7,MiWi!W7,MiMc!W7,RoSa!W7,TiHa!W7,TrKi!W7)","v":30},{"$f":"SUM(ChSc!X7,BrBu!X7,DeSc!X7,PaEm!X7,ViSc!X7,BeCy!X7,BoSc!X7,BrTe!X7,CaLi!X7,ChRo!X7,CoRo!X7,CoNo!X7,DaHo!X7,DaLo!X7,DeNe!X7,HaMc!X7,JaFa!X7,JaGr!X7,JaHo!X7,JiZi!X7,JoCh!X7,JoLy!X7,JiBu!X7,JTFo!X7,JuBl!X7,KaBy!X7,MiWa!X7,MiWi!X7,MiMc!X7,RoSa!X7,TiHa!X7,TrKi!X7)","v":114},{"$f":"SUM(ChSc!Y7,BrBu!Y7,DeSc!Y7,PaEm!Y7,ViSc!Y7,BeCy!Y7,BoSc!Y7,BrTe!Y7,CaLi!Y7,ChRo!Y7,CoRo!Y7,CoNo!Y7,DaHo!Y7,DaLo!Y7,DeNe!Y7,HaMc!Y7,JaFa!Y7,JaGr!Y7,JaHo!Y7,JiZi!Y7,JoCh!Y7,JoLy!Y7,JiBu!Y7,JTFo!Y7,JuBl!Y7,KaBy!Y7,MiWa!Y7,MiWi!Y7,MiMc!Y7,RoSa!Y7,TiHa!Y7,TrKi!Y7)","v":86},{"$f":"SUM(ChSc!Z7,BrBu!Z7,DeSc!Z7,PaEm!Z7,ViSc!Z7,BeCy!Z7,BoSc!Z7,BrTe!Z7,CaLi!Z7,ChRo!Z7,CoRo!Z7,CoNo!Z7,DaHo!Z7,DaLo!Z7,DeNe!Z7,HaMc!Z7,JaFa!Z7,JaGr!Z7,JaHo!Z7,JiZi!Z7,JoCh!Z7,JoLy!Z7,JiBu!Z7,JTFo!Z7,JuBl!Z7,KaBy!Z7,MiWa!Z7,MiWi!Z7,MiMc!Z7,RoSa!Z7,TiHa!Z7,TrKi!Z7)","v":58},{"$f":"SUM(ChSc!AA7,BrBu!AA7,DeSc!AA7,PaEm!AA7,ViSc!AA7,BeCy!AA7,BoSc!AA7,BrTe!AA7,CaLi!AA7,ChRo!AA7,CoRo!AA7,CoNo!AA7,DaHo!AA7,DaLo!AA7,DeNe!AA7,HaMc!AA7,JaFa!AA7,JaGr!AA7,JaHo!AA7,JiZi!AA7,JoCh!AA7,JoLy!AA7,JiBu!AA7,JTFo!AA7,JuBl!AA7,KaBy!AA7,MiWa!AA7,MiWi!AA7,MiMc!AA7,RoSa!AA7,TiHa!AA7,TrKi!AA7)","v":4},{"$f":"SUM(ChSc!AB7,BrBu!AB7,DeSc!AB7,PaEm!AB7,ViSc!AB7,BeCy!AB7,BoSc!AB7,BrTe!AB7,CaLi!AB7,ChRo!AB7,CoRo!AB7,CoNo!AB7,DaHo!AB7,DaLo!AB7,DeNe!AB7,HaMc!AB7,JaFa!AB7,JaGr!AB7,JaHo!AB7,JiZi!AB7,JoCh!AB7,JoLy!AB7,JiBu!AB7,JTFo!AB7,JuBl!AB7,KaBy!AB7,MiWa!AB7,MiWi!AB7,MiMc!AB7,RoSa!AB7,TiHa!AB7,TrKi!AB7)","v":1319}]
[null,null,null,null,null,"Score",null,null,null,null,null,null,null,null,null,{"$f":"SUM(G8:O8)","v":0},0,null,null,"Total",{"$f":"SUM(ChSc!U8,BrBu!U8,DeSc!U8,PaEm!U8,ViSc!U8,BeCy!U8,BoSc!U8,BrTe!U8,CaLi!U8,ChRo!U8,CoRo!U8,CoNo!U8,DaHo!U8,DaLo!U8,DeNe!U8,HaMc!U8,JaFa!U8,JaGr!U8,JaHo!U8,JiZi!U8,JoCh!U8,JoLy!U8,JiBu!U8,JTFo!U8,JuBl!U8,KaBy!U8,MiWa!U8,MiWi!U8,MiMc!U8,RoSa!U8,TiHa!U8,TrKi!U8)","v":0},{"$f":"SUM(ChSc!V8,BrBu!V8,DeSc!V8,PaEm!V8,ViSc!V8,BeCy!V8,BoSc!V8,BrTe!V8,CaLi!V8,ChRo!V8,CoRo!V8,CoNo!V8,DaHo!V8,DaLo!V8,DeNe!V8,HaMc!V8,JaFa!V8,JaGr!V8,JaHo!V8,JiZi!V8,JoCh!V8,JoLy!V8,JiBu!V8,JTFo!V8,JuBl!V8,KaBy!V8,MiWa!V8,MiWi!V8,MiMc!V8,RoSa!V8,TiHa!V8,TrKi!V8)","v":0},{"$f":"SUM(ChSc!W8,BrBu!W8,DeSc!W8,PaEm!W8,ViSc!W8,BeCy!W8,BoSc!W8,BrTe!W8,CaLi!W8,ChRo!W8,CoRo!W8,CoNo!W8,DaHo!W8,DaLo!W8,DeNe!W8,HaMc!W8,JaFa!W8,JaGr!W8,JaHo!W8,JiZi!W8,JoCh!W8,JoLy!W8,JiBu!W8,JTFo!W8,JuBl!W8,KaBy!W8,MiWa!W8,MiWi!W8,MiMc!W8,RoSa!W8,TiHa!W8,TrKi!W8)","v":65},{"$f":"SUM(ChSc!X8,BrBu!X8,DeSc!X8,PaEm!X8,ViSc!X8,BeCy!X8,BoSc!X8,BrTe!X8,CaLi!X8,ChRo!X8,CoRo!X8,CoNo!X8,DaHo!X8,DaLo!X8,DeNe!X8,HaMc!X8,JaFa!X8,JaGr!X8,JaHo!X8,JiZi!X8,JoCh!X8,JoLy!X8,JiBu!X8,JTFo!X8,JuBl!X8,KaBy!X8,MiWa!X8,MiWi!X8,MiMc!X8,RoSa!X8,TiHa!X8,TrKi!X8)","v":233},{"$f":"SUM(ChSc!Y8,BrBu!Y8,DeSc!Y8,PaEm!Y8,ViSc!Y8,BeCy!Y8,BoSc!Y8,BrTe!Y8,CaLi!Y8,ChRo!Y8,CoRo!Y8,CoNo!Y8,DaHo!Y8,DaLo!Y8,DeNe!Y8,HaMc!Y8,JaFa!Y8,JaGr!Y8,JaHo!Y8,JiZi!Y8,JoCh!Y8,JoLy!Y8,JiBu!Y8,JTFo!Y8,JuBl!Y8,KaBy!Y8,MiWa!Y8,MiWi!Y8,MiMc!Y8,RoSa!Y8,TiHa!Y8,TrKi!Y8)","v":162},{"$f":"SUM(ChSc!Z8,BrBu!Z8,DeSc!Z8,PaEm!Z8,ViSc!Z8,BeCy!Z8,BoSc!Z8,BrTe!Z8,CaLi!Z8,ChRo!Z8,CoRo!Z8,CoNo!Z8,DaHo!Z8,DaLo!Z8,DeNe!Z8,HaMc!Z8,JaFa!Z8,JaGr!Z8,JaHo!Z8,JiZi!Z8,JoCh!Z8,JoLy!Z8,JiBu!Z8,JTFo!Z8,JuBl!Z8,KaBy!Z8,MiWa!Z8,MiWi!Z8,MiMc!Z8,RoSa!Z8,TiHa!Z8,TrKi!Z8)","v":116},{"$f":"SUM(ChSc!AA8,BrBu!AA8,DeSc!AA8,PaEm!AA8,ViSc!AA8,BeCy!AA8,BoSc!AA8,BrTe!AA8,CaLi!AA8,ChRo!AA8,CoRo!AA8,CoNo!AA8,DaHo!AA8,DaLo!AA8,DeNe!AA8,HaMc!AA8,JaFa!AA8,JaGr!AA8,JaHo!AA8,JiZi!AA8,JoCh!AA8,JoLy!AA8,JiBu!AA8,JTFo!AA8,JuBl!AA8,KaBy!AA8,MiWa!AA8,MiWi!AA8,MiMc!AA8,RoSa!AA8,TiHa!AA8,TrKi!AA8)","v":6},{"$f":"SUM(ChSc!AB8,BrBu!AB8,DeSc!AB8,PaEm!AB8,ViSc!AB8,BeCy!AB8,BoSc!AB8,BrTe!AB8,CaLi!AB8,ChRo!AB8,CoRo!AB8,CoNo!AB8,DaHo!AB8,DaLo!AB8,DeNe!AB8,HaMc!AB8,JaFa!AB8,JaGr!AB8,JaHo!AB8,JiZi!AB8,JoCh!AB8,JoLy!AB8,JiBu!AB8,JTFo!AB8,JuBl!AB8,KaBy!AB8,MiWa!AB8,MiWi!AB8,MiMc!AB8,RoSa!AB8,TiHa!AB8,TrKi!AB8)","v":2515}]
[]
[]
[null,"Hole",1,2,3,4,5,6,7,8,9,"Out","NEVIN"]
[null,"Dist.",491,240,375,538,656,317,202,329,593,{"$f":"SUM(C12:K12)","v":3741}]
[null,"Par",4,3,3,4,5,3,3,3,4,{"$f":"SUM(C13:K13)","v":32}]
[null,"Score",null,null,null,null,null,null,null,null,null,0]
[null,"Hole",10,11,12,13,14,15,16,17,18,"In","Total",null,null,null,null,null,null,"NEVIN","Ace","Eag","Bir","Par","Bog","Bg+","Sno","Score"]
[null,"Dist.",630,640,970,274,550,252,596,581,530,{"$f":"SUM(C16:K16)","v":5023},{"$f":"L16+L12","v":8764},null,null,null,null,null,null,"Front",{"$f":"SUM(ChSc!U16,BrBu!U16,DeSc!U16,PaEm!U16,ViSc!U16,BeCy!U16,BoSc!U16,BrTe!U16,CaLi!U16,ChRo!U16,CoRo!U16,CoNo!U16,DaHo!U16,DaLo!U16,DeNe!U16,HaMc!U16,JaFa!U16,JaGr!U16,JaHo!U16,JiZi!U16,JoCh!U16,JoLy!U16,JiBu!U16,JTFo!U16,JuBl!U16,KaBy!U16,MiWa!U16,MiWi!U16,MiMc!U16,RoSa!U16,TiHa!U16,TrKi!U16)","v":0},{"$f":"SUM(ChSc!V16,BrBu!V16,DeSc!V16,PaEm!V16,ViSc!V16,BeCy!V16,BoSc!V16,BrTe!V16,CaLi!V16,ChRo!V16,CoRo!V16,CoNo!V16,DaHo!V16,DaLo!V16,DeNe!V16,HaMc!V16,JaFa!V16,JaGr!V16,JaHo!V16,JiZi!V16,JoCh!V16,JoLy!V16,JiBu!V16,JTFo!V16,JuBl!V16,KaBy!V16,MiWa!V16,MiWi!V16,MiMc!V16,RoSa!V16,TiHa!V16,TrKi!V16)","v":0},{"$f":"SUM(ChSc!W16,BrBu!W16,DeSc!W16,PaEm!W16,ViSc!W16,BeCy!W16,BoSc!W16,BrTe!W16,CaLi!W16,ChRo!W16,CoRo!W16,CoNo!W16,DaHo!W16,DaLo!W16,DeNe!W16,HaMc!W16,JaFa!W16,JaGr!W16,JaHo!W16,JiZi!W16,JoCh!W16,JoLy!W16,JiBu!W16,JTFo!W16,JuBl!W16,KaBy!W16,MiWa!W16,MiWi!W16,MiMc!W16,RoSa!W16,TiHa!W16,TrKi!W16)","v":21},{"$f":"SUM(ChSc!X16,BrBu!X16,DeSc!X16,PaEm!X16,ViSc!X16,BeCy!X16,BoSc!X16,BrTe!X16,CaLi!X16,ChRo!X16,CoRo!X16,CoNo!X16,DaHo!X16,DaLo!X16,DeNe!X16,HaMc!X16,JaFa!X16,JaGr!X16,JaHo!X16,JiZi!X16,JoCh!X16,JoLy!X16,JiBu!X16,JTFo!X16,JuBl!X16,KaBy!X16,MiWa!X16,MiWi!X16,MiMc!X16,RoSa!X16,TiHa!X16,TrKi!X16)","v":116},{"$f":"SUM(ChSc!Y16,BrBu!Y16,DeSc!Y16,PaEm!Y16,ViSc!Y16,BeCy!Y16,BoSc!Y16,BrTe!Y16,CaLi!Y16,ChRo!Y16,CoRo!Y16,CoNo!Y16,DaHo!Y16,DaLo!Y16,DeNe!Y16,HaMc!Y16,JaFa!Y16,JaGr!Y16,JaHo!Y16,JiZi!Y16,JoCh!Y16,JoLy!Y16,JiBu!Y16,JTFo!Y16,JuBl!Y16,KaBy!Y16,MiWa!Y16,MiWi!Y16,MiMc!Y16,RoSa!Y16,TiHa!Y16,TrKi!Y16)","v":84},{"$f":"SUM(ChSc!Z16,BrBu!Z16,DeSc!Z16,PaEm!Z16,ViSc!Z16,BeCy!Z16,BoSc!Z16,BrTe!Z16,CaLi!Z16,ChRo!Z16,CoRo!Z16,CoNo!Z16,DaHo!Z16,DaLo!Z16,DeNe!Z16,HaMc!Z16,JaFa!Z16,JaGr!Z16,JaHo!Z16,JiZi!Z16,JoCh!Z16,JoLy!Z16,JiBu!Z16,JTFo!Z16,JuBl!Z16,KaBy!Z16,MiWa!Z16,MiWi!Z16,MiMc!Z16,RoSa!Z16,TiHa!Z16,TrKi!Z16)","v":67},{"$f":"SUM(ChSc!AA16,BrBu!AA16,DeSc!AA16,PaEm!AA16,ViSc!AA16,BeCy!AA16,BoSc!AA16,BrTe!AA16,CaLi!AA16,ChRo!AA16,CoRo!AA16,CoNo!AA16,DaHo!AA16,DaLo!AA16,DeNe!AA16,HaMc!AA16,JaFa!AA16,JaGr!AA16,JaHo!AA16,JiZi!AA16,JoCh!AA16,JoLy!AA16,JiBu!AA16,JTFo!AA16,JuBl!AA16,KaBy!AA16,MiWa!AA16,MiWi!AA16,MiMc!AA16,RoSa!AA16,TiHa!AA16,TrKi!AA16)","v":6},{"$f":"SUM(ChSc!AB16,BrBu!AB16,DeSc!AB16,PaEm!AB16,ViSc!AB16,BeCy!AB16,BoSc!AB16,BrTe!AB16,CaLi!AB16,ChRo!AB16,CoRo!AB16,CoNo!AB16,DaHo!AB16,DaLo!AB16,DeNe!AB16,HaMc!AB16,JaFa!AB16,JaGr!AB16,JaHo!AB16,JiZi!AB16,JoCh!AB16,JoLy!AB16,JiBu!AB16,JTFo!AB16,JuBl!AB16,KaBy!AB16,MiWa!AB16,MiWi!AB16,MiMc!AB16,RoSa!AB16,TiHa!AB16,TrKi!AB16)","v":1243}]
[null,"Par",5,4,5,3,4,3,4,5,4,{"$f":"SUM(C17:K17)","v":37},{"$f":"L17+L13","v":69},null,null,null,null,null,null,"Back",{"$f":"SUM(ChSc!U17,BrBu!U17,DeSc!U17,PaEm!U17,ViSc!U17,BeCy!U17,BoSc!U17,BrTe!U17,CaLi!U17,ChRo!U17,CoRo!U17,CoNo!U17,DaHo!U17,DaLo!U17,DeNe!U17,HaMc!U17,JaFa!U17,JaGr!U17,JaHo!U17,JiZi!U17,JoCh!U17,JoLy!U17,JiBu!U17,JTFo!U17,JuBl!U17,KaBy!U17,MiWa!U17,MiWi!U17,MiMc!U17,RoSa!U17,TiHa!U17,TrKi!U17)","v":0},{"$f":"SUM(ChSc!V17,BrBu!V17,DeSc!V17,PaEm!V17,ViSc!V17,BeCy!V17,BoSc!V17,BrTe!V17,CaLi!V17,ChRo!V17,CoRo!V17,CoNo!V17,DaHo!V17,DaLo!V17,DeNe!V17,HaMc!V17,JaFa!V17,JaGr!V17,JaHo!V17,JiZi!V17,JoCh!V17,JoLy!V17,JiBu!V17,JTFo!V17,JuBl!V17,KaBy!V17,MiWa!V17,MiWi!V17,MiMc!V17,RoSa!V17,TiHa!V17,TrKi!V17)","v":0},{"$f":"SUM(ChSc!W17,BrBu!W17,DeSc!W17,PaEm!W17,ViSc!W17,BeCy!W17,BoSc!W17,BrTe!W17,CaLi!W17,ChRo!W17,CoRo!W17,CoNo!W17,DaHo!W17,DaLo!W17,DeNe!W17,HaMc!W17,JaFa!W17,JaGr!W17,JaHo!W17,JiZi!W17,JoCh!W17,JoLy!W17,JiBu!W17,JTFo!W17,JuBl!W17,KaBy!W17,MiWa!W17,MiWi!W17,MiMc!W17,RoSa!W17,TiHa!W17,TrKi!W17)","v":28},{"$f":"SUM(ChSc!X17,BrBu!X17,DeSc!X17,PaEm!X17,ViSc!X17,BeCy!X17,BoSc!X17,BrTe!X17,CaLi!X17,ChRo!X17,CoRo!X17,CoNo!X17,DaHo!X17,DaLo!X17,DeNe!X17,HaMc!X17,JaFa!X17,JaGr!X17,JaHo!X17,JiZi!X17,JoCh!X17,JoLy!X17,JiBu!X17,JTFo!X17,JuBl!X17,KaBy!X17,MiWa!X17,MiWi!X17,MiMc!X17,RoSa!X17,TiHa!X17,TrKi!X17)","v":117},{"$f":"SUM(ChSc!Y17,BrBu!Y17,DeSc!Y17,PaEm!Y17,ViSc!Y17,BeCy!Y17,BoSc!Y17,BrTe!Y17,CaLi!Y17,ChRo!Y17,CoRo!Y17,CoNo!Y17,DaHo!Y17,DaLo!Y17,DeNe!Y17,HaMc!Y17,JaFa!Y17,JaGr!Y17,JaHo!Y17,JiZi!Y17,JoCh!Y17,JoLy!Y17,JiBu!Y17,JTFo!Y17,JuBl!Y17,KaBy!Y17,MiWa!Y17,MiWi!Y17,MiMc!Y17,RoSa!Y17,TiHa!Y17,TrKi!Y17)","v":92},{"$f":"SUM(ChSc!Z17,BrBu!Z17,DeSc!Z17,PaEm!Z17,ViSc!Z17,BeCy!Z17,BoSc!Z17,BrTe!Z17,CaLi!Z17,ChRo!Z17,CoRo!Z17,CoNo!Z17,DaHo!Z17,DaLo!Z17,DeNe!Z17,HaMc!Z17,JaFa!Z17,JaGr!Z17,JaHo!Z17,JiZi!Z17,JoCh!Z17,JoLy!Z17,JiBu!Z17,JTFo!Z17,JuBl!Z17,KaBy!Z17,MiWa!Z17,MiWi!Z17,MiMc!Z17,RoSa!Z17,TiHa!Z17,TrKi!Z17)","v":51},{"$f":"SUM(ChSc!AA17,BrBu!AA17,DeSc!AA17,PaEm!AA17,ViSc!AA17,BeCy!AA17,BoSc!AA17,BrTe!AA17,CaLi!AA17,ChRo!AA17,CoRo!AA17,CoNo!AA17,DaHo!AA17,DaLo!AA17,DeNe!AA17,HaMc!AA17,JaFa!AA17,JaGr!AA17,JaHo!AA17,JiZi!AA17,JoCh!AA17,JoLy!AA17,JiBu!AA17,JTFo!AA17,JuBl!AA17,KaBy!AA17,MiWa!AA17,MiWi!AA17,MiMc!AA17,RoSa!AA17,TiHa!AA17,TrKi!AA17)","v":7},{"$f":"SUM(ChSc!AB17,BrBu!AB17,DeSc!AB17,PaEm!AB17,ViSc!AB17,BeCy!AB17,BoSc!AB17,BrTe!AB17,CaLi!AB17,ChRo!AB17,CoRo!AB17,CoNo!AB17,DaHo!AB17,DaLo!AB17,DeNe!AB17,HaMc!AB17,JaFa!AB17,JaGr!AB17,JaHo!AB17,JiZi!AB17,JoCh!AB17,JoLy!AB17,JiBu!AB17,JTFo!AB17,JuBl!AB17,KaBy!AB17,MiWa!AB17,MiWi!AB17,MiMc!AB17,RoSa!AB17,TiHa!AB17,TrKi!AB17)","v":1373}]
[null,"Score",null,null,null,null,null,null,null,null,null,{"$f":"SUM(C18:K18)","v":0},0,null,null,null,null,null,null,"Total",{"$f":"SUM(ChSc!U18,BrBu!U18,DeSc!U18,PaEm!U18,ViSc!U18,BeCy!U18,BoSc!U18,BrTe!U18,CaLi!U18,ChRo!U18,CoRo!U18,CoNo!U18,DaHo!U18,DaLo!U18,DeNe!U18,HaMc!U18,JaFa!U18,JaGr!U18,JaHo!U18,JiZi!U18,JoCh!U18,JoLy!U18,JiBu!U18,JTFo!U18,JuBl!U18,KaBy!U18,MiWa!U18,MiWi!U18,MiMc!U18,RoSa!U18,TiHa!U18,TrKi!U18)","v":0},{"$f":"SUM(ChSc!V18,BrBu!V18,DeSc!V18,PaEm!V18,ViSc!V18,BeCy!V18,BoSc!V18,BrTe!V18,CaLi!V18,ChRo!V18,CoRo!V18,CoNo!V18,DaHo!V18,DaLo!V18,DeNe!V18,HaMc!V18,JaFa!V18,JaGr!V18,JaHo!V18,JiZi!V18,JoCh!V18,JoLy!V18,JiBu!V18,JTFo!V18,JuBl!V18,KaBy!V18,MiWa!V18,MiWi!V18,MiMc!V18,RoSa!V18,TiHa!V18,TrKi!V18)","v":0},{"$f":"SUM(ChSc!W18,BrBu!W18,DeSc!W18,PaEm!W18,ViSc!W18,BeCy!W18,BoSc!W18,BrTe!W18,CaLi!W18,ChRo!W18,CoRo!W18,CoNo!W18,DaHo!W18,DaLo!W18,DeNe!W18,HaMc!W18,JaFa!W18,JaGr!W18,JaHo!W18,JiZi!W18,JoCh!W18,JoLy!W18,JiBu!W18,JTFo!W18,JuBl!W18,KaBy!W18,MiWa!W18,MiWi!W18,MiMc!W18,RoSa!W18,TiHa!W18,TrKi!W18)","v":49},{"$f":"SUM(ChSc!X18,BrBu!X18,DeSc!X18,PaEm!X18,ViSc!X18,BeCy!X18,BoSc!X18,BrTe!X18,CaLi!X18,ChRo!X18,CoRo!X18,CoNo!X18,DaHo!X18,DaLo!X18,DeNe!X18,HaMc!X18,JaFa!X18,JaGr!X18,JaHo!X18,JiZi!X18,JoCh!X18,JoLy!X18,JiBu!X18,JTFo!X18,JuBl!X18,KaBy!X18,MiWa!X18,MiWi!X18,MiMc!X18,RoSa!X18,TiHa!X18,TrKi!X18)","v":233},{"$f":"SUM(ChSc!Y18,BrBu!Y18,DeSc!Y18,PaEm!Y18,ViSc!Y18,BeCy!Y18,BoSc!Y18,BrTe!Y18,CaLi!Y18,ChRo!Y18,CoRo!Y18,CoNo!Y18,DaHo!Y18,DaLo!Y18,DeNe!Y18,HaMc!Y18,JaFa!Y18,JaGr!Y18,JaHo!Y18,JiZi!Y18,JoCh!Y18,JoLy!Y18,JiBu!Y18,JTFo!Y18,JuBl!Y18,KaBy!Y18,MiWa!Y18,MiWi!Y18,MiMc!Y18,RoSa!Y18,TiHa!Y18,TrKi!Y18)","v":176},{"$f":"SUM(ChSc!Z18,BrBu!Z18,DeSc!Z18,PaEm!Z18,ViSc!Z18,BeCy!Z18,BoSc!Z18,BrTe!Z18,CaLi!Z18,ChRo!Z18,CoRo!Z18,CoNo!Z18,DaHo!Z18,DaLo!Z18,DeNe!Z18,HaMc!Z18,JaFa!Z18,JaGr!Z18,JaHo!Z18,JiZi!Z18,JoCh!Z18,JoLy!Z18,JiBu!Z18,JTFo!Z18,JuBl!Z18,KaBy!Z18,MiWa!Z18,MiWi!Z18,MiMc!Z18,RoSa!Z18,TiHa!Z18,TrKi!Z18)","v":118},{"$f":"SUM(ChSc!AA18,BrBu!AA18,DeSc!AA18,PaEm!AA18,ViSc!AA18,BeCy!AA18,BoSc!AA18,BrTe!AA18,CaLi!AA18,ChRo!AA18,CoRo!AA18,CoNo!AA18,DaHo!AA18,DaLo!AA18,DeNe!AA18,HaMc!AA18,JaFa!AA18,JaGr!AA18,JaHo!AA18,JiZi!AA18,JoCh!AA18,JoLy!AA18,JiBu!AA18,JTFo!AA18,JuBl!AA18,KaBy!AA18,MiWa!AA18,MiWi!AA18,MiMc!AA18,RoSa!AA18,TiHa!AA18,TrKi!AA18)","v":13},{"$f":"SUM(ChSc!AB18,BrBu!AB18,DeSc!AB18,PaEm!AB18,ViSc!AB18,BeCy!AB18,BoSc!AB18,BrTe!AB18,CaLi!AB18,ChRo!AB18,CoRo!AB18,CoNo!AB18,DaHo!AB18,DaLo!AB18,DeNe!AB18,HaMc!AB18,JaFa!AB18,JaGr!AB18,JaHo!AB18,JiZi!AB18,JoCh!AB18,JoLy!AB18,JiBu!AB18,JTFo!AB18,JuBl!AB18,KaBy!AB18,MiWa!AB18,MiWi!AB18,MiMc!AB18,RoSa!AB18,TiHa!AB18,TrKi!AB18)","v":2616}]
[]
[]
[null,null,null,null,null,"Hole",1,2,3,4,5,6,7,8,9,"Out","RENNY"]
[null,null,null,null,null,"Dist.",523,519,386,551,392,257,465,323,285,{"$f":"SUM(G22:O22)","v":3701}]
[null,null,null,null,null,"Par",4,4,4,4,4,3,4,3,3,{"$f":"SUM(G23:O23)","v":33}]
[null,null,null,null,null,"Score",null,null,null,null,null,null,null,null,null,0]
[null,null,null,null,null,"Hole",10,11,12,13,14,15,16,17,18,"In","Total",null,null,"RENNY","Ace","Eag","Bir","Par","Bog","Bg+","Sno","Score"]
[null,null,null,null,null,"Dist.",538,1042,617,974,564,378,302,517,826,{"$f":"SUM(G26:O26)","v":5758},{"$f":"P26+P22","v":9459},null,null,"Front",{"$f":"SUM(ChSc!U26,BrBu!U26,DeSc!U26,PaEm!U26,ViSc!U26,BeCy!U26,BoSc!U26,BrTe!U26,CaLi!U26,ChRo!U26,CoRo!U26,CoNo!U26,DaHo!U26,DaLo!U26,DeNe!U26,HaMc!U26,JaFa!U26,JaGr!U26,JaHo!U26,JiZi!U26,JoCh!U26,JoLy!U26,JiBu!U26,JTFo!U26,JuBl!U26,KaBy!U26,MiWa!U26,MiWi!U26,MiMc!U26,RoSa!U26,TiHa!U26,TrKi!U26)","v":0},{"$f":"SUM(ChSc!V26,BrBu!V26,DeSc!V26,PaEm!V26,ViSc!V26,BeCy!V26,BoSc!V26,BrTe!V26,CaLi!V26,ChRo!V26,CoRo!V26,CoNo!V26,DaHo!V26,DaLo!V26,DeNe!V26,HaMc!V26,JaFa!V26,JaGr!V26,JaHo!V26,JiZi!V26,JoCh!V26,JoLy!V26,JiBu!V26,JTFo!V26,JuBl!V26,KaBy!V26,MiWa!V26,MiWi!V26,MiMc!V26,RoSa!V26,TiHa!V26,TrKi!V26)","v":0},{"$f":"SUM(ChSc!W26,BrBu!W26,DeSc!W26,PaEm!W26,ViSc!W26,BeCy!W26,BoSc!W26,BrTe!W26,CaLi!W26,ChRo!W26,CoRo!W26,CoNo!W26,DaHo!W26,DaLo!W26,DeNe!W26,HaMc!W26,JaFa!W26,JaGr!W26,JaHo!W26,JiZi!W26,JoCh!W26,JoLy!W26,JiBu!W26,JTFo!W26,JuBl!W26,KaBy!W26,MiWa!W26,MiWi!W26,MiMc!W26,RoSa!W26,TiHa!W26,TrKi!W26)","v":28},{"$f":"SUM(ChSc!X26,BrBu!X26,DeSc!X26,PaEm!X26,ViSc!X26,BeCy!X26,BoSc!X26,BrTe!X26,CaLi!X26,ChRo!X26,CoRo!X26,CoNo!X26,DaHo!X26,DaLo!X26,DeNe!X26,HaMc!X26,JaFa!X26,JaGr!X26,JaHo!X26,JiZi!X26,JoCh!X26,JoLy!X26,JiBu!X26,JTFo!X26,JuBl!X26,KaBy!X26,MiWa!X26,MiWi!X26,MiMc!X26,RoSa!X26,TiHa!X26,TrKi!X26)","v":141},{"$f":"SUM(ChSc!Y26,BrBu!Y26,DeSc!Y26,PaEm!Y26,ViSc!Y26,BeCy!Y26,BoSc!Y26,BrTe!Y26,CaLi!Y26,ChRo!Y26,CoRo!Y26,CoNo!Y26,DaHo!Y26,DaLo!Y26,DeNe!Y26,HaMc!Y26,JaFa!Y26,JaGr!Y26,JaHo!Y26,JiZi!Y26,JoCh!Y26,JoLy!Y26,JiBu!Y26,JTFo!Y26,JuBl!Y26,KaBy!Y26,MiWa!Y26,MiWi!Y26,MiMc!Y26,RoSa!Y26,TiHa!Y26,TrKi!Y26)","v":81},{"$f":"SUM(ChSc!Z26,BrBu!Z26,DeSc!Z26,PaEm!Z26,ViSc!Z26,BeCy!Z26,BoSc!Z26,BrTe!Z26,CaLi!Z26,ChRo!Z26,CoRo!Z26,CoNo!Z26,DaHo!Z26,DaLo!Z26,DeNe!Z26,HaMc!Z26,JaFa!Z26,JaGr!Z26,JaHo!Z26,JiZi!Z26,JoCh!Z26,JoLy!Z26,JiBu!Z26,JTFo!Z26,JuBl!Z26,KaBy!Z26,MiWa!Z26,MiWi!Z26,MiMc!Z26,RoSa!Z26,TiHa!Z26,TrKi!Z26)","v":38},{"$f":"SUM(ChSc!AA26,BrBu!AA26,DeSc!AA26,PaEm!AA26,ViSc!AA26,BeCy!AA26,BoSc!AA26,BrTe!AA26,CaLi!AA26,ChRo!AA26,CoRo!AA26,CoNo!AA26,DaHo!AA26,DaLo!AA26,DeNe!AA26,HaMc!AA26,JaFa!AA26,JaGr!AA26,JaHo!AA26,JiZi!AA26,JoCh!AA26,JoLy!AA26,JiBu!AA26,JTFo!AA26,JuBl!AA26,KaBy!AA26,MiWa!AA26,MiWi!AA26,MiMc!AA26,RoSa!AA26,TiHa!AA26,TrKi!AA26)","v":4},{"$f":"SUM(ChSc!AB26,BrBu!AB26,DeSc!AB26,PaEm!AB26,ViSc!AB26,BeCy!AB26,BoSc!AB26,BrTe!AB26,CaLi!AB26,ChRo!AB26,CoRo!AB26,CoNo!AB26,DaHo!AB26,DaLo!AB26,DeNe!AB26,HaMc!AB26,JaFa!AB26,JaGr!AB26,JaHo!AB26,JiZi!AB26,JoCh!AB26,JoLy!AB26,JiBu!AB26,JTFo!AB26,JuBl!AB26,KaBy!AB26,MiWa!AB26,MiWi!AB26,MiMc!AB26,RoSa!AB26,TiHa!AB26,TrKi!AB26)","v":1201}]
[null,null,null,null,null,"Par",4,5,4,5,4,3,3,4,5,{"$f":"SUM(G27:O27)","v":37},{"$f":"P27+P23","v":70},null,null,"Back",{"$f":"SUM(ChSc!U27,BrBu!U27,DeSc!U27,PaEm!U27,ViSc!U27,BeCy!U27,BoSc!U27,BrTe!U27,CaLi!U27,ChRo!U27,CoRo!U27,CoNo!U27,DaHo!U27,DaLo!U27,DeNe!U27,HaMc!U27,JaFa!U27,JaGr!U27,JaHo!U27,JiZi!U27,JoCh!U27,JoLy!U27,JiBu!U27,JTFo!U27,JuBl!U27,KaBy!U27,MiWa!U27,MiWi!U27,MiMc!U27,RoSa!U27,TiHa!U27,TrKi!U27)","v":0},{"$f":"SUM(ChSc!V27,BrBu!V27,DeSc!V27,PaEm!V27,ViSc!V27,BeCy!V27,BoSc!V27,BrTe!V27,CaLi!V27,ChRo!V27,CoRo!V27,CoNo!V27,DaHo!V27,DaLo!V27,DeNe!V27,HaMc!V27,JaFa!V27,JaGr!V27,JaHo!V27,JiZi!V27,JoCh!V27,JoLy!V27,JiBu!V27,JTFo!V27,JuBl!V27,KaBy!V27,MiWa!V27,MiWi!V27,MiMc!V27,RoSa!V27,TiHa!V27,TrKi!V27)","v":1},{"$f":"SUM(ChSc!W27,BrBu!W27,DeSc!W27,PaEm!W27,ViSc!W27,BeCy!W27,BoSc!W27,BrTe!W27,CaLi!W27,ChRo!W27,CoRo!W27,CoNo!W27,DaHo!W27,DaLo!W27,DeNe!W27,HaMc!W27,JaFa!W27,JaGr!W27,JaHo!W27,JiZi!W27,JoCh!W27,JoLy!W27,JiBu!W27,JTFo!W27,JuBl!W27,KaBy!W27,MiWa!W27,MiWi!W27,MiMc!W27,RoSa!W27,TiHa!W27,TrKi!W27)","v":12},{"$f":"SUM(ChSc!X27,BrBu!X27,DeSc!X27,PaEm!X27,ViSc!X27,BeCy!X27,BoSc!X27,BrTe!X27,CaLi!X27,ChRo!X27,CoRo!X27,CoNo!X27,DaHo!X27,DaLo!X27,DeNe!X27,HaMc!X27,JaFa!X27,JaGr!X27,JaHo!X27,JiZi!X27,JoCh!X27,JoLy!X27,JiBu!X27,JTFo!X27,JuBl!X27,KaBy!X27,MiWa!X27,MiWi!X27,MiMc!X27,RoSa!X27,TiHa!X27,TrKi!X27)","v":96},{"$f":"SUM(ChSc!Y27,BrBu!Y27,DeSc!Y27,PaEm!Y27,ViSc!Y27,BeCy!Y27,BoSc!Y27,BrTe!Y27,CaLi!Y27,ChRo!Y27,CoRo!Y27,CoNo!Y27,DaHo!Y27,DaLo!Y27,DeNe!Y27,HaMc!Y27,JaFa!Y27,JaGr!Y27,JaHo!Y27,JiZi!Y27,JoCh!Y27,JoLy!Y27,JiBu!Y27,JTFo!Y27,JuBl!Y27,KaBy!Y27,MiWa!Y27,MiWi!Y27,MiMc!Y27,RoSa!Y27,TiHa!Y27,TrKi!Y27)","v":101},{"$f":"SUM(ChSc!Z27,BrBu!Z27,DeSc!Z27,PaEm!Z27,ViSc!Z27,BeCy!Z27,BoSc!Z27,BrTe!Z27,CaLi!Z27,ChRo!Z27,CoRo!Z27,CoNo!Z27,DaHo!Z27,DaLo!Z27,DeNe!Z27,HaMc!Z27,JaFa!Z27,JaGr!Z27,JaHo!Z27,JiZi!Z27,JoCh!Z27,JoLy!Z27,JiBu!Z27,JTFo!Z27,JuBl!Z27,KaBy!Z27,MiWa!Z27,MiWi!Z27,MiMc!Z27,RoSa!Z27,TiHa!Z27,TrKi!Z27)","v":78},{"$f":"SUM(ChSc!AA27,BrBu!AA27,DeSc!AA27,PaEm!AA27,ViSc!AA27,BeCy!AA27,BoSc!AA27,BrTe!AA27,CaLi!AA27,ChRo!AA27,CoRo!AA27,CoNo!AA27,DaHo!AA27,DaLo!AA27,DeNe!AA27,HaMc!AA27,JaFa!AA27,JaGr!AA27,JaHo!AA27,JiZi!AA27,JoCh!AA27,JoLy!AA27,JiBu!AA27,JTFo!AA27,JuBl!AA27,KaBy!AA27,MiWa!AA27,MiWi!AA27,MiMc!AA27,RoSa!AA27,TiHa!AA27,TrKi!AA27)","v":12},{"$f":"SUM(ChSc!AB27,BrBu!AB27,DeSc!AB27,PaEm!AB27,ViSc!AB27,BeCy!AB27,BoSc!AB27,BrTe!AB27,CaLi!AB27,ChRo!AB27,CoRo!AB27,CoNo!AB27,DaHo!AB27,DaLo!AB27,DeNe!AB27,HaMc!AB27,JaFa!AB27,JaGr!AB27,JaHo!AB27,JiZi!AB27,JoCh!AB27,JoLy!AB27,JiBu!AB27,JTFo!AB27,JuBl!AB27,KaBy!AB27,MiWa!AB27,MiWi!AB27,MiMc!AB27,RoSa!AB27,TiHa!AB27,TrKi!AB27)","v":1469}]
[null,null,null,null,null,"Score",null,null,null,null,null,null,null,null,null,{"$f":"SUM(G28:O28)","v":0},0,null,null,"Total",{"$f":"SUM(ChSc!U28,BrBu!U28,DeSc!U28,PaEm!U28,ViSc!U28,BeCy!U28,BoSc!U28,BrTe!U28,CaLi!U28,ChRo!U28,CoRo!U28,CoNo!U28,DaHo!U28,DaLo!U28,DeNe!U28,HaMc!U28,JaFa!U28,JaGr!U28,JaHo!U28,JiZi!U28,JoCh!U28,JoLy!U28,JiBu!U28,JTFo!U28,JuBl!U28,KaBy!U28,MiWa!U28,MiWi!U28,MiMc!U28,RoSa!U28,TiHa!U28,TrKi!U28)","v":0},{"$f":"SUM(ChSc!V28,BrBu!V28,DeSc!V28,PaEm!V28,ViSc!V28,BeCy!V28,BoSc!V28,BrTe!V28,CaLi!V28,ChRo!V28,CoRo!V28,CoNo!V28,DaHo!V28,DaLo!V28,DeNe!V28,HaMc!V28,JaFa!V28,JaGr!V28,JaHo!V28,JiZi!V28,JoCh!V28,JoLy!V28,JiBu!V28,JTFo!V28,JuBl!V28,KaBy!V28,MiWa!V28,MiWi!V28,MiMc!V28,RoSa!V28,TiHa!V28,TrKi!V28)","v":1},{"$f":"SUM(ChSc!W28,BrBu!W28,DeSc!W28,PaEm!W28,ViSc!W28,BeCy!W28,BoSc!W28,BrTe!W28,CaLi!W28,ChRo!W28,CoRo!W28,CoNo!W28,DaHo!W28,DaLo!W28,DeNe!W28,HaMc!W28,JaFa!W28,JaGr!W28,JaHo!W28,JiZi!W28,JoCh!W28,JoLy!W28,JiBu!W28,JTFo!W28,JuBl!W28,KaBy!W28,MiWa!W28,MiWi!W28,MiMc!W28,RoSa!W28,TiHa!W28,TrKi!W28)","v":40},{"$f":"SUM(ChSc!X28,BrBu!X28,DeSc!X28,PaEm!X28,ViSc!X28,BeCy!X28,BoSc!X28,BrTe!X28,CaLi!X28,ChRo!X28,CoRo!X28,CoNo!X28,DaHo!X28,DaLo!X28,DeNe!X28,HaMc!X28,JaFa!X28,JaGr!X28,JaHo!X28,JiZi!X28,JoCh!X28,JoLy!X28,JiBu!X28,JTFo!X28,JuBl!X28,KaBy!X28,MiWa!X28,MiWi!X28,MiMc!X28,RoSa!X28,TiHa!X28,TrKi!X28)","v":237},{"$f":"SUM(ChSc!Y28,BrBu!Y28,DeSc!Y28,PaEm!Y28,ViSc!Y28,BeCy!Y28,BoSc!Y28,BrTe!Y28,CaLi!Y28,ChRo!Y28,CoRo!Y28,CoNo!Y28,DaHo!Y28,DaLo!Y28,DeNe!Y28,HaMc!Y28,JaFa!Y28,JaGr!Y28,JaHo!Y28,JiZi!Y28,JoCh!Y28,JoLy!Y28,JiBu!Y28,JTFo!Y28,JuBl!Y28,KaBy!Y28,MiWa!Y28,MiWi!Y28,MiMc!Y28,RoSa!Y28,TiHa!Y28,TrKi!Y28)","v":182},{"$f":"SUM(ChSc!Z28,BrBu!Z28,DeSc!Z28,PaEm!Z28,ViSc!Z28,BeCy!Z28,BoSc!Z28,BrTe!Z28,CaLi!Z28,ChRo!Z28,CoRo!Z28,CoNo!Z28,DaHo!Z28,DaLo!Z28,DeNe!Z28,HaMc!Z28,JaFa!Z28,JaGr!Z28,JaHo!Z28,JiZi!Z28,JoCh!Z28,JoLy!Z28,JiBu!Z28,JTFo!Z28,JuBl!Z28,KaBy!Z28,MiWa!Z28,MiWi!Z28,MiMc!Z28,RoSa!Z28,TiHa!Z28,TrKi!Z28)","v":116},{"$f":"SUM(ChSc!AA28,BrBu!AA28,DeSc!AA28,PaEm!AA28,ViSc!AA28,BeCy!AA28,BoSc!AA28,BrTe!AA28,CaLi!AA28,ChRo!AA28,CoRo!AA28,CoNo!AA28,DaHo!AA28,DaLo!AA28,DeNe!AA28,HaMc!AA28,JaFa!AA28,JaGr!AA28,JaHo!AA28,JiZi!AA28,JoCh!AA28,JoLy!AA28,JiBu!AA28,JTFo!AA28,JuBl!AA28,KaBy!AA28,MiWa!AA28,MiWi!AA28,MiMc!AA28,RoSa!AA28,TiHa!AA28,TrKi!AA28)","v":16},{"$f":"SUM(ChSc!AB28,BrBu!AB28,DeSc!AB28,PaEm!AB28,ViSc!AB28,BeCy!AB28,BoSc!AB28,BrTe!AB28,CaLi!AB28,ChRo!AB28,CoRo!AB28,CoNo!AB28,DaHo!AB28,DaLo!AB28,DeNe!AB28,HaMc!AB28,JaFa!AB28,JaGr!AB28,JaHo!AB28,JiZi!AB28,JoCh!AB28,JoLy!AB28,JiBu!AB28,JTFo!AB28,JuBl!AB28,KaBy!AB28,MiWa!AB28,MiWi!AB28,MiMc!AB28,RoSa!AB28,TiHa!AB28,TrKi!AB28)","v":2670}]
[]
[null,"Nevin #2 - Play from short cement pad (not long pad behind creek).",null,null,null,null,null,null,null,null,null,null,"Player"]
[null,null,null,null,null,null,null,null,null,null,null,null,"Witness 1"]
[null,"Turn in your completed, signed score sheet before 9pm",null,null,null,null,null,null,null,null,null,null,"Witness 2"]
[null,"at Divine Barrel Brewery (3701 N. Davidson St).",null,null,null,null,null,null,null,null,null,null,"Witness 3",null,null,null,null,null,null,"FINAL","Ace","Eag","Bir","Par","Bog","Bg+","Sno","Score"]
[null,null,null,null,null,null,null,null,null,null,null,null,null,null,null,null,null,null,null,"TOTAL",{"$f":"SUM(ChSc!U34,BrBu!U34,DeSc!U34,PaEm!U34,ViSc!U34,BeCy!U34,BoSc!U34,BrTe!U34,CaLi!U34,ChRo!U34,CoRo!U34,CoNo!U34,DaHo!U34,DaLo!U34,DeNe!U34,HaMc!U34,JaFa!U34,JaGr!U34,JaHo!U34,JiZi!U34,JoCh!U34,JoLy!U34,JiBu!U34,JTFo!U34,JuBl!U34,KaBy!U34,MiWa!U34,MiWi!U34,MiMc!U34,RoSa!U34,TiHa!U34,TrKi!U34)","v":0},{"$f":"SUM(ChSc!V34,BrBu!V34,DeSc!V34,PaEm!V34,ViSc!V34,BeCy!V34,BoSc!V34,BrTe!V34,CaLi!V34,ChRo!V34,CoRo!V34,CoNo!V34,DaHo!V34,DaLo!V34,DeNe!V34,HaMc!V34,JaFa!V34,JaGr!V34,JaHo!V34,JiZi!V34,JoCh!V34,JoLy!V34,JiBu!V34,JTFo!V34,JuBl!V34,KaBy!V34,MiWa!V34,MiWi!V34,MiMc!V34,RoSa!V34,TiHa!V34,TrKi!V34)","v":1},{"$f":"SUM(ChSc!W34,BrBu!W34,DeSc!W34,PaEm!W34,ViSc!W34,BeCy!W34,BoSc!W34,BrTe!W34,CaLi!W34,ChRo!W34,CoRo!W34,CoNo!W34,DaHo!W34,DaLo!W34,DeNe!W34,HaMc!W34,JaFa!W34,JaGr!W34,JaHo!W34,JiZi!W34,JoCh!W34,JoLy!W34,JiBu!W34,JTFo!W34,JuBl!W34,KaBy!W34,MiWa!W34,MiWi!W34,MiMc!W34,RoSa!W34,TiHa!W34,TrKi!W34)","v":154},{"$f":"SUM(ChSc!X34,BrBu!X34,DeSc!X34,PaEm!X34,ViSc!X34,BeCy!X34,BoSc!X34,BrTe!X34,CaLi!X34,ChRo!X34,CoRo!X34,CoNo!X34,DaHo!X34,DaLo!X34,DeNe!X34,HaMc!X34,JaFa!X34,JaGr!X34,JaHo!X34,JiZi!X34,JoCh!X34,JoLy!X34,JiBu!X34,JTFo!X34,JuBl!X34,KaBy!X34,MiWa!X34,MiWi!X34,MiMc!X34,RoSa!X34,TiHa!X34,TrKi!X34)","v":703},{"$f":"SUM(ChSc!Y34,BrBu!Y34,DeSc!Y34,PaEm!Y34,ViSc!Y34,BeCy!Y34,BoSc!Y34,BrTe!Y34,CaLi!Y34,ChRo!Y34,CoRo!Y34,CoNo!Y34,DaHo!Y34,DaLo!Y34,DeNe!Y34,HaMc!Y34,JaFa!Y34,JaGr!Y34,JaHo!Y34,JiZi!Y34,JoCh!Y34,JoLy!Y34,JiBu!Y34,JTFo!Y34,JuBl!Y34,KaBy!Y34,MiWa!Y34,MiWi!Y34,MiMc!Y34,RoSa!Y34,TiHa!Y34,TrKi!Y34)","v":520},{"$f":"SUM(ChSc!Z34,BrBu!Z34,DeSc!Z34,PaEm!Z34,ViSc!Z34,BeCy!Z34,BoSc!Z34,BrTe!Z34,CaLi!Z34,ChRo!Z34,CoRo!Z34,CoNo!Z34,DaHo!Z34,DaLo!Z34,DeNe!Z34,HaMc!Z34,JaFa!Z34,JaGr!Z34,JaHo!Z34,JiZi!Z34,JoCh!Z34,JoLy!Z34,JiBu!Z34,JTFo!Z34,JuBl!Z34,KaBy!Z34,MiWa!Z34,MiWi!Z34,MiMc!Z34,RoSa!Z34,TiHa!Z34,TrKi!Z34)","v":350},{"$f":"SUM(ChSc!AA34,BrBu!AA34,DeSc!AA34,PaEm!AA34,ViSc!AA34,BeCy!AA34,BoSc!AA34,BrTe!AA34,CaLi!AA34,ChRo!AA34,CoRo!AA34,CoNo!AA34,DaHo!AA34,DaLo!AA34,DeNe!AA34,HaMc!AA34,JaFa!AA34,JaGr!AA34,JaHo!AA34,JiZi!AA34,JoCh!AA34,JoLy!AA34,JiBu!AA34,JTFo!AA34,JuBl!AA34,KaBy!AA34,MiWa!AA34,MiWi!AA34,MiMc!AA34,RoSa!AA34,TiHa!AA34,TrKi!AA34)","v":35},{"$f":"SUM(ChSc!AB34,BrBu!AB34,DeSc!AB34,PaEm!AB34,ViSc!AB34,BeCy!AB34,BoSc!AB34,BrTe!AB34,CaLi!AB34,ChRo!AB34,CoRo!AB34,CoNo!AB34,DaHo!AB34,DaLo!AB34,DeNe!AB34,HaMc!AB34,JaFa!AB34,JaGr!AB34,JaHo!AB34,JiZi!AB34,JoCh!AB34,JoLy!AB34,JiBu!AB34,JTFo!AB34,JuBl!AB34,KaBy!AB34,MiWa!AB34,MiWi!AB34,MiMc!AB34,RoSa!AB34,TiHa!AB34,TrKi!AB34)","v":7801}]

{"sheet":"Template","index":2,"n_rows":34,"n_cols":28,"rows_kept":34,"cut":false,"hidden":false,"merged":[[1,26,1,27],[1,20,1,24],[0,0,33,0],[0,17,33,17],[29,1,29,10],[30,1,30,10],[31,1,31,10],[32,1,32,10],[30,12,30,13],[31,12,31,13],[29,12,29,13],[32,12,32,13],[10,12,13,12],[20,16,23,16],[0,16,3,16]]}
["2019 Charlotte Iron Man",null,null,null,null,"Hole",1,2,3,4,5,6,7,8,9,"Out","ANGRY"]
[null,null,null,null,null,"Dist.",235,158,222,439,801,491,282,567,268,{"$f":"SUM(G2:O2)","v":3463},null,null,null,"Name","Template Example",null,null,null,null,"Div","Iron Men"]
[null,null,null,null,null,"Par",3,3,3,4,5,4,3,4,3,{"$f":"SUM(G3:O3)","v":32}]
[null,null,null,null,null,"Score",null,null,null,null,null,null,null,null,null,0]
[null,null,null,null,null,"Hole",10,11,12,13,14,15,16,17,18,"In","Total",null,null,"ANGRY","Ace","Eag","Bir","Par","Bog","Bg+","Sno","Score"]
[null,null,null,null,null,"Dist.",563,465,215,409,333,702,431,282,814,{"$f":"SUM(G6:O6)","v":4214},{"$f":"P6+P2","v":7677},null,null,"Front",{"$f":"COUNTIF(G4:O4,\"1\")","v":0},{"$f":"COUNTConditionColorCells($G$4:$O$4,V5)","v":9},{"$f":"COUNTConditionColorCells($G$4:$O$4,W5)","v":0},0,0,0,{"$f":"COUNTIF(G4:O4,\"8\")","v":0},{"$f":"P4","v":0}]
[null,null,null,null,null,"Par",4,4,3,4,3,5,4,3,5,{"$f":"SUM(G7:O7)","v":35},{"$f":"P7+P3","v":67},null,null,"Back",{"$f":"COUNTIF(G8:O8,\"1\")","v":0},{"$f":"COUNTConditionColorCells($G$8:$O$8,V5)","v":9},{"$f":"COUNTConditionColorCells($G$8:$O$8,W5)","v":0},{"$f":"COUNTConditionColorCells($G$8:$O$8,X5)","v":0},{"$f":"COUNTConditionColorCells($G$8:$O$8,Y5)","v":0},0,{"$f":"COUNTIF(G8:O8,\"8\")","v":0},{"$f":"P8","v":0}]
[null,null,null,null,null,"Score",null,null,null,null,null,null,null,null,null,{"$f":"SUM(G8:O8)","v":0},0,null,null,"Total",{"$f":"U6+U7","v":0},{"$f":"V6+V7","v":18},0,0,0,0,0,{"$f":"Q8","v":0}]
[]
[]
[null,"Hole",1,2,3,4,5,6,7,8,9,"Out","NEVIN"]
[null,"Dist.",491,240,375,538,656,317,202,329,593,{"$f":"SUM(C12:K12)","v":3741}]
[null,"Par",4,3,3,4,5,3,3,3,4,{"$f":"SUM(C13:K13)","v":32}]
[null,"Score",null,null,null,null,null,null,null,null,null,0]
[null,"Hole",10,11,12,13,14,15,16,17,18,"In","Total",null,null,null,null,null,null,"NEVIN","Ace","Eag","Bir","Par","Bog","Bg+","Sno","Score"]
[null,"Dist.",630,640,970,274,550,252,596,581,530,{"$f":"SUM(C16:K16)","v":5023},{"$f":"L16+L12","v":8764},null,null,null,null,null,null,"Front",{"$f":"COUNTIF(C14:K14,\"1\")","v":0},{"$f":"COUNTConditionColorCells($C$14:$K$14,V15)","v":9},{"$f":"COUNTConditionColorCells($C$14:$K$14,W15)","v":0},0,0,0,{"$f":"COUNTIF(C14:K14,\"8\")","v":0},{"$f":"L14","v":0}]
[null,"Par",5,4,5,3,4,3,4,5,4,{"$f":"SUM(C17:K17)","v":37},{"$f":"L17+L13","v":69},null,null,null,null,null,null,"Back",{"$f":"COUNTIF(C18:K18,\"1\")","v":0},{"$f":"COUNTConditionColorCells($C$18:$K$18,V15)","v":9},{"$f":"COUNTConditionColorCells($C$18:$K$18,W15)","v":0},0,0,0,{"$f":"COUNTIF(C18:K18,\"8\")","v":0},{"$f":"L18","v":0}]
[null,"Score",null,null,null,null,null,null,null,null,null,{"$f":"SUM(C18:K18)","v":0},0,null,null,null,null,null,null,"Total",{"$f":"U16+U17","v":0},{"$f":"V16+V17","v":18},0,0,0,0,{"$f":"AA16+AA17","v":0},{"$f":"M18","v":0}]
[]
[]
[null,null,null,null,null,"Hole",1,2,3,4,5,6,7,8,9,"Out","RENNY"]
[null,null,null,null,null,"Dist.",523,519,386,551,392,257,465,323,285,{"$f":"SUM(G22:O22)","v":3701}]
[null,null,null,null,null,"Par",4,4,4,4,4,3,4,3,3,{"$f":"SUM(G23:O23)","v":33}]
[null,null,null,null,null,"Score",null,null,null,null,null,null,null,null,null,0]
[null,null,null,null,null,"Hole",10,11,12,13,14,15,16,17,18,"In","Total",null,null,"RENNY","Ace","Eag","Bir","Par","Bog","Bg+","Sno","Score"]
[null,null,null,null,null,"Dist.",538,1042,617,974,564,378,302,517,826,{"$f":"SUM(G26:O26)","v":5758},{"$f":"P26+P22","v":9459},null,null,"Front",{"$f":"COUNTIF(G24:O24,\"1\")","v":0},{"$f":"COUNTConditionColorCells($G$24:$O$24,V25)","v":9},{"$f":"COUNTConditionColorCells($G$24:$O$24,W25)","v":0},0,0,0,{"$f":"COUNTIF(G24:O24,\"8\")","v":0},{"$f":"P24","v":0}]
[null,null,null,null,null,"Par",4,5,4,5,4,3,3,4,5,{"$f":"SUM(G27:O27)","v":37},{"$f":"P27+P23","v":70},null,null,"Back",{"$f":"COUNTIF(G28:O28,\"1\")","v":0},{"$f":"COUNTConditionColorCells($G$28:$O$28,V25)","v":9},{"$f":"COUNTConditionColorCells($G$28:$O$28,W25)","v":0},0,0,0,{"$f":"COUNTIF(G28:O28,\"8\")","v":0},{"$f":"P28","v":0}]
[null,null,null,null,null,"Score",null,null,null,null,null,null,null,null,null,{"$f":"SUM(G28:O28)","v":0},0,null,null,"Total",{"$f":"U26+U27","v":0},{"$f":"V26+V27","v":18},0,0,0,0,0,{"$f":"Q28","v":0}]
[]
[null,"Nevin #2 - Play from short cement pad (not long pad behind creek).",null,null,null,null,null,null,null,null,null,null,"Player"]
[null,null,null,null,null,null,null,null,null,null,null,null,"Witness 1"]
[null,"Turn in your completed, signed score sheet before 9pm",null,null,null,null,null,null,null,null,null,null,"Witness 2"]
[null,"at Divine Barrel Brewery (3701 N. Davidson St).",null,null,null,null,null,null,null,null,null,null,"Witness 3",null,null,null,null,null,null,"FINAL","Ace","Eag","Bir","Par","Bog","Bg+","Sno","Score"]
[null,null,null,null,null,null,null,null,null,null,null,null,null,null,null,null,null,null,null,"TOTAL",{"$f":"SUM(U28,U18,U8)","v":0},{"$f":"SUM(V28,V18,V8)","v":54},0,0,0,0,0,0]

{"sheet":"Players","index":3,"n_rows":79,"n_cols":11,"rows_kept":79,"cut":false,"hidden":false,"merged":[]}
["Iron Men",null,"(28 Registered)"]
[]
["Name","PDGA #","City","State","Country","ScoreSheet","Checkname","Survey","Sign Poster","Rec'd Pin","> 40 ? "]
["Benjamin Cybul",56757,"Charlotte","AL","USA"]
["Bob Scott",68996,"Charlotte","NC","USA"]
["Brandon Terry",null,"Rock Hill","SC","USA"]
["Cameron Linger",null,"Charlotte","SC","USA"]
["Christopher Rowe",79142,"Johnson City","TN","USA"]
["Cody Robinson",100259,"Taylorsville","NC","USA"]
["Corey Nortz",null,"Mooresville","NC","USA"]
["Dakota Hopkins",82258,"Bristol","TN","USA"]
["David Love",71737,"Kingsport","TN","USA"]
["Devon Neely",null,"Concord","NC","USA"]
["Hannable McGarity",90754,"Lillington","NC","USA"]
["James Farmer",30904,"Winston Salem","NC","USA"]
["James Graves",49184,"Leland","NC","USA"]
["James Hopkins",50270,"Greensboro","NC","USA"]
["Jim Buckalew",94060,"Newton","NC","USA"]
["Jimmy Ziros",117793,"Charlotte","NC","USA"]
["Jonathan Charping",51153,"Gastonia","NC","USA"]
["Jordan Lyndaker",null,"Charlotte","NC","USA"]
["JT Ford",null,"Concord","NC","USA"]
["Justin Black",90302,"Statesville","NC","USA"]
["Kael Byrd",116384,"N. Wilkesboro","NC","USA"]
["Michael Walseman",108324,"Charlotte","NC","USA"]
["Michael Williams",null,null,"NC","USA"]
["Mitchell McGarity",99534,"Lillington","NC","USA"]
["Robert Sadowski",68521,"Granite Falls","NC","USA"]
["Stuart Salmon",68964,"Rock Hill","SC","USA"]
["Tim Hatley",null,"Pineville","NC","USA"]
["Trey King",null,"Charlotte","NC","USA"]
[]
[]
[]
[]
[]
[]
[]
[]
[]
["Iron Maidens",null,"(4 Players)"]
[]
["Name","PDGA #","City","State","Country","ScoreSheet","Checkname","Survey","Sign Poster","Rec'd Pin","Sign Disc"]
["Brandi Buckalew",95739,"Catawba","NC","USA"]
["Debbie Scott",43896,"Charlotte","NC","USA"]
["Paetyn Emmert",95550,"Johnson City","TN","USA"]
["Victoria Scott",45761,"Charlotte","NC","USA"]
[]
[]
[]
[]
[]
[]
["Metal Minors: ",null,"(1 Player)"]
[]
["Name","PDGA #","City","State","Country","ScoreSheet","Checkname","Survey","Sign Poster","Rec'd Pin"]
["Christian Scott",45982,"Charlotte","NC","USA"]
[]
[]
[]
[]
[]
[]
["Extra:"]
[]
["Name","PDGA #","City","State","Country","ScoreSheet","Checkname","Survey","Sign Poster","Rec'd Pin","> 40 ? "]
[null,null,null,null,"USA"]
[null,null,null,null,"USA"]
[null,null,null,null,"USA"]
[null,null,null,null,"USA"]
[null,null,null,null,"USA"]
[null,null,null,null,"USA"]
[null,null,null,null,"USA"]
[null,null,null,null,"USA"]
[null,null,null,null,"USA"]
[null,null,null,null,"USA"]
[null,null,null,null,"USA"]
[null,null,null,null,"USA"]
[null,null,null,null,"USA"]

{"sheet":"ChSc","index":4,"n_rows":34,"n_cols":28,"rows_kept":34,"cut":false,"hidden":false,"merged":[[0,0,33,0],[0,16,3,16],[0,17,33,17],[1,20,1,24],[1,26,1,27],[10,12,13,12],[20,16,23,16],[29,1,29,10],[29,12,29,13],[30,1,30,10],[30,12,30,13],[31,1,31,10],[31,12,31,13],[32,1,32,10],[32,12,32,13]]}
["2019 Charlotte Iron Man",null,null,null,null,"Hole",1,2,3,4,5,6,7,8,9,"Out","ANGRY"]
[null,null,null,null,null,"Dist.",235,158,222,439,801,491,282,567,268,{"$f":"SUM(G2:O2)","v":3463},null,null,null,"Name","Christian Scott",null,null,null,null,"Div","M Minors"]
[null,null,null,null,null,"Par",3,3,3,4,5,4,3,4,3,{"$f":"SUM(G3:O3)","v":32}]
[null,null,null,null,null,"Score",3,3,4,4,6,5,5,5,3,38]
[null,null,null,null,null,"Hole",10,11,12,13,14,15,16,17,18,"In","Total",null,null,"ANGRY","Ace","Eag","Bir","Par","Bog","Bg+","Sno","Score"]
[null,null,null,null,null,"Dist.",563,465,215,409,333,702,431,282,814,{"$f":"SUM(G6:O6)","v":4214},{"$f":"P6+P2","v":7677},null,null,"Front",{"$f":"COUNTIF(G4:O4,\"1\")","v":0},{"$f":"COUNTConditionColorCells($G$4:$O$4,V5)","v":0},{"$f":"COUNTConditionColorCells($G$4:$O$4,W5)","v":0},4,4,1,{"$f":"COUNTIF(G4:O4,\"8\")","v":0},{"$f":"P4","v":38}]
[null,null,null,null,null,"Par",4,4,3,4,3,5,4,3,5,{"$f":"SUM(G7:O7)","v":35},{"$f":"P7+P3","v":67},null,null,"Back",{"$f":"COUNTIF(G8:O8,\"1\")","v":0},{"$f":"COUNTConditionColorCells($G$8:$O$8,V5)","v":0},{"$f":"COUNTConditionColorCells($G$8:$O$8,W5)","v":1},{"$f":"COUNTConditionColorCells($G$8:$O$8,X5)","v":1},{"$f":"COUNTConditionColorCells($G$8:$O$8,Y5)","v":5},2,{"$f":"COUNTIF(G8:O8,\"8\")","v":0},{"$f":"P8","v":43}]
[null,null,null,null,null,"Score",6,5,4,6,4,5,3,4,6,{"$f":"SUM(G8:O8)","v":43},81,null,null,"Total",{"$f":"U6+U7","v":0},{"$f":"V6+V7","v":0},1,5,9,3,0,{"$f":"Q8","v":81}]
[]
[]
[null,"Hole",1,2,3,4,5,6,7,8,9,"Out","NEVIN"]
[null,"Dist.",491,240,375,538,656,317,202,329,593,{"$f":"SUM(C12:K12)","v":3741}]
[null,"Par",4,3,3,4,5,3,3,3,4,{"$f":"SUM(C13:K13)","v":32}]
[null,"Score",5,3,2,4,7,4,2,4,6,37]
[null,"Hole",10,11,12,13,14,15,16,17,18,"In","Total",null,null,null,null,null,null,"NEVIN","Ace","Eag","Bir","Par","Bog","Bg+","Sno","Score"]
[null,"Dist.",630,640,970,274,550,252,596,581,530,{"$f":"SUM(C16:K16)","v":5023},{"$f":"L16+L12","v":8764},null,null,null,null,null,null,"Front",{"$f":"COUNTIF(C14:K14,\"1\")","v":0},{"$f":"COUNTConditionColorCells($C$14:$K$14,V15)","v":0},{"$f":"COUNTConditionColorCells($C$14:$K$14,W15)","v":2},2,3,2,{"$f":"COUNTIF(C14:K14,\"8\")","v":0},{"$f":"L14","v":37}]
[null,"Par",5,4,5,3,4,3,4,5,4,{"$f":"SUM(C17:K17)","v":37},{"$f":"L17+L13","v":69},null,null,null,null,null,null,"Back",{"$f":"COUNTIF(C18:K18,\"1\")","v":0},{"$f":"COUNTConditionColorCells($C$18:$K$18,V15)","v":0},{"$f":"COUNTConditionColorCells($C$18:$K$18,W15)","v":1},2,4,2,{"$f":"COUNTIF(C18:K18,\"8\")","v":0},{"$f":"L18","v":44}]
[null,"Score",6,6,7,2,5,4,4,6,4,{"$f":"SUM(C18:K18)","v":44},81,null,null,null,null,null,null,"Total",{"$f":"U16+U17","v":0},{"$f":"V16+V17","v":0},3,4,7,4,{"$f":"AA16+AA17","v":0},{"$f":"M18","v":81}]
[]
[]
[null,null,null,null,null,"Hole",1,2,3,4,5,6,7,8,9,"Out","RENNY"]
[null,null,null,null,null,"Dist.",523,519,386,551,392,257,465,323,285,{"$f":"SUM(G22:O22)","v":3701}]
[null,null,null,null,null,"Par",4,4,4,4,4,3,4,3,3,{"$f":"SUM(G23:O23)","v":33}]
[null,null,null,null,null,"Score",4,4,5,6,4,5,8,4,3,43]
[null,null,null,null,null,"Hole",10,11,12,13,14,15,16,17,18,"In","Total",null,null,"RENNY","Ace","Eag","Bir","Par","Bog","Bg+","Sno","Score"]
[null,null,null,null,null,"Dist.",538,1042,617,974,564,378,302,517,826,{"$f":"SUM(G26:O26)","v":5758},{"$f":"P26+P22","v":9459},null,null,"Front",{"$f":"COUNTIF(G24:O24,\"1\")","v":0},{"$f":"COUNTConditionColorCells($G$24:$O$24,V25)","v":0},{"$f":"COUNTConditionColorCells($G$24:$O$24,W25)","v":0},4,2,3,{"$f":"COUNTIF(G24:O24,\"8\")","v":1},{"$f":"P24","v":43}]
[null,null,null,null,null,"Par",4,5,4,5,4,3,3,4,5,{"$f":"SUM(G27:O27)","v":37},{"$f":"P27+P23","v":70},null,null,"Back",{"$f":"COUNTIF(G28:O28,\"1\")","v":0},{"$f":"COUNTConditionColorCells($G$28:$O$28,V25)","v":0},{"$f":"COUNTConditionColorCells($G$28:$O$28,W25)","v":0},5,3,1,{"$f":"COUNTIF(G28:O28,\"8\")","v":0},{"$f":"P28","v":45}]
[null,null,null,null,null,"Score",5,6,4,10,4,3,3,5,5,{"$f":"SUM(G28:O28)","v":45},88,null,null,"Total",{"$f":"U26+U27","v":0},{"$f":"V26+V27","v":0},0,9,5,4,1,{"$f":"Q28","v":88}]
[]
[null,"Nevin #2 - Play from short cement pad (not long pad behind creek).",null,null,null,null,null,null,null,null,null,null,"Player"]
[null,null,null,null,null,null,null,null,null,null,null,null,"Witness 1"]
[null,"Turn in your completed, signed score sheet before 9pm",null,null,null,null,null,null,null,null,null,null,"Witness 2"]
[null,"at Divine Barrel Brewery (3701 N. Davidson St).",null,null,null,null,null,null,null,null,null,null,"Witness 3",null,null,null,null,null,null,"FINAL","Ace","Eag","Bir","Par","Bog","Bg+","Sno","Score"]
[null,null,null,null,null,null,null,null,null,null,null,null,null,null,null,null,null,null,null,"TOTAL",{"$f":"SUM(U28,U18,U8)","v":0},{"$f":"SUM(V28,V18,V8)","v":0},4,18,21,11,1,250]

{"sheet":"BrBu","index":5,"n_rows":34,"n_cols":28,"rows_kept":34,"cut":false,"hidden":false,"merged":[[0,0,33,0],[0,16,3,16],[0,17,33,17],[1,20,1,24],[1,26,1,27],[10,12,13,12],[20,16,23,16],[29,1,29,10],[29,12,29,13],[30,1,30,10],[30,12,30,13],[31,1,31,10],[31,12,31,13],[32,1,32,10],[32,12,32,13]]}
["2019 Charlotte Iron Man",null,null,null,null,"Hole",1,2,3,4,5,6,7,8,9,"Out","ANGRY"]
[null,null,null,null,null,"Dist.",235,158,222,439,801,491,282,567,268,{"$f":"SUM(G2:O2)","v":3463},null,null,null,"Name","Brandi Buckalew",null,null,null,null,"Div","Maidens"]
[null,null,null,null,null,"Par",3,3,3,4,5,4,3,4,3,{"$f":"SUM(G3:O3)","v":32}]
[null,null,null,null,null,"Score",3,3,4,6,5,5,3,5,4,38]
[null,null,null,null,null,"Hole",10,11,12,13,14,15,16,17,18,"In","Total",null,null,"ANGRY","Ace","Eag","Bir","Par","Bog","Bg+","Sno","Score"]
[null,null,null,null,null,"Dist.",563,465,215,409,333,702,431,282,814,{"$f":"SUM(G6:O6)","v":4214},{"$f":"P6+P2","v":7677},null,null,"Front",{"$f":"COUNTIF(G4:O4,\"1\")","v":0},{"$f":"COUNTConditionColorCells($G$4:$O$4,V5)","v":0},{"$f":"COUNTConditionColorCells($G$4:$O$4,W5)","v":0},4,4,1,{"$f":"COUNTIF(G4:O4,\"8\")","v":0},{"$f":"P4","v":38}]
[null,null,null,null,null,"Par",4,4,3,4,3,5,4,3,5,{"$f":"SUM(G7:O7)","v":35},{"$f":"P7+P3","v":67},null,null,"Back",{"$f":"COUNTIF(G8:O8,\"1\")","v":0},{"$f":"COUNTConditionColorCells($G$8:$O$8,V5)","v":0},{"$f":"COUNTConditionColorCells($G$8:$O$8,W5)","v":0},{"$f":"COUNTConditionColorCells($G$8:$O$8,X5)","v":4},{"$f":"COUNTConditionColorCells($G$8:$O$8,Y5)","v":2},3,{"$f":"COUNTIF(G8:O8,\"8\")","v":0},{"$f":"P8","v":43}]
[null,null,null,null,null,"Score",5,4,5,4,3,7,4,5,6,{"$f":"SUM(G8:O8)","v":43},81,null,null,"Total",{"$f":"U6+U7","v":0},{"$f":"V6+V7","v":0},0,8,6,4,0,{"$f":"Q8","v":81}]
[]
[]
[null,"Hole",1,2,3,4,5,6,7,8,9,"Out","NEVIN"]
[null,"Dist.",491,240,375,538,656,317,202,329,593,{"$f":"SUM(C12:K12)","v":3741}]
[null,"Par",4,3,3,4,5,3,3,3,4,{"$f":"SUM(C13:K13)","v":32}]
[null,"Score",4,3,5,5,6,3,3,3,4,36]
[null,"Hole",10,11,12,13,14,15,16,17,18,"In","Total",null,null,null,null,null,null,"NEVIN","Ace","Eag","Bir","Par","Bog","Bg+","Sno","Score"]
[null,"Dist.",630,640,970,274,550,252,596,581,530,{"$f":"SUM(C16:K16)","v":5023},{"$f":"L16+L12","v":8764},null,null,null,null,null,null,"Front",{"$f":"COUNTIF(C14:K14,\"1\")","v":0},{"$f":"COUNTConditionColorCells($C$14:$K$14,V15)","v":0},{"$f":"COUNTConditionColorCells($C$14:$K$14,W15)","v":0},6,2,1,{"$f":"COUNTIF(C14:K14,\"8\")","v":0},{"$f":"L14","v":36}]
[null,"Par",5,4,5,3,4,3,4,5,4,{"$f":"SUM(C17:K17)","v":37},{"$f":"L17+L13","v":69},null,null,null,null,null,null,"Back",{"$f":"COUNTIF(C18:K18,\"1\")","v":0},{"$f":"COUNTConditionColorCells($C$18:$K$18,V15)","v":0},{"$f":"COUNTConditionColorCells($C$18:$K$18,W15)","v":0},6,1,2,{"$f":"COUNTIF(C18:K18,\"8\")","v":0},{"$f":"L18","v":42}]
[null,"Score",5,6,7,3,4,3,5,5,4,{"$f":"SUM(C18:K18)","v":42},78,null,null,null,null,null,null,"Total",{"$f":"U16+U17","v":0},{"$f":"V16+V17","v":0},0,12,3,3,{"$f":"AA16+AA17","v":0},{"$f":"M18","v":78}]
[]
[]
[null,null,null,null,null,"Hole",1,2,3,4,5,6,7,8,9,"Out","RENNY"]
[null,null,null,null,null,"Dist.",523,519,386,551,392,257,465,323,285,{"$f":"SUM(G22:O22)","v":3701}]
[null,null,null,null,null,"Par",4,4,4,4,4,3,4,3,3,{"$f":"SUM(G23:O23)","v":33}]
[null,null,null,null,null,"Score",5,5,5,6,4,4,5,4,4,42]
[null,null,null,null,null,"Hole",10,11,12,13,14,15,16,17,18,"In","Total",null,null,"RENNY","Ace","Eag","Bir","Par","Bog","Bg+","Sno","Score"]
[null,null,null,null,null,"Dist.",538,1042,617,974,564,378,302,517,826,{"$f":"SUM(G26:O26)","v":5758},{"$f":"P26+P22","v":9459},null,null,"Front",{"$f":"COUNTIF(G24:O24,\"1\")","v":0},{"$f":"COUNTConditionColorCells($G$24:$O$24,V25)","v":0},{"$f":"COUNTConditionColorCells($G$24:$O$24,W25)","v":0},1,7,1,{"$f":"COUNTIF(G24:O24,\"8\")","v":0},{"$f":"P24","v":42}]
[null,null,null,null,null,"Par",4,5,4,5,4,3,3,4,5,{"$f":"SUM(G27:O27)","v":37},{"$f":"P27+P23","v":70},null,null,"Back",{"$f":"COUNTIF(G28:O28,\"1\")","v":0},{"$f":"COUNTConditionColorCells($G$28:$O$28,V25)","v":0},{"$f":"COUNTConditionColorCells($G$28:$O$28,W25)","v":0},0,8,1,{"$f":"COUNTIF(G28:O28,\"8\")","v":0},{"$f":"P28","v":47}]
[null,null,null,null,null,"Score",5,6,5,6,5,4,4,5,7,{"$f":"SUM(G28:O28)","v":47},89,null,null,"Total",{"$f":"U26+U27","v":0},{"$f":"V26+V27","v":0},0,1,15,2,0,{"$f":"Q28","v":89}]
[]
[null,"Nevin #2 - Play from short cement pad (not long pad behind creek).",null,null,null,null,null,null,null,null,null,null,"Player"]
[null,null,null,null,null,null,null,null,null,null,null,null,"Witness 1"]
[null,"Turn in your completed, signed score sheet before 9pm",null,null,null,null,null,null,null,null,null,null,"Witness 2"]
[null,"at Divine Barrel Brewery (3701 N. Davidson St).",null,null,null,null,null,null,null,null,null,null,"Witness 3",null,null,null,null,null,null,"FINAL","Ace","Eag","Bir","Par","Bog","Bg+","Sno","Score"]
[null,null,null,null,null,null,null,null,null,null,null,null,null,null,null,null,null,null,null,"TOTAL",{"$f":"SUM(U28,U18,U8)","v":0},{"$f":"SUM(V28,V18,V8)","v":0},0,21,24,9,0,248]

{"sheet":"DeSc","index":6,"n_rows":34,"n_cols":28,"rows_kept":34,"cut":false,"hidden":false,"merged":[[0,0,33,0],[0,16,3,16],[0,17,33,17],[1,20,1,24],[1,26,1,27],[10,12,13,12],[20,16,23,16],[29,1,29,10],[29,12,29,13],[30,1,30,10],[30,12,30,13],[31,1,31,10],[31,12,31,13],[32,1,32,10],[32,12,32,13]]}
["2019 Charlotte Iron Man",null,null,null,null,"Hole",1,2,3,4,5,6,7,8,9,"Out","ANGRY"]
[null,null,null,null,null,"Dist.",235,158,222,439,801,491,282,567,268,{"$f":"SUM(G2:O2)","v":3463},null,null,null,"Name","Debbie Scott",null,null,null,null,"Div","Maidens"]
[null,null,null,null,null,"Par",3,3,3,4,5,4,3,4,3,{"$f":"SUM(G3:O3)","v":32}]
[null,null,null,null,null,"Score",3,3,4,5,7,4,3,5,3,37]
[null,null,null,null,null,"Hole",10,11,12,13,14,15,16,17,18,"In","Total",null,null,"ANGRY","Ace","Eag","Bir","Par","Bog","Bg+","Sno","Score"]
[null,null,null,null,null,"Dist.",563,465,215,409,333,702,431,282,814,{"$f":"SUM(G6:O6)","v":4214},{"$f":"P6+P2","v":7677},null,null,"Front",{"$f":"COUNTIF(G4:O4,\"1\")","v":0},{"$f":"COUNTConditionColorCells($G$4:$O$4,V5)","v":0},{"$f":"COUNTConditionColorCells($G$4:$O$4,W5)","v":0},5,3,1,{"$f":"COUNTIF(G4:O4,\"8\")","v":0},{"$f":"P4","v":37}]
[null,null,null,null,null,"Par",4,4,3,4,3,5,4,3,5,{"$f":"SUM(G7:O7)","v":35},{"$f":"P7+P3","v":67},null,null,"Back",{"$f":"COUNTIF(G8:O8,\"1\")","v":0},{"$f":"COUNTConditionColorCells($G$8:$O$8,V5)","v":0},{"$f":"COUNTConditionColorCells($G$8:$O$8,W5)","v":1},{"$f":"COUNTConditionColorCells($G$8:$O$8,X5)","v":3},{"$f":"COUNTConditionColorCells($G$8:$O$8,Y5)","v":4},1,{"$f":"COUNTIF(G8:O8,\"8\")","v":0},{"$f":"P8","v":40}]
[null,null,null,null,null,"Score",5,4,3,4,4,6,3,5,6,{"$f":"SUM(G8:O8)","v":40},77,null,null,"Total",{"$f":"U6+U7","v":0},{"$f":"V6+V7","v":0},1,8,7,2,0,{"$f":"Q8","v":77}]
[]
[]
[null,"Hole",1,2,3,4,5,6,7,8,9,"Out","NEVIN"]
[null,"Dist.",491,240,375,538,656,317,202,329,593,{"$f":"SUM(C12:K12)","v":3741}]
[null,"Par",4,3,3,4,5,3,3,3,4,{"$f":"SUM(C13:K13)","v":32}]
[null,"Score",5,3,5,6,5,4,3,4,5,40]
[null,"Hole",10,11,12,13,14,15,16,17,18,"In","Total",null,null,null,null,null,null,"NEVIN","Ace","Eag","Bir","Par","Bog","Bg+","Sno","Score"]
[null,"Dist.",630,640,970,274,550,252,596,581,530,{"$f":"SUM(C16:K16)","v":5023},{"$f":"L16+L12","v":8764},null,null,null,null,null,null,"Front",{"$f":"COUNTIF(C14:K14,\"1\")","v":0},{"$f":"COUNTConditionColorCells($C$14:$K$14,V15)","v":0},{"$f":"COUNTConditionColorCells($C$14:$K$14,W15)","v":0},3,4,2,{"$f":"COUNTIF(C14:K14,\"8\")","v":0},{"$f":"L14","v":40}]
[null,"Par",5,4,5,3,4,3,4,5,4,{"$f":"SUM(C17:K17)","v":37},{"$f":"L17+L13","v":69},null,null,null,null,null,null,"Back",{"$f":"COUNTIF(C18:K18,\"1\")","v":0},{"$f":"COUNTConditionColorCells($C$18:$K$18,V15)","v":0},{"$f":"COUNTConditionColorCells($C$18:$K$18,W15)","v":0},4,5,0,{"$f":"COUNTIF(C18:K18,\"8\")","v":0},{"$f":"L18","v":42}]
[null,"Score",6,5,6,3,5,3,5,5,4,{"$f":"SUM(C18:K18)","v":42},82,null,null,null,null,null,null,"Total",{"$f":"U16+U17","v":0},{"$f":"V16+V17","v":0},0,7,9,2,{"$f":"AA16+AA17","v":0},{"$f":"M18","v":82}]
[]
[]
[null,null,null,null,null,"Hole",1,2,3,4,5,6,7,8,9,"Out","RENNY"]
[null,null,null,null,null,"Dist.",523,519,386,551,392,257,465,323,285,{"$f":"SUM(G22:O22)","v":3701}]
[null,null,null,null,null,"Par",4,4,4,4,4,3,4,3,3,{"$f":"SUM(G23:O23)","v":33}]
[null,null,null,null,null,"Score",4,4,5,5,4,4,4,4,3,37]
[null,null,null,null,null,"Hole",10,11,12,13,14,15,16,17,18,"In","Total",null,null,"RENNY","Ace","Eag","Bir","Par","Bog","Bg+","Sno","Score"]
[null,null,null,null,null,"Dist.",538,1042,617,974,564,378,302,517,826,{"$f":"SUM(G26:O26)","v":5758},{"$f":"P26+P22","v":9459},null,null,"Front",{"$f":"COUNTIF(G24:O24,\"1\")","v":0},{"$f":"COUNTConditionColorCells($G$24:$O$24,V25)","v":0},{"$f":"COUNTConditionColorCells($G$24:$O$24,W25)","v":0},5,4,0,{"$f":"COUNTIF(G24:O24,\"8\")","v":0},{"$f":"P24","v":37}]
[null,null,null,null,null,"Par",4,5,4,5,4,3,3,4,5,{"$f":"SUM(G27:O27)","v":37},{"$f":"P27+P23","v":70},null,null,"Back",{"$f":"COUNTIF(G28:O28,\"1\")","v":0},{"$f":"COUNTConditionColorCells($G$28:$O$28,V25)","v":0},{"$f":"COUNTConditionColorCells($G$28:$O$28,W25)","v":0},4,3,2,{"$f":"COUNTIF(G28:O28,\"8\")","v":0},{"$f":"P28","v":44}]
[null,null,null,null,null,"Score",6,6,4,7,4,3,3,5,6,{"$f":"SUM(G28:O28)","v":44},81,null,null,"Total",{"$f":"U26+U27","v":0},{"$f":"V26+V27","v":0},0,9,7,2,0,{"$f":"Q28","v":81}]
[]
[null,"Nevin #2 - Play from short cement pad (not long pad behind creek).",null,null,null,null,null,null,null,null,null,null,"Player"]
[null,null,null,null,null,null,null,null,null,null,null,null,"Witness 1"]
[null,"Turn in your completed, signed score sheet before 9pm",null,null,null,null,null,null,null,null,null,null,"Witness 2"]
[null,"at Divine Barrel Brewery (3701 N. Davidson St).",null,null,null,null,null,null,null,null,null,null,"Witness 3",null,null,null,null,null,null,"FINAL","Ace","Eag","Bir","Par","Bog","Bg+","Sno","Score"]
[null,null,null,null,null,null,null,null,null,null,null,null,null,null,null,null,null,null,null,"TOTAL",{"$f":"SUM(U28,U18,U8)","v":0},{"$f":"SUM(V28,V18,V8)","v":0},1,24,23,6,0,240]

{"sheet":"PaEm","index":7,"n_rows":34,"n_cols":28,"rows_kept":34,"cut":false,"hidden":false,"merged":[[0,0,33,0],[0,16,3,16],[0,17,33,17],[1,20,1,24],[1,26,1,27],[10,12,13,12],[20,16,23,16],[29,1,29,10],[29,12,29,13],[30,1,30,10],[30,12,30,13],[31,1,31,10],[31,12,31,13],[32,1,32,10],[32,12,32,13]]}
["2019 Charlotte Iron Man",null,null,null,null,"Hole",1,2,3,4,5,6,7,8,9,"Out","ANGRY"]
[null,null,null,null,null,"Dist.",235,158,222,439,801,491,282,567,268,{"$f":"SUM(G2:O2)","v":3463},null,null,null,"Name","Paetyn Emmert",null,null,null,null,"Div","Maidens"]
[null,null,null,null,null,"Par",3,3,3,4,5,4,3,4,3,{"$f":"SUM(G3:O3)","v":32}]
[null,null,null,null,null,"Score",3,3,4,5,7,6,5,6,3,42]
[null,null,null,null,null,"Hole",10,11,12,13,14,15,16,17,18,"In","Total",null,null,"ANGRY","Ace","Eag","Bir","Par","Bog","Bg+","Sno","Score"]
[null,null,null,null,null,"Dist.",563,465,215,409,333,702,431,282,814,{"$f":"SUM(G6:O6)","v":4214},{"$f":"P6+P2","v":7677},null,null,"Front",{"$f":"COUNTIF(G4:O4,\"1\")","v":0},{"$f":"COUNTConditionColorCells($G$4:$O$4,V5)","v":0},{"$f":"COUNTConditionColorCells($G$4:$O$4,W5)","v":0},3,2,4,{"$f":"COUNTIF(G4:O4,\"8\")","v":0},{"$f":"P4","v":42}]
[null,null,null,null,null,"Par",4,4,3,4,3,5,4,3,5,{"$f":"SUM(G7:O7)","v":35},{"$f":"P7+P3","v":67},null,null,"Back",{"$f":"COUNTIF(G8:O8,\"1\")","v":0},{"$f":"COUNTConditionColorCells($G$8:$O$8,V5)","v":0},{"$f":"COUNTConditionColorCells($G$8:$O$8,W5)","v":0},{"$f":"COUNTConditionColorCells($G$8:$O$8,X5)","v":4},{"$f":"COUNTConditionColorCells($G$8:$O$8,Y5)","v":3},2,{"$f":"COUNTIF(G8:O8,\"8\")","v":1},{"$f":"P8","v":43}]
[null,null,null,null,null,"Score",6,5,3,4,4,6,4,3,8,{"$f":"SUM(G8:O8)","v":43},85,null,null,"Total",{"$f":"U6+U7","v":0},{"$f":"V6+V7","v":0},0,7,5,6,1,{"$f":"Q8","v":85}]
[]
[]
[null,"Hole",1,2,3,4,5,6,7,8,9,"Out","NEVIN"]
[null,"Dist.",491,240,375,538,656,317,202,329,593,{"$f":"SUM(C12:K12)","v":3741}]
[null,"Par",4,3,3,4,5,3,3,3,4,{"$f":"SUM(C13:K13)","v":32}]
[null,"Score",5,5,6,6,10,5,4,4,6,51]
[null,"Hole",10,11,12,13,14,15,16,17,18,"In","Total",null,null,null,null,null,null,"NEVIN","Ace","Eag","Bir","Par","Bog","Bg+","Sno","Score"]
[null,"Dist.",630,640,970,274,550,252,596,581,530,{"$f":"SUM(C16:K16)","v":5023},{"$f":"L16+L12","v":8764},null,null,null,null,null,null,"Front",{"$f":"COUNTIF(C14:K14,\"1\")","v":0},{"$f":"COUNTConditionColorCells($C$14:$K$14,V15)","v":0},{"$f":"COUNTConditionColorCells($C$14:$K$14,W15)","v":0},0,3,6,{"$f":"COUNTIF(C14:K14,\"8\")","v":0},{"$f":"L14","v":51}]
[null,"Par",5,4,5,3,4,3,4,5,4,{"$f":"SUM(C17:K17)","v":37},{"$f":"L17+L13","v":69},null,null,null,null,null,null,"Back",{"$f":"COUNTIF(C18:K18,\"1\")","v":0},{"$f":"COUNTConditionColorCells($C$18:$K$18,V15)","v":0},{"$f":"COUNTConditionColorCells($C$18:$K$18,W15)","v":0},3,6,0,{"$f":"COUNTIF(C18:K18,\"8\")","v":0},{"$f":"L18","v":43}]
[null,"Score",6,5,6,3,4,3,5,6,5,{"$f":"SUM(C18:K18)","v":43},94,null,null,null,null,null,null,"Total",{"$f":"U16+U17","v":0},{"$f":"V16+V17","v":0},0,3,9,6,{"$f":"AA16+AA17","v":0},{"$f":"M18","v":94}]
[]
[]
[null,null,null,null,null,"Hole",1,2,3,4,5,6,7,8,9,"Out","RENNY"]
[null,null,null,null,null,"Dist.",523,519,386,551,392,257,465,323,285,{"$f":"SUM(G22:O22)","v":3701}]
[null,null,null,null,null,"Par",4,4,4,4,4,3,4,3,3,{"$f":"SUM(G23:O23)","v":33}]
[null,null,null,null,null,"Score",5,6,4,7,4,3,5,4,3,41]
[null,null,null,null,null,"Hole",10,11,12,13,14,15,16,17,18,"In","Total",null,null,"RENNY","Ace","Eag","Bir","Par","Bog","Bg+","Sno","Score"]
[null,null,null,null,null,"Dist.",538,1042,617,974,564,378,302,517,826,{"$f":"SUM(G26:O26)","v":5758},{"$f":"P26+P22","v":9459},null,null,"Front",{"$f":"COUNTIF(G24:O24,\"1\")","v":0},{"$f":"COUNTConditionColorCells($G$24:$O$24,V25)","v":0},{"$f":"COUNTConditionColorCells($G$24:$O$24,W25)","v":0},4,3,2,{"$f":"COUNTIF(G24:O24,\"8\")","v":0},{"$f":"P24","v":41}]
[null,null,null,null,null,"Par",4,5,4,5,4,3,3,4,5,{"$f":"SUM(G27:O27)","v":37},{"$f":"P27+P23","v":70},null,null,"Back",{"$f":"COUNTIF(G28:O28,\"1\")","v":0},{"$f":"COUNTConditionColorCells($G$28:$O$28,V25)","v":0},{"$f":"COUNTConditionColorCells($G$28:$O$28,W25)","v":0},1,6,2,{"$f":"COUNTIF(G28:O28,\"8\")","v":0},{"$f":"P28","v":48}]
[null,null,null,null,null,"Score",7,7,5,6,5,4,3,5,6,{"$f":"SUM(G28:O28)","v":48},89,null,null,"Total",{"$f":"U26+U27","v":0},{"$f":"V26+V27","v":0},0,5,9,4,0,{"$f":"Q28","v":89}]
[]
[null,"Nevin #2 - Play from short cement pad (not long pad behind creek).",null,null,null,null,null,null,null,null,null,null,"Player"]
[null,null,null,null,null,null,null,null,null,null,null,null,"Witness 1"]
[null,"Turn in your completed, signed score sheet before 9pm",null,null,null,null,null,null,null,null,null,null,"Witness 2"]
[null,"at Divine Barrel Brewery (3701 N. Davidson St).",null,null,null,null,null,null,null,null,null,null,"Witness 3",null,null,null,null,null,null,"FINAL","Ace","Eag","Bir","Par","Bog","Bg+","Sno","Score"]
[null,null,null,null,null,null,null,null,null,null,null,null,null,null,null,null,null,null,null,"TOTAL",{"$f":"SUM(U28,U18,U8)","v":0},{"$f":"SUM(V28,V18,V8)","v":0},0,15,23,16,1,268]

{"sheet":"ViSc","index":8,"n_rows":34,"n_cols":28,"rows_kept":34,"cut":false,"hidden":false,"merged":[[0,0,33,0],[0,16,3,16],[0,17,33,17],[1,20,1,24],[1,26,1,27],[10,12,13,12],[20,16,23,16],[29,1,29,10],[29,12,29,13],[30,1,30,10],[30,12,30,13],[31,1,31,10],[31,12,31,13],[32,1,32,10],[32,12,32,13]]}
["2019 Charlotte Iron Man",null,null,null,null,"Hole",1,2,3,4,5,6,7,8,9,"Out","ANGRY"]
[null,null,null,null,null,"Dist.",235,158,222,439,801,491,282,567,268,{"$f":"SUM(G2:O2)","v":3463},null,null,null,"Name","Victoria Scott",null,null,null,null,"Div","Maidens"]
[null,null,null,null,null,"Par",3,3,3,4,5,4,3,4,3,{"$f":"SUM(G3:O3)","v":32}]
[null,null,null,null,null,"Score",3,3,4,6,7,6,4,5,4,42]
[null,null,null,null,null,"Hole",10,11,12,13,14,15,16,17,18,"In","Total",null,null,"ANGRY","Ace","Eag","Bir","Par","Bog","Bg+","Sno","Score"]
[null,null,null,null,null,"Dist.",563,465,215,409,333,702,431,282,814,{"$f":"SUM(G6:O6)","v":4214},{"$f":"P6+P2","v":7677},null,null,"Front",{"$f":"COUNTIF(G4:O4,\"1\")","v":0},{"$f":"COUNTConditionColorCells($G$4:$O$4,V5)","v":0},{"$f":"COUNTConditionColorCells($G$4:$O$4,W5)","v":0},2,4,3,{"$f":"COUNTIF(G4:O4,\"8\")","v":0},{"$f":"P4","v":42}]
[null,null,null,null,null,"Par",4,4,3,4,3,5,4,3,5,{"$f":"SUM(G7:O7)","v":35},{"$f":"P7+P3","v":67},null,null,"Back",{"$f":"COUNTIF(G8:O8,\"1\")","v":0},{"$f":"COUNTConditionColorCells($G$8:$O$8,V5)","v":0},{"$f":"COUNTConditionColorCells($G$8:$O$8,W5)","v":1},{"$f":"COUNTConditionColorCells($G$8:$O$8,X5)","v":0},{"$f":"COUNTConditionColorCells($G$8:$O$8,Y5)","v":3},5,{"$f":"COUNTIF(G8:O8,\"8\")","v":0},{"$f":"P8","v":47}]
[null,null,null,null,null,"Score",6,6,4,5,5,6,3,5,7,{"$f":"SUM(G8:O8)","v":47},89,null,null,"Total",{"$f":"U6+U7","v":0},{"$f":"V6+V7","v":0},1,2,7,8,0,{"$f":"Q8","v":89}]
[]
[]
[null,"Hole",1,2,3,4,5,6,7,8,9,"Out","NEVIN"]
[null,"Dist.",491,240,375,538,656,317,202,329,593,{"$f":"SUM(C12:K12)","v":3741}]
[null,"Par",4,3,3,4,5,3,3,3,4,{"$f":"SUM(C13:K13)","v":32}]
[null,"Score",6,3,8,6,6,4,3,5,7,48]
[null,"Hole",10,11,12,13,14,15,16,17,18,"In","Total",null,null,null,null,null,null,"NEVIN","Ace","Eag","Bir","Par","Bog","Bg+","Sno","Score"]
[null,"Dist.",630,640,970,274,550,252,596,581,530,{"$f":"SUM(C16:K16)","v":5023},{"$f":"L16+L12","v":8764},null,null,null,null,null,null,"Front",{"$f":"COUNTIF(C14:K14,\"1\")","v":0},{"$f":"COUNTConditionColorCells($C$14:$K$14,V15)","v":0},{"$f":"COUNTConditionColorCells($C$14:$K$14,W15)","v":0},2,2,5,{"$f":"COUNTIF(C14:K14,\"8\")","v":1},{"$f":"L14","v":48}]
[null,"Par",5,4,5,3,4,3,4,5,4,{"$f":"SUM(C17:K17)","v":37},{"$f":"L17+L13","v":69},null,null,null,null,null,null,"Back",{"$f":"COUNTIF(C18:K18,\"1\")","v":0},{"$f":"COUNTConditionColorCells($C$18:$K$18,V15)","v":0},{"$f":"COUNTConditionColorCells($C$18:$K$18,W15)","v":0},0,5,4,{"$f":"COUNTIF(C18:K18,\"8\")","v":0},{"$f":"L18","v":52}]
[null,"Score",7,5,9,4,5,4,6,7,5,{"$f":"SUM(C18:K18)","v":52},100,null,null,null,null,null,null,"Total",{"$f":"U16+U17","v":0},{"$f":"V16+V17","v":0},0,2,7,9,{"$f":"AA16+AA17","v":1},{"$f":"M18","v":100}]
[]
[]
[null,null,null,null,null,"Hole",1,2,3,4,5,6,7,8,9,"Out","RENNY"]
[null,null,null,null,null,"Dist.",523,519,386,551,392,257,465,323,285,{"$f":"SUM(G22:O22)","v":3701}]
[null,null,null,null,null,"Par",4,4,4,4,4,3,4,3,3,{"$f":"SUM(G23:O23)","v":33}]
[null,null,null,null,null,"Score",7,5,5,4,5,3,6,4,4,43]
[null,null,null,null,null,"Hole",10,11,12,13,14,15,16,17,18,"In","Total",null,null,"RENNY","Ace","Eag","Bir","Par","Bog","Bg+","Sno","Score"]
[null,null,null,null,null,"Dist.",538,1042,617,974,564,378,302,517,826,{"$f":"SUM(G26:O26)","v":5758},{"$f":"P26+P22","v":9459},null,null,"Front",{"$f":"COUNTIF(G24:O24,\"1\")","v":0},{"$f":"COUNTConditionColorCells($G$24:$O$24,V25)","v":0},{"$f":"COUNTConditionColorCells($G$24:$O$24,W25)","v":0},2,5,2,{"$f":"COUNTIF(G24:O24,\"8\")","v":0},{"$f":"P24","v":43}]
[null,null,null,null,null,"Par",4,5,4,5,4,3,3,4,5,{"$f":"SUM(G27:O27)","v":37},{"$f":"P27+P23","v":70},null,null,"Back",{"$f":"COUNTIF(G28:O28,\"1\")","v":0},{"$f":"COUNTConditionColorCells($G$28:$O$28,V25)","v":0},{"$f":"COUNTConditionColorCells($G$28:$O$28,W25)","v":0},0,3,6,{"$f":"COUNTIF(G28:O28,\"8\")","v":2},{"$f":"P28","v":54}]
[null,null,null,null,null,"Score",6,8,6,8,5,4,4,6,7,{"$f":"SUM(G28:O28)","v":54},97,null,null,"Total",{"$f":"U26+U27","v":0},{"$f":"V26+V27","v":0},0,2,8,8,2,{"$f":"Q28","v":97}]
[]
[null,"Nevin #2 - Play from short cement pad (not long pad behind creek).",null,null,null,null,null,null,null,null,null,null,"Player"]
[null,null,null,null,null,null,null,null,null,null,null,null,"Witness 1"]
[null,"Turn in your completed, signed score sheet before 9pm",null,null,null,null,null,null,null,null,null,null,"Witness 2"]
[null,"at Divine Barrel Brewery (3701 N. Davidson St).",null,null,null,null,null,null,null,null,null,null,"Witness 3",null,null,null,null,null,null,"FINAL","Ace","Eag","Bir","Par","Bog","Bg+","Sno","Score"]
[null,null,null,null,null,null,null,null,null,null,null,null,null,null,null,null,null,null,null,"TOTAL",{"$f":"SUM(U28,U18,U8)","v":0},{"$f":"SUM(V28,V18,V8)","v":0},1,6,22,25,3,286]

{"sheet":"BeCy","index":9,"n_rows":34,"n_cols":28,"rows_kept":34,"cut":false,"hidden":false,"merged":[[0,0,33,0],[0,16,3,16],[0,17,33,17],[1,20,1,24],[1,26,1,27],[10,12,13,12],[20,16,23,16],[29,1,29,10],[29,12,29,13],[30,1,30,10],[30,12,30,13],[31,1,31,10],[31,12,31,13],[32,1,32,10],[32,12,32,13]]}
["2019 Charlotte Iron Man",null,null,null,null,"Hole",1,2,3,4,5,6,7,8,9,"Out","ANGRY"]
[null,null,null,null,null,"Dist.",235,158,222,439,801,491,282,567,268,{"$f":"SUM(G2:O2)","v":3463},null,null,null,"Name","Benjamin Cybul",null,null,null,null,"Div","Iron Men"]
[null,null,null,null,null,"Par",3,3,3,4,5,4,3,4,3,{"$f":"SUM(G3:O3)","v":32}]
[null,null,null,null,null,"Score",2,3,3,5,5,6,4,4,3,35]
[null,null,null,null,null,"Hole",10,11,12,13,14,15,16,17,18,"In","Total",null,null,"ANGRY","Ace","Eag","Bir","Par","Bog","Bg+","Sno","Score"]
[null,null,null,null,null,"Dist.",563,465,215,409,333,702,431,282,814,{"$f":"SUM(G6:O6)","v":4214},{"$f":"P6+P2","v":7677},null,null,"Front",{"$f":"COUNTIF(G4:O4,\"1\")","v":0},{"$f":"COUNTConditionColorCells($G$4:$O$4,V5)","v":0},{"$f":"COUNTConditionColorCells($G$4:$O$4,W5)","v":1},5,2,1,{"$f":"COUNTIF(G4:O4,\"8\")","v":0},{"$f":"P4","v":35}]
[null,null,null,null,null,"Par",4,4,3,4,3,5,4,3,5,{"$f":"SUM(G7:O7)","v":35},{"$f":"P7+P3","v":67},null,null,"Back",{"$f":"COUNTIF(G8:O8,\"1\")","v":0},{"$f":"COUNTConditionColorCells($G$8:$O$8,V5)","v":0},{"$f":"COUNTConditionColorCells($G$8:$O$8,W5)","v":2},{"$f":"COUNTConditionColorCells($G$8:$O$8,X5)","v":4},{"$f":"COUNTConditionColorCells($G$8:$O$8,Y5)","v":2},1,{"$f":"COUNTIF(G8:O8,\"8\")","v":0},{"$f":"P8","v":37}]
[null,null,null,null,null,"Score",5,4,2,4,3,5,3,4,7,{"$f":"SUM(G8:O8)","v":37},72,null,null,"Total",{"$f":"U6+U7","v":0},{"$f":"V6+V7","v":0},3,9,4,2,0,{"$f":"Q8","v":72}]
[]
[]
[null,"Hole",1,2,3,4,5,6,7,8,9,"Out","NEVIN"]
[null,"Dist.",491,240,375,538,656,317,202,329,593,{"$f":"SUM(C12:K12)","v":3741}]
[null,"Par",4,3,3,4,5,3,3,3,4,{"$f":"SUM(C13:K13)","v":32}]
[null,"Score",4,3,5,6,5,3,4,3,4,37]
[null,"Hole",10,11,12,13,14,15,16,17,18,"In","Total",null,null,null,null,null,null,"NEVIN","Ace","Eag","Bir","Par","Bog","Bg+","Sno","Score"]
[null,"Dist.",630,640,970,274,550,252,596,581,530,{"$f":"SUM(C16:K16)","v":5023},{"$f":"L16+L12","v":8764},null,null,null,null,null,null,"Front",{"$f":"COUNTIF(C14:K14,\"1\")","v":0},{"$f":"COUNTConditionColorCells($C$14:$K$14,V15)","v":0},{"$f":"COUNTConditionColorCells($C$14:$K$14,W15)","v":0},6,1,2,{"$f":"COUNTIF(C14:K14,\"8\")","v":0},{"$f":"L14","v":37}]
[null,"Par",5,4,5,3,4,3,4,5,4,{"$f":"SUM(C17:K17)","v":37},{"$f":"L17+L13","v":69},null,null,null,null,null,null,"Back",{"$f":"COUNTIF(C18:K18,\"1\")","v":0},{"$f":"COUNTConditionColorCells($C$18:$K$18,V15)","v":0},{"$f":"COUNTConditionColorCells($C$18:$K$18,W15)","v":1},3,5,0,{"$f":"COUNTIF(C18:K18,\"8\")","v":0},{"$f":"L18","v":41}]
[null,"Score",6,5,6,4,4,4,4,5,3,{"$f":"SUM(C18:K18)","v":41},78,null,null,null,null,null,null,"Total",{"$f":"U16+U17","v":0},{"$f":"V16+V17","v":0},1,9,6,2,{"$f":"AA16+AA17","v":0},{"$f":"M18","v":78}]
[]
[]
[null,null,null,null,null,"Hole",1,2,3,4,5,6,7,8,9,"Out","RENNY"]
[null,null,null,null,null,"Dist.",523,519,386,551,392,257,465,323,285,{"$f":"SUM(G22:O22)","v":3701}]
[null,null,null,null,null,"Par",4,4,4,4,4,3,4,3,3,{"$f":"SUM(G23:O23)","v":33}]
[null,null,null,null,null,"Score",4,3,5,4,4,3,5,3,3,34]
[null,null,null,null,null,"Hole",10,11,12,13,14,15,16,17,18,"In","Total",null,null,"RENNY","Ace","Eag","Bir","Par","Bog","Bg+","Sno","Score"]
[null,null,null,null,null,"Dist.",538,1042,617,974,564,378,302,517,826,{"$f":"SUM(G26:O26)","v":5758},{"$f":"P26+P22","v":9459},null,null,"Front",{"$f":"COUNTIF(G24:O24,\"1\")","v":0},{"$f":"COUNTConditionColorCells($G$24:$O$24,V25)","v":0},{"$f":"COUNTConditionColorCells($G$24:$O$24,W25)","v":1},6,2,0,{"$f":"COUNTIF(G24:O24,\"8\")","v":0},{"$f":"P24","v":34}]
[null,null,null,null,null,"Par",4,5,4,5,4,3,3,4,5,{"$f":"SUM(G27:O27)","v":37},{"$f":"P27+P23","v":70},null,null,"Back",{"$f":"COUNTIF(G28:O28,\"1\")","v":0},{"$f":"COUNTConditionColorCells($G$28:$O$28,V25)","v":0},{"$f":"COUNTConditionColorCells($G$28:$O$28,W25)","v":0},5,2,2,{"$f":"COUNTIF(G28:O28,\"8\")","v":0},{"$f":"P28","v":43}]
[null,null,null,null,null,"Score",5,7,4,7,4,3,4,4,5,{"$f":"SUM(G28:O28)","v":43},77,null,null,"Total",{"$f":"U26+U27","v":0},{"$f":"V26+V27","v":0},1,11,4,2,0,{"$f":"Q28","v":77}]
[]
[null,"Nevin #2 - Play from short cement pad (not long pad behind creek).",null,null,null,null,null,null,null,null,null,null,"Player"]
[null,null,null,null,null,null,null,null,null,null,null,null,"Witness 1"]
[null,"Turn in your completed, signed score sheet before 9pm",null,null,null,null,null,null,null,null,null,null,"Witness 2"]
[null,"at Divine Barrel Brewery (3701 N. Davidson St).",null,null,null,null,null,null,null,null,null,null,"Witness 3",null,null,null,null,null,null,"FINAL","Ace","Eag","Bir","Par","Bog","Bg+","Sno","Score"]
[null,null,null,null,null,null,null,null,null,null,null,null,null,null,null,null,null,null,null,"TOTAL",{"$f":"SUM(U28,U18,U8)","v":0},{"$f":"SUM(V28,V18,V8)","v":0},5,29,14,6,0,227]

{"sheet":"BoSc","index":10,"n_rows":34,"n_cols":28,"rows_kept":34,"cut":false,"hidden":false,"merged":[[0,0,33,0],[0,16,3,16],[0,17,33,17],[1,20,1,24],[1,26,1,27],[10,12,13,12],[20,16,23,16],[29,1,29,10],[29,12,29,13],[30,1,30,10],[30,12,30,13],[31,1,31,10],[31,12,31,13],[32,1,32,10],[32,12,32,13]]}
["2019 Charlotte Iron Man",null,null,null,null,"Hole",1,2,3,4,5,6,7,8,9,"Out","ANGRY"]
[null,null,null,null,null,"Dist.",235,158,222,439,801,491,282,567,268,{"$f":"SUM(G2:O2)","v":3463},null,null,null,"Name","Bob Scott",null,null,null,null,"Div","M Masters"]
[null,null,null,null,null,"Par",3,3,3,4,5,4,3,4,3,{"$f":"SUM(G3:O3)","v":32}]
[null,null,null,null,null,"Score",3,3,2,6,7,5,5,5,4,40]
[null,null,null,null,null,"Hole",10,11,12,13,14,15,16,17,18,"In","Total",null,null,"ANGRY","Ace","Eag","Bir","Par","Bog","Bg+","Sno","Score"]
[null,null,null,null,null,"Dist.",563,465,215,409,333,702,431,282,814,{"$f":"SUM(G6:O6)","v":4214},{"$f":"P6+P2","v":7677},null,null,"Front",{"$f":"COUNTIF(G4:O4,\"1\")","v":0},{"$f":"COUNTConditionColorCells($G$4:$O$4,V5)","v":0},{"$f":"COUNTConditionColorCells($G$4:$O$4,W5)","v":1},2,3,3,{"$f":"COUNTIF(G4:O4,\"8\")","v":0},{"$f":"P4","v":40}]
[null,null,null,null,null,"Par",4,4,3,4,3,5,4,3,5,{"$f":"SUM(G7:O7)","v":35},{"$f":"P7+P3","v":67},null,null,"Back",{"$f":"COUNTIF(G8:O8,\"1\")","v":0},{"$f":"COUNTConditionColorCells($G$8:$O$8,V5)","v":0},{"$f":"COUNTConditionColorCells($G$8:$O$8,W5)","v":0},{"$f":"COUNTConditionColorCells($G$8:$O$8,X5)","v":4},{"$f":"COUNTConditionColorCells($G$8:$O$8,Y5)","v":2},3,{"$f":"COUNTIF(G8:O8,\"8\")","v":0},{"$f":"P8","v":43}]
[null,null,null,null,null,"Score",6,4,4,4,4,7,4,3,7,{"$f":"SUM(G8:O8)","v":43},83,null,null,"Total",{"$f":"U6+U7","v":0},{"$f":"V6+V7","v":0},1,6,5,6,0,{"$f":"Q8","v":83}]
[]
[]
[null,"Hole",1,2,3,4,5,6,7,8,9,"Out","NEVIN"]
[null,"Dist.",491,240,375,538,656,317,202,329,593,{"$f":"SUM(C12:K12)","v":3741}]
[null,"Par",4,3,3,4,5,3,3,3,4,{"$f":"SUM(C13:K13)","v":32}]
[null,"Score",6,4,4,5,6,4,5,3,5,42]
[null,"Hole",10,11,12,13,14,15,16,17,18,"In","Total",null,null,null,null,null,null,"NEVIN","Ace","Eag","Bir","Par","Bog","Bg+","Sno","Score"]
[null,"Dist.",630,640,970,274,550,252,596,581,530,{"$f":"SUM(C16:K16)","v":5023},{"$f":"L16+L12","v":8764},null,null,null,null,null,null,"Front",{"$f":"COUNTIF(C14:K14,\"1\")","v":0},{"$f":"COUNTConditionColorCells($C$14:$K$14,V15)","v":0},{"$f":"COUNTConditionColorCells($C$14:$K$14,W15)","v":0},1,6,2,{"$f":"COUNTIF(C14:K14,\"8\")","v":0},{"$f":"L14","v":42}]
[null,"Par",5,4,5,3,4,3,4,5,4,{"$f":"SUM(C17:K17)","v":37},{"$f":"L17+L13","v":69},null,null,null,null,null,null,"Back",{"$f":"COUNTIF(C18:K18,\"1\")","v":0},{"$f":"COUNTConditionColorCells($C$18:$K$18,V15)","v":0},{"$f":"COUNTConditionColorCells($C$18:$K$18,W15)","v":0},3,4,2,{"$f":"COUNTIF(C18:K18,\"8\")","v":1},{"$f":"L18","v":46}]
[null,"Score",8,5,7,3,5,3,5,5,5,{"$f":"SUM(C18:K18)","v":46},88,null,null,null,null,null,null,"Total",{"$f":"U16+U17","v":0},{"$f":"V16+V17","v":0},0,4,10,4,{"$f":"AA16+AA17","v":1},{"$f":"M18","v":88}]
[]
[]
[null,null,null,null,null,"Hole",1,2,3,4,5,6,7,8,9,"Out","RENNY"]
[null,null,null,null,null,"Dist.",523,519,386,551,392,257,465,323,285,{"$f":"SUM(G22:O22)","v":3701}]
[null,null,null,null,null,"Par",4,4,4,4,4,3,4,3,3,{"$f":"SUM(G23:O23)","v":33}]
[null,null,null,null,null,"Score",4,4,4,4,5,3,4,3,3,34]
[null,null,null,null,null,"Hole",10,11,12,13,14,15,16,17,18,"In","Total",null,null,"RENNY","Ace","Eag","Bir","Par","Bog","Bg+","Sno","Score"]
[null,null,null,null,null,"Dist.",538,1042,617,974,564,378,302,517,826,{"$f":"SUM(G26:O26)","v":5758},{"$f":"P26+P22","v":9459},null,null,"Front",{"$f":"COUNTIF(G24:O24,\"1\")","v":0},{"$f":"COUNTConditionColorCells($G$24:$O$24,V25)","v":0},{"$f":"COUNTConditionColorCells($G$24:$O$24,W25)","v":0},8,1,0,{"$f":"COUNTIF(G24:O24,\"8\")","v":0},{"$f":"P24","v":34}]
[null,null,null,null,null,"Par",4,5,4,5,4,3,3,4,5,{"$f":"SUM(G27:O27)","v":37},{"$f":"P27+P23","v":70},null,null,"Back",{"$f":"COUNTIF(G28:O28,\"1\")","v":0},{"$f":"COUNTConditionColorCells($G$28:$O$28,V25)","v":0},{"$f":"COUNTConditionColorCells($G$28:$O$28,W25)","v":0},4,3,2,{"$f":"COUNTIF(G28:O28,\"8\")","v":0},{"$f":"P28","v":47}]
[null,null,null,null,null,"Score",5,10,4,6,4,3,3,5,7,{"$f":"SUM(G28:O28)","v":47},81,null,null,"Total",{"$f":"U26+U27","v":0},{"$f":"V26+V27","v":0},0,12,4,2,0,{"$f":"Q28","v":81}]
[]
[null,"Nevin #2 - Play from short cement pad (not long pad behind creek).",null,null,null,null,null,null,null,null,null,null,"Player"]
[null,null,null,null,null,null,null,null,null,null,null,null,"Witness 1"]
[null,"Turn in your completed, signed score sheet before 9pm",null,null,null,null,null,null,null,null,null,null,"Witness 2"]
[null,"at Divine Barrel Brewery (3701 N. Davidson St).",null,null,null,null,null,null,null,null,null,null,"Witness 3",null,null,null,null,null,null,"FINAL","Ace","Eag","Bir","Par","Bog","Bg+","Sno","Score"]
[null,null,null,null,null,null,null,null,null,null,null,null,null,null,null,null,null,null,null,"TOTAL",{"$f":"SUM(U28,U18,U8)","v":0},{"$f":"SUM(V28,V18,V8)","v":0},1,22,19,12,1,252]

{"sheet":"BrTe","index":11,"n_rows":34,"n_cols":28,"rows_kept":34,"cut":false,"hidden":false,"merged":[[0,0,33,0],[0,16,3,16],[0,17,33,17],[1,20,1,24],[1,26,1,27],[10,12,13,12],[20,16,23,16],[29,1,29,10],[29,12,29,13],[30,1,30,10],[30,12,30,13],[31,1,31,10],[31,12,31,13],[32,1,32,10],[32,12,32,13]]}
["2019 Charlotte Iron Man",null,null,null,null,"Hole",1,2,3,4,5,6,7,8,9,"Out","ANGRY"]
[null,null,null,null,null,"Dist.",235,158,222,439,801,491,282,567,268,{"$f":"SUM(G2:O2)","v":3463},null,null,null,"Name","Brandon Terry",null,null,null,null,"Div","Iron Men"]
[null,null,null,null,null,"Par",3,3,3,4,5,4,3,4,3,{"$f":"SUM(G3:O3)","v":32}]
[null,null,null,null,null,"Score",3,3,4,4,8,4,3,5,4,38]
[null,null,null,null,null,"Hole",10,11,12,13,14,15,16,17,18,"In","Total",null,null,"ANGRY","Ace","Eag","Bir","Par","Bog","Bg+","Sno","Score"]
[null,null,null,null,null,"Dist.",563,465,215,409,333,702,431,282,814,{"$f":"SUM(G6:O6)","v":4214},{"$f":"P6+P2","v":7677},null,null,"Front",{"$f":"COUNTIF(G4:O4,\"1\")","v":0},{"$f":"COUNTConditionColorCells($G$4:$O$4,V5)","v":0},{"$f":"COUNTConditionColorCells($G$4:$O$4,W5)","v":0},5,3,1,{"$f":"COUNTIF(G4:O4,\"8\")","v":1},{"$f":"P4","v":38}]
[null,null,null,null,null,"Par",4,4,3,4,3,5,4,3,5,{"$f":"SUM(G7:O7)","v":35},{"$f":"P7+P3","v":67},null,null,"Back",{"$f":"COUNTIF(G8:O8,\"1\")","v":0},{"$f":"COUNTConditionColorCells($G$8:$O$8,V5)","v":0},{"$f":"COUNTConditionColorCells($G$8:$O$8,W5)","v":0},{"$f":"COUNTConditionColorCells($G$8:$O$8,X5)","v":1},{"$f":"COUNTConditionColorCells($G$8:$O$8,Y5)","v":2},6,{"$f":"COUNTIF(G8:O8,\"8\")","v":0},{"$f":"P8","v":54}]
[null,null,null,null,null,"Score",5,6,7,6,7,6,7,5,5,{"$f":"SUM(G8:O8)","v":54},92,null,null,"Total",{"$f":"U6+U7","v":0},{"$f":"V6+V7","v":0},0,6,5,7,1,{"$f":"Q8","v":92}]
[]
[]
[null,"Hole",1,2,3,4,5,6,7,8,9,"Out","NEVIN"]
[null,"Dist.",491,240,375,538,656,317,202,329,593,{"$f":"SUM(C12:K12)","v":3741}]
[null,"Par",4,3,3,4,5,3,3,3,4,{"$f":"SUM(C13:K13)","v":32}]
[null,"Score",8,3,3,7,7,4,5,5,6,48]
[null,"Hole",10,11,12,13,14,15,16,17,18,"In","Total",null,null,null,null,null,null,"NEVIN","Ace","Eag","Bir","Par","Bog","Bg+","Sno","Score"]
[null,"Dist.",630,640,970,274,550,252,596,581,530,{"$f":"SUM(C16:K16)","v":5023},{"$f":"L16+L12","v":8764},null,null,null,null,null,null,"Front",{"$f":"COUNTIF(C14:K14,\"1\")","v":0},{"$f":"COUNTConditionColorCells($C$14:$K$14,V15)","v":0},{"$f":"COUNTConditionColorCells($C$14:$K$14,W15)","v":0},2,1,6,{"$f":"COUNTIF(C14:K14,\"8\")","v":1},{"$f":"L14","v":48}]
[null,"Par",5,4,5,3,4,3,4,5,4,{"$f":"SUM(C17:K17)","v":37},{"$f":"L17+L13","v":69},null,null,null,null,null,null,"Back",{"$f":"COUNTIF(C18:K18,\"1\")","v":0},{"$f":"COUNTConditionColorCells($C$18:$K$18,V15)","v":0},{"$f":"COUNTConditionColorCells($C$18:$K$18,W15)","v":0},3,6,0,{"$f":"COUNTIF(C18:K18,\"8\")","v":0},{"$f":"L18","v":43}]
[null,"Score",6,5,6,3,4,4,5,5,5,{"$f":"SUM(C18:K18)","v":43},91,null,null,null,null,null,null,"Total",{"$f":"U16+U17","v":0},{"$f":"V16+V17","v":0},0,5,7,6,{"$f":"AA16+AA17","v":1},{"$f":"M18","v":91}]
[]
[]
[null,null,null,null,null,"Hole",1,2,3,4,5,6,7,8,9,"Out","RENNY"]
[null,null,null,null,null,"Dist.",523,519,386,551,392,257,465,323,285,{"$f":"SUM(G22:O22)","v":3701}]
[null,null,null,null,null,"Par",4,4,4,4,4,3,4,3,3,{"$f":"SUM(G23:O23)","v":33}]
[null,null,null,null,null,"Score",4,4,5,5,6,3,4,4,4,39]
[null,null,null,null,null,"Hole",10,11,12,13,14,15,16,17,18,"In","Total",null,null,"RENNY","Ace","Eag","Bir","Par","Bog","Bg+","Sno","Score"]
[null,null,null,null,null,"Dist.",538,1042,617,974,564,378,302,517,826,{"$f":"SUM(G26:O26)","v":5758},{"$f":"P26+P22","v":9459},null,null,"Front",{"$f":"COUNTIF(G24:O24,\"1\")","v":0},{"$f":"COUNTConditionColorCells($G$24:$O$24,V25)","v":0},{"$f":"COUNTConditionColorCells($G$24:$O$24,W25)","v":0},4,4,1,{"$f":"COUNTIF(G24:O24,\"8\")","v":0},{"$f":"P24","v":39}]
[null,null,null,null,null,"Par",4,5,4,5,4,3,3,4,5,{"$f":"SUM(G27:O27)","v":37},{"$f":"P27+P23","v":70},null,null,"Back",{"$f":"COUNTIF(G28:O28,\"1\")","v":0},{"$f":"COUNTConditionColorCells($G$28:$O$28,V25)","v":0},{"$f":"COUNTConditionColorCells($G$28:$O$28,W25)","v":0},2,5,2,{"$f":"COUNTIF(G28:O28,\"8\")","v":0},{"$f":"P28","v":46}]
[null,null,null,null,null,"Score",6,6,5,6,4,3,4,6,6,{"$f":"SUM(G28:O28)","v":46},85,null,null,"Total",{"$f":"U26+U27","v":0},{"$f":"V26+V27","v":0},0,6,9,3,0,{"$f":"Q28","v":85}]
[]
[null,"Nevin #2 - Play from short cement pad (not long pad behind creek).",null,null,null,null,null,null,null,null,null,null,"Player"]
[null,null,null,null,null,null,null,null,null,null,null,null,"Witness 1"]
[null,"Turn in your completed, signed score sheet before 9pm",null,null,null,null,null,null,null,null,null,null,"Witness 2"]
[null,"at Divine Barrel Brewery (3701 N. Davidson St).",null,null,null,null,null,null,null,null,null,null,"Witness 3",null,null,null,null,null,null,"FINAL","Ace","Eag","Bir","Par","Bog","Bg+","Sno","Score"]
[null,null,null,null,null,null,null,null,null,null,null,null,null,null,null,null,null,null,null,"TOTAL",{"$f":"SUM(U28,U18,U8)","v":0},{"$f":"SUM(V28,V18,V8)","v":0},0,17,21,16,2,268]

{"sheet":"CaLi","index":12,"n_rows":34,"n_cols":28,"rows_kept":34,"cut":false,"hidden":false,"merged":[[0,0,33,0],[0,16,3,16],[0,17,33,17],[1,20,1,24],[1,26,1,27],[10,12,13,12],[20,16,23,16],[29,1,29,10],[29,12,29,13],[30,1,30,10],[30,12,30,13],[31,1,31,10],[31,12,31,13],[32,1,32,10],[32,12,32,13]]}
["2019 Charlotte Iron Man",null,null,null,null,"Hole",1,2,3,4,5,6,7,8,9,"Out","ANGRY"]
[null,null,null,null,null,"Dist.",235,158,222,439,801,491,282,567,268,{"$f":"SUM(G2:O2)","v":3463},null,null,null,"Name","Cameron Linger",null,null,null,null,"Div","Iron Men"]
[null,null,null,null,null,"Par",3,3,3,4,5,4,3,4,3,{"$f":"SUM(G3:O3)","v":32}]
[null,null,null,null,null,"Score",5,4,3,5,7,6,4,7,7,48]
[null,null,null,null,null,"Hole",10,11,12,13,14,15,16,17,18,"In","Total",null,null,"ANGRY","Ace","Eag","Bir","Par","Bog","Bg+","Sno","Score"]
[null,null,null,null,null,"Dist.",563,465,215,409,333,702,431,282,814,{"$f":"SUM(G6:O6)","v":4214},{"$f":"P6+P2","v":7677},null,null,"Front",{"$f":"COUNTIF(G4:O4,\"1\")","v":0},{"$f":"COUNTConditionColorCells($G$4:$O$4,V5)","v":0},{"$f":"COUNTConditionColorCells($G$4:$O$4,W5)","v":0},1,3,5,{"$f":"COUNTIF(G4:O4,\"8\")","v":0},{"$f":"P4","v":48}]
[null,null,null,null,null,"Par",4,4,3,4,3,5,4,3,5,{"$f":"SUM(G7:O7)","v":35},{"$f":"P7+P3","v":67},null,null,"Back",{"$f":"COUNTIF(G8:O8,\"1\")","v":0},{"$f":"COUNTConditionColorCells($G$8:$O$8,V5)","v":0},{"$f":"COUNTConditionColorCells($G$8:$O$8,W5)","v":0},{"$f":"COUNTConditionColorCells($G$8:$O$8,X5)","v":2},{"$f":"COUNTConditionColorCells($G$8:$O$8,Y5)","v":3},4,{"$f":"COUNTIF(G8:O8,\"8\")","v":0},{"$f":"P8","v":47}]
[null,null,null,null,null,"Score",6,7,3,6,4,6,4,4,7,{"$f":"SUM(G8:O8)","v":47},95,null,null,"Total",{"$f":"U6+U7","v":0},{"$f":"V6+V7","v":0},0,3,6,9,0,{"$f":"Q8","v":95}]
[]
[]
[null,"Hole",1,2,3,4,5,6,7,8,9,"Out","NEVIN"]
[null,"Dist.",491,240,375,538,656,317,202,329,593,{"$f":"SUM(C12:K12)","v":3741}]
[null,"Par",4,3,3,4,5,3,3,3,4,{"$f":"SUM(C13:K13)","v":32}]
[null,"Score",6,5,4,6,6,5,5,3,5,45]
[null,"Hole",10,11,12,13,14,15,16,17,18,"In","Total",null,null,null,null,null,null,"NEVIN","Ace","Eag","Bir","Par","Bog","Bg+","Sno","Score"]
[null,"Dist.",630,640,970,274,550,252,596,581,530,{"$f":"SUM(C16:K16)","v":5023},{"$f":"L16+L12","v":8764},null,null,null,null,null,null,"Front",{"$f":"COUNTIF(C14:K14,\"1\")","v":0},{"$f":"COUNTConditionColorCells($C$14:$K$14,V15)","v":0},{"$f":"COUNTConditionColorCells($C$14:$K$14,W15)","v":0},1,3,5,{"$f":"COUNTIF(C14:K14,\"8\")","v":0},{"$f":"L14","v":45}]
[null,"Par",5,4,5,3,4,3,4,5,4,{"$f":"SUM(C17:K17)","v":37},{"$f":"L17+L13","v":69},null,null,null,null,null,null,"Back",{"$f":"COUNTIF(C18:K18,\"1\")","v":0},{"$f":"COUNTConditionColorCells($C$18:$K$18,V15)","v":0},{"$f":"COUNTConditionColorCells($C$18:$K$18,W15)","v":0},1,2,6,{"$f":"COUNTIF(C18:K18,\"8\")","v":0},{"$f":"L18","v":53}]
[null,"Score",5,7,7,4,6,4,7,7,6,{"$f":"SUM(C18:K18)","v":53},98,null,null,null,null,null,null,"Total",{"$f":"U16+U17","v":0},{"$f":"V16+V17","v":0},0,2,5,11,{"$f":"AA16+AA17","v":0},{"$f":"M18","v":98}]
[]
[]
[null,null,null,null,null,"Hole",1,2,3,4,5,6,7,8,9,"Out","RENNY"]
[null,null,null,null,null,"Dist.",523,519,386,551,392,257,465,323,285,{"$f":"SUM(G22:O22)","v":3701}]
[null,null,null,null,null,"Par",4,4,4,4,4,3,4,3,3,{"$f":"SUM(G23:O23)","v":33}]
[null,null,null,null,null,"Score",4,8,5,6,5,5,5,5,4,47]
[null,null,null,null,null,"Hole",10,11,12,13,14,15,16,17,18,"In","Total",null,null,"RENNY","Ace","Eag","Bir","Par","Bog","Bg+","Sno","Score"]
[null,null,null,null,null,"Dist.",538,1042,617,974,564,378,302,517,826,{"$f":"SUM(G26:O26)","v":5758},{"$f":"P26+P22","v":9459},null,null,"Front",{"$f":"COUNTIF(G24:O24,\"1\")","v":0},{"$f":"COUNTConditionColorCells($G$24:$O$24,V25)","v":0},{"$f":"COUNTConditionColorCells($G$24:$O$24,W25)","v":0},1,4,4,{"$f":"COUNTIF(G24:O24,\"8\")","v":1},{"$f":"P24","v":47}]
[null,null,null,null,null,"Par",4,5,4,5,4,3,3,4,5,{"$f":"SUM(G27:O27)","v":37},{"$f":"P27+P23","v":70},null,null,"Back",{"$f":"COUNTIF(G28:O28,\"1\")","v":0},{"$f":"COUNTConditionColorCells($G$28:$O$28,V25)","v":0},{"$f":"COUNTConditionColorCells($G$28:$O$28,W25)","v":0},0,2,7,{"$f":"COUNTIF(G28:O28,\"8\")","v":2},{"$f":"P28","v":58}]
[null,null,null,null,null,"Score",6,9,5,8,7,4,5,6,8,{"$f":"SUM(G28:O28)","v":58},105,null,null,"Total",{"$f":"U26+U27","v":0},{"$f":"V26+V27","v":0},0,1,6,11,3,{"$f":"Q28","v":105}]
[]
[null,"Nevin #2 - Play from short cement pad (not long pad behind creek).",null,null,null,null,null,null,null,null,null,null,"Player"]
[null,null,null,null,null,null,null,null,null,null,null,null,"Witness 1"]
[null,"Turn in your completed, signed score sheet before 9pm",null,null,null,null,null,null,null,null,null,null,"Witness 2"]
[null,"at Divine Barrel Brewery (3701 N. Davidson St).",null,null,null,null,null,null,null,null,null,null,"Witness 3",null,null,null,null,null,null,"FINAL","Ace","Eag","Bir","Par","Bog","Bg+","Sno","Score"]
[null,null,null,null,null,null,null,null,null,null,null,null,null,null,null,null,null,null,null,"TOTAL",{"$f":"SUM(U28,U18,U8)","v":0},{"$f":"SUM(V28,V18,V8)","v":0},0,6,17,31,3,298]

{"sheet":"ChRo","index":13,"n_rows":34,"n_cols":28,"rows_kept":34,"cut":false,"hidden":false,"merged":[[0,0,33,0],[0,16,3,16],[0,17,33,17],[1,20,1,24],[1,26,1,27],[10,12,13,12],[20,16,23,16],[29,1,29,10],[29,12,29,13],[30,1,30,10],[30,12,30,13],[31,1,31,10],[31,12,31,13],[32,1,32,10],[32,12,32,13]]}
["2019 Charlotte Iron Man",null,null,null,null,"Hole",1,2,3,4,5,6,7,8,9,"Out","ANGRY"]
[null,null,null,null,null,"Dist.",235,158,222,439,801,491,282,567,268,{"$f":"SUM(G2:O2)","v":3463},null,null,null,"Name","Christopher Rowe",null,null,null,null,"Div","Iron Men"]
[null,null,null,null,null,"Par",3,3,3,4,5,4,3,4,3,{"$f":"SUM(G3:O3)","v":32}]
[null,null,null,null,null,"Score",2,2,3,4,5,4,3,5,3,31]
[null,null,null,null,null,"Hole",10,11,12,13,14,15,16,17,18,"In","Total",null,null,"ANGRY","Ace","Eag","Bir","Par","Bog","Bg+","Sno","Score"]
[null,null,null,null,null,"Dist.",563,465,215,409,333,702,431,282,814,{"$f":"SUM(G6:O6)","v":4214},{"$f":"P6+P2","v":7677},null,null,"Front",{"$f":"COUNTIF(G4:O4,\"1\")","v":0},{"$f":"COUNTConditionColorCells($G$4:$O$4,V5)","v":0},{"$f":"COUNTConditionColorCells($G$4:$O$4,W5)","v":2},6,1,0,{"$f":"COUNTIF(G4:O4,\"8\")","v":0},{"$f":"P4","v":31}]
[null,null,null,null,null,"Par",4,4,3,4,3,5,4,3,5,{"$f":"SUM(G7:O7)","v":35},{"$f":"P7+P3","v":67},null,null,"Back",{"$f":"COUNTIF(G8:O8,\"1\")","v":0},{"$f":"COUNTConditionColorCells($G$8:$O$8,V5)","v":0},{"$f":"COUNTConditionColorCells($G$8:$O$8,W5)","v":2},{"$f":"COUNTConditionColorCells($G$8:$O$8,X5)","v":6},{"$f":"COUNTConditionColorCells($G$8:$O$8,Y5)","v":1},0,{"$f":"COUNTIF(G8:O8,\"8\")","v":0},{"$f":"P8","v":34}]
[null,null,null,null,null,"Score",4,3,3,3,3,5,4,3,6,{"$f":"SUM(G8:O8)","v":34},65,null,null,"Total",{"$f":"U6+U7","v":0},{"$f":"V6+V7","v":0},4,12,2,0,0,{"$f":"Q8","v":65}]
[]
[]
[null,"Hole",1,2,3,4,5,6,7,8,9,"Out","NEVIN"]
[null,"Dist.",491,240,375,538,656,317,202,329,593,{"$f":"SUM(C12:K12)","v":3741}]
[null,"Par",4,3,3,4,5,3,3,3,4,{"$f":"SUM(C13:K13)","v":32}]
[null,"Score",4,3,3,4,4,3,3,3,4,31]
[null,"Hole",10,11,12,13,14,15,16,17,18,"In","Total",null,null,null,null,null,null,"NEVIN","Ace","Eag","Bir","Par","Bog","Bg+","Sno","Score"]
[null,"Dist.",630,640,970,274,550,252,596,581,530,{"$f":"SUM(C16:K16)","v":5023},{"$f":"L16+L12","v":8764},null,null,null,null,null,null,"Front",{"$f":"COUNTIF(C14:K14,\"1\")","v":0},{"$f":"COUNTConditionColorCells($C$14:$K$14,V15)","v":0},{"$f":"COUNTConditionColorCells($C$14:$K$14,W15)","v":1},8,0,0,{"$f":"COUNTIF(C14:K14,\"8\")","v":0},{"$f":"L14","v":31}]
[null,"Par",5,4,5,3,4,3,4,5,4,{"$f":"SUM(C17:K17)","v":37},{"$f":"L17+L13","v":69},null,null,null,null,null,null,"Back",{"$f":"COUNTIF(C18:K18,\"1\")","v":0},{"$f":"COUNTConditionColorCells($C$18:$K$18,V15)","v":0},{"$f":"COUNTConditionColorCells($C$18:$K$18,W15)","v":1},7,1,0,{"$f":"COUNTIF(C18:K18,\"8\")","v":0},{"$f":"L18","v":37}]
[null,"Score",4,4,6,3,4,3,4,5,4,{"$f":"SUM(C18:K18)","v":37},68,null,null,null,null,null,null,"Total",{"$f":"U16+U17","v":0},{"$f":"V16+V17","v":0},2,15,1,0,{"$f":"AA16+AA17","v":0},{"$f":"M18","v":68}]
[]
[]
[null,null,null,null,null,"Hole",1,2,3,4,5,6,7,8,9,"Out","RENNY"]
[null,null,null,null,null,"Dist.",523,519,386,551,392,257,465,323,285,{"$f":"SUM(G22:O22)","v":3701}]
[null,null,null,null,null,"Par",4,4,4,4,4,3,4,3,3,{"$f":"SUM(G23:O23)","v":33}]
[null,null,null,null,null,"Score",4,5,4,5,3,4,6,4,3,38]
[null,null,null,null,null,"Hole",10,11,12,13,14,15,16,17,18,"In","Total",null,null,"RENNY","Ace","Eag","Bir","Par","Bog","Bg+","Sno","Score"]
[null,null,null,null,null,"Dist.",538,1042,617,974,564,378,302,517,826,{"$f":"SUM(G26:O26)","v":5758},{"$f":"P26+P22","v":9459},null,null,"Front",{"$f":"COUNTIF(G24:O24,\"1\")","v":0},{"$f":"COUNTConditionColorCells($G$24:$O$24,V25)","v":0},{"$f":"COUNTConditionColorCells($G$24:$O$24,W25)","v":1},3,4,1,{"$f":"COUNTIF(G24:O24,\"8\")","v":0},{"$f":"P24","v":38}]
[null,null,null,null,null,"Par",4,5,4,5,4,3,3,4,5,{"$f":"SUM(G27:O27)","v":37},{"$f":"P27+P23","v":70},null,null,"Back",{"$f":"COUNTIF(G28:O28,\"1\")","v":0},{"$f":"COUNTConditionColorCells($G$28:$O$28,V25)","v":0},{"$f":"COUNTConditionColorCells($G$28:$O$28,W25)","v":0},8,0,1,{"$f":"COUNTIF(G28:O28,\"8\")","v":0},{"$f":"P28","v":39}]
[null,null,null,null,null,"Score",4,5,4,7,4,3,3,4,5,{"$f":"SUM(G28:O28)","v":39},77,null,null,"Total",{"$f":"U26+U27","v":0},{"$f":"V26+V27","v":0},1,11,4,2,0,{"$f":"Q28","v":77}]
[]
[null,"Nevin #2 - Play from short cement pad (not long pad behind creek).",null,null,null,null,null,null,null,null,null,null,"Player"]
[null,null,null,null,null,null,null,null,null,null,null,null,"Witness 1"]
[null,"Turn in your completed, signed score sheet before 9pm",null,null,null,null,null,null,null,null,null,null,"Witness 2"]
[null,"at Divine Barrel Brewery (3701 N. Davidson St).",null,null,null,null,null,null,null,null,null,null,"Witness 3",null,null,null,null,null,null,"FINAL","Ace","Eag","Bir","Par","Bog","Bg+","Sno","Score"]
[null,null,null,null,null,null,null,null,null,null,null,null,null,null,null,null,null,null,null,"TOTAL",{"$f":"SUM(U28,U18,U8)","v":0},{"$f":"SUM(V28,V18,V8)","v":0},7,38,7,2,0,210]

{"sheet":"CoRo","index":14,"n_rows":34,"n_cols":28,"rows_kept":34,"cut":false,"hidden":false,"merged":[[0,0,33,0],[0,16,3,16],[0,17,33,17],[1,20,1,24],[1,26,1,27],[10,12,13,12],[20,16,23,16],[29,1,29,10],[29,12,29,13],[30,1,30,10],[30,12,30,13],[31,1,31,10],[31,12,31,13],[32,1,32,10],[32,12,32,13]]}
["2019 Charlotte Iron Man",null,null,null,null,"Hole",1,2,3,4,5,6,7,8,9,"Out","ANGRY"]
[null,null,null,null,null,"Dist.",235,158,222,439,801,491,282,567,268,{"$f":"SUM(G2:O2)","v":3463},null,null,null,"Name",5,null,null,null,null,"Div","Iron Men"]
[null,null,null,null,null,"Par",3,3,3,4,5,4,3,4,3,{"$f":"SUM(G3:O3)","v":32}]
[null,null,null,null,null,"Score",2,5,3,4,6,6,3,6,3,38]
[null,null,null,null,null,"Hole",10,11,12,13,14,15,16,17,18,"In","Total",null,null,"ANGRY","Ace","Eag","Bir","Par","Bog","Bg+","Sno","Score"]
[null,null,null,null,null,"Dist.",563,465,215,409,333,702,431,282,814,{"$f":"SUM(G6:O6)","v":4214},{"$f":"P6+P2","v":7677},null,null,"Front",{"$f":"COUNTIF(G4:O4,\"1\")","v":0},{"$f":"COUNTConditionColorCells($G$4:$O$4,V5)","v":0},{"$f":"COUNTConditionColorCells($G$4:$O$4,W5)","v":1},4,1,3,{"$f":"COUNTIF(G4:O4,\"8\")","v":0},{"$f":"P4","v":38}]
[null,null,null,null,null,"Par",4,4,3,4,3,5,4,3,5,{"$f":"SUM(G7:O7)","v":35},{"$f":"P7+P3","v":67},null,null,"Back",{"$f":"COUNTIF(G8:O8,\"1\")","v":0},{"$f":"COUNTConditionColorCells($G$8:$O$8,V5)","v":0},{"$f":"COUNTConditionColorCells($G$8:$O$8,W5)","v":0},{"$f":"COUNTConditionColorCells($G$8:$O$8,X5)","v":5},{"$f":"COUNTConditionColorCells($G$8:$O$8,Y5)","v":4},0,{"$f":"COUNTIF(G8:O8,\"8\")","v":0},{"$f":"P8","v":39}]
[null,null,null,null,null,"Score",5,4,3,4,4,6,4,4,5,{"$f":"SUM(G8:O8)","v":39},77,null,null,"Total",{"$f":"U6+U7","v":0},{"$f":"V6+V7","v":0},1,9,5,3,0,{"$f":"Q8","v":77}]
[]
[]
[null,"Hole",1,2,3,4,5,6,7,8,9,"Out","NEVIN"]
[null,"Dist.",491,240,375,538,656,317,202,329,593,{"$f":"SUM(C12:K12)","v":3741}]
[null,"Par",4,3,3,4,5,3,3,3,4,{"$f":"SUM(C13:K13)","v":32}]
[null,"Score",4,3,3,4,7,4,4,5,5,39]
[null,"Hole",10,11,12,13,14,15,16,17,18,"In","Total",null,null,null,null,null,null,"NEVIN","Ace","Eag","Bir","Par","Bog","Bg+","Sno","Score"]
[null,"Dist.",630,640,970,274,550,252,596,581,530,{"$f":"SUM(C16:K16)","v":5023},{"$f":"L16+L12","v":8764},null,null,null,null,null,null,"Front",{"$f":"COUNTIF(C14:K14,\"1\")","v":0},{"$f":"COUNTConditionColorCells($C$14:$K$14,V15)","v":0},{"$f":"COUNTConditionColorCells($C$14:$K$14,W15)","v":0},4,3,2,{"$f":"COUNTIF(C14:K14,\"8\")","v":0},{"$f":"L14","v":39}]
[null,"Par",5,4,5,3,4,3,4,5,4,{"$f":"SUM(C17:K17)","v":37},{"$f":"L17+L13","v":69},null,null,null,null,null,null,"Back",{"$f":"COUNTIF(C18:K18,\"1\")","v":0},{"$f":"COUNTConditionColorCells($C$18:$K$18,V15)","v":0},{"$f":"COUNTConditionColorCells($C$18:$K$18,W15)","v":1},3,1,4,{"$f":"COUNTIF(C18:K18,\"8\")","v":1},{"$f":"L18","v":46}]
[null,"Score",5,3,7,4,6,3,6,8,4,{"$f":"SUM(C18:K18)","v":46},85,null,null,null,null,null,null,"Total",{"$f":"U16+U17","v":0},{"$f":"V16+V17","v":0},1,7,4,6,{"$f":"AA16+AA17","v":1},{"$f":"M18","v":85}]
[]
[]
[null,null,null,null,null,"Hole",1,2,3,4,5,6,7,8,9,"Out","RENNY"]
[null,null,null,null,null,"Dist.",523,519,386,551,392,257,465,323,285,{"$f":"SUM(G22:O22)","v":3701}]
[null,null,null,null,null,"Par",4,4,4,4,4,3,4,3,3,{"$f":"SUM(G23:O23)","v":33}]
[null,null,null,null,null,"Score",3,4,4,4,3,5,5,2,3,33]
[null,null,null,null,null,"Hole",10,11,12,13,14,15,16,17,18,"In","Total",null,null,"RENNY","Ace","Eag","Bir","Par","Bog","Bg+","Sno","Score"]
[null,null,null,null,null,"Dist.",538,1042,617,974,564,378,302,517,826,{"$f":"SUM(G26:O26)","v":5758},{"$f":"P26+P22","v":9459},null,null,"Front",{"$f":"COUNTIF(G24:O24,\"1\")","v":0},{"$f":"COUNTConditionColorCells($G$24:$O$24,V25)","v":0},{"$f":"COUNTConditionColorCells($G$24:$O$24,W25)","v":3},4,1,1,{"$f":"COUNTIF(G24:O24,\"8\")","v":0},{"$f":"P24","v":33}]
[null,null,null,null,null,"Par",4,5,4,5,4,3,3,4,5,{"$f":"SUM(G27:O27)","v":37},{"$f":"P27+P23","v":70},null,null,"Back",{"$f":"COUNTIF(G28:O28,\"1\")","v":0},{"$f":"COUNTConditionColorCells($G$28:$O$28,V25)","v":0},{"$f":"COUNTConditionColorCells($G$28:$O$28,W25)","v":0},2,3,4,{"$f":"COUNTIF(G28:O28,\"8\")","v":1},{"$f":"P28","v":50}]
[null,null,null,null,null,"Score",6,7,4,6,8,4,3,6,6,{"$f":"SUM(G28:O28)","v":50},83,null,null,"Total",{"$f":"U26+U27","v":0},{"$f":"V26+V27","v":0},3,6,4,5,1,{"$f":"Q28","v":83}]
[]
[null,"Nevin #2 - Play from short cement pad (not long pad behind creek).",null,null,null,null,null,null,null,null,null,null,"Player"]
[null,null,null,null,null,null,null,null,null,null,null,null,"Witness 1"]
[null,"Turn in your completed, signed score sheet before 9pm",null,null,null,null,null,null,null,null,null,null,"Witness 2"]
[null,"at Divine Barrel Brewery (3701 N. Davidson St).",null,null,null,null,null,null,null,null,null,null,"Witness 3",null,null,null,null,null,null,"FINAL","Ace","Eag","Bir","Par","Bog","Bg+","Sno","Score"]
[null,null,null,null,null,null,null,null,null,null,null,null,null,null,null,null,null,null,null,"TOTAL",{"$f":"SUM(U28,U18,U8)","v":0},{"$f":"SUM(V28,V18,V8)","v":0},5,22,13,14,2,245]

{"sheet":"CoNo","index":15,"n_rows":34,"n_cols":28,"rows_kept":34,"cut":false,"hidden":false,"merged":[[0,0,33,0],[0,16,3,16],[0,17,33,17],[1,20,1,24],[1,26,1,27],[10,12,13,12],[20,16,23,16],[29,1,29,10],[29,12,29,13],[30,1,30,10],[30,12,30,13],[31,1,31,10],[31,12,31,13],[32,1,32,10],[32,12,32,13]]}
["2019 Charlotte Iron Man",null,null,null,null,"Hole",1,2,3,4,5,6,7,8,9,"Out","ANGRY"]
[null,null,null,null,null,"Dist.",235,158,222,439,801,491,282,567,268,{"$f":"SUM(G2:O2)","v":3463},null,null,null,"Name","Corey Nortz",null,null,null,null,"Div","Iron Men"]
[null,null,null,null,null,"Par",3,3,3,4,5,4,3,4,3,{"$f":"SUM(G3:O3)","v":32}]
[null,null,null,null,null,"Score",4,4,3,4,6,5,5,5,3,39]
[null,null,null,null,null,"Hole",10,11,12,13,14,15,16,17,18,"In","Total",null,null,"ANGRY","Ace","Eag","Bir","Par","Bog","Bg+","Sno","Score"]
[null,null,null,null,null,"Dist.",563,465,215,409,333,702,431,282,814,{"$f":"SUM(G6:O6)","v":4214},{"$f":"P6+P2","v":7677},null,null,"Front",{"$f":"COUNTIF(G4:O4,\"1\")","v":0},{"$f":"COUNTConditionColorCells($G$4:$O$4,V5)","v":0},{"$f":"COUNTConditionColorCells($G$4:$O$4,W5)","v":0},3,5,1,{"$f":"COUNTIF(G4:O4,\"8\")","v":0},{"$f":"P4","v":39}]
[null,null,null,null,null,"Par",4,4,3,4,3,5,4,3,5,{"$f":"SUM(G7:O7)","v":35},{"$f":"P7+P3","v":67},null,null,"Back",{"$f":"COUNTIF(G8:O8,\"1\")","v":0},{"$f":"COUNTConditionColorCells($G$8:$O$8,V5)","v":0},{"$f":"COUNTConditionColorCells($G$8:$O$8,W5)","v":1},{"$f":"COUNTConditionColorCells($G$8:$O$8,X5)","v":3},{"$f":"COUNTConditionColorCells($G$8:$O$8,Y5)","v":4},1,{"$f":"COUNTIF(G8:O8,\"8\")","v":0},{"$f":"P8","v":40}]
[null,null,null,null,null,"Score",5,6,3,4,4,5,3,4,6,{"$f":"SUM(G8:O8)","v":40},79,null,null,"Total",{"$f":"U6+U7","v":0},{"$f":"V6+V7","v":0},1,6,9,2,0,{"$f":"Q8","v":79}]
[]
[]
[null,"Hole",1,2,3,4,5,6,7,8,9,"Out","NEVIN"]
[null,"Dist.",491,240,375,538,656,317,202,329,593,{"$f":"SUM(C12:K12)","v":3741}]
[null,"Par",4,3,3,4,5,3,3,3,4,{"$f":"SUM(C13:K13)","v":32}]
[null,"Score",3,3,3,4,7,5,2,3,5,35]
[null,"Hole",10,11,12,13,14,15,16,17,18,"In","Total",null,null,null,null,null,null,"NEVIN","Ace","Eag","Bir","Par","Bog","Bg+","Sno","Score"]
[null,"Dist.",630,640,970,274,550,252,596,581,530,{"$f":"SUM(C16:K16)","v":5023},{"$f":"L16+L12","v":8764},null,null,null,null,null,null,"Front",{"$f":"COUNTIF(C14:K14,\"1\")","v":0},{"$f":"COUNTConditionColorCells($C$14:$K$14,V15)","v":0},{"$f":"COUNTConditionColorCells($C$14:$K$14,W15)","v":2},4,1,2,{"$f":"COUNTIF(C14:K14,\"8\")","v":0},{"$f":"L14","v":35}]
[null,"Par",5,4,5,3,4,3,4,5,4,{"$f":"SUM(C17:K17)","v":37},{"$f":"L17+L13","v":69},null,null,null,null,null,null,"Back",{"$f":"COUNTIF(C18:K18,\"1\")","v":0},{"$f":"COUNTConditionColorCells($C$18:$K$18,V15)","v":0},{"$f":"COUNTConditionColorCells($C$18:$K$18,W15)","v":0},4,2,3,{"$f":"COUNTIF(C18:K18,\"8\")","v":0},{"$f":"L18","v":45}]
[null,"Score",7,5,7,3,4,3,5,7,4,{"$f":"SUM(C18:K18)","v":45},80,null,null,null,null,null,null,"Total",{"$f":"U16+U17","v":0},{"$f":"V16+V17","v":0},2,8,3,5,{"$f":"AA16+AA17","v":0},{"$f":"M18","v":80}]
[]
[]
[null,null,null,null,null,"Hole",1,2,3,4,5,6,7,8,9,"Out","RENNY"]
[null,null,null,null,null,"Dist.",523,519,386,551,392,257,465,323,285,{"$f":"SUM(G22:O22)","v":3701}]
[null,null,null,null,null,"Par",4,4,4,4,4,3,4,3,3,{"$f":"SUM(G23:O23)","v":33}]
[null,null,null,null,null,"Score",4,4,4,4,4,3,6,4,3,36]
[null,null,null,null,null,"Hole",10,11,12,13,14,15,16,17,18,"In","Total",null,null,"RENNY","Ace","Eag","Bir","Par","Bog","Bg+","Sno","Score"]
[null,null,null,null,null,"Dist.",538,1042,617,974,564,378,302,517,826,{"$f":"SUM(G26:O26)","v":5758},{"$f":"P26+P22","v":9459},null,null,"Front",{"$f":"COUNTIF(G24:O24,\"1\")","v":0},{"$f":"COUNTConditionColorCells($G$24:$O$24,V25)","v":0},{"$f":"COUNTConditionColorCells($G$24:$O$24,W25)","v":0},7,1,1,{"$f":"COUNTIF(G24:O24,\"8\")","v":0},{"$f":"P24","v":36}]
[null,null,null,null,null,"Par",4,5,4,5,4,3,3,4,5,{"$f":"SUM(G27:O27)","v":37},{"$f":"P27+P23","v":70},null,null,"Back",{"$f":"COUNTIF(G28:O28,\"1\")","v":0},{"$f":"COUNTConditionColorCells($G$28:$O$28,V25)","v":0},{"$f":"COUNTConditionColorCells($G$28:$O$28,W25)","v":0},5,2,2,{"$f":"COUNTIF(G28:O28,\"8\")","v":0},{"$f":"P28","v":43}]
[null,null,null,null,null,"Score",5,7,4,6,4,3,3,6,5,{"$f":"SUM(G28:O28)","v":43},79,null,null,"Total",{"$f":"U26+U27","v":0},{"$f":"V26+V27","v":0},0,12,3,3,0,{"$f":"Q28","v":79}]
[]
[null,"Nevin #2 - Play from short cement pad (not long pad behind creek).",null,null,null,null,null,null,null,null,null,null,"Player"]
[null,null,null,null,null,null,null,null,null,null,null,null,"Witness 1"]
[null,"Turn in your completed, signed score sheet before 9pm",null,null,null,null,null,null,null,null,null,null,"Witness 2"]
[null,"at Divine Barrel Brewery (3701 N. Davidson St).",null,null,null,null,null,null,null,null,null,null,"Witness 3",null,null,null,null,null,null,"FINAL","Ace","Eag","Bir","Par","Bog","Bg+","Sno","Score"]
[null,null,null,null,null,null,null,null,null,null,null,null,null,null,null,null,null,null,null,"TOTAL",{"$f":"SUM(U28,U18,U8)","v":0},{"$f":"SUM(V28,V18,V8)","v":0},3,26,15,10,0,238]

{"sheet":"DaHo","index":16,"n_rows":34,"n_cols":28,"rows_kept":34,"cut":false,"hidden":false,"merged":[[0,0,33,0],[0,16,3,16],[0,17,33,17],[1,20,1,24],[1,26,1,27],[10,12,13,12],[20,16,23,16],[29,1,29,10],[29,12,29,13],[30,1,30,10],[30,12,30,13],[31,1,31,10],[31,12,31,13],[32,1,32,10],[32,12,32,13]]}
["2019 Charlotte Iron Man",null,null,null,null,"Hole",1,2,3,4,5,6,7,8,9,"Out","ANGRY"]
[null,null,null,null,null,"Dist.",235,158,222,439,801,491,282,567,268,{"$f":"SUM(G2:O2)","v":3463},null,null,null,"Name","Dakota Hopkins",null,null,null,null,"Div","Iron Men"]
[null,null,null,null,null,"Par",3,3,3,4,5,4,3,4,3,{"$f":"SUM(G3:O3)","v":32}]
[null,null,null,null,null,"Score",4,2,2,4,5,3,4,4,3,31]
[null,null,null,null,null,"Hole",10,11,12,13,14,15,16,17,18,"In","Total",null,null,"ANGRY","Ace","Eag","Bir","Par","Bog","Bg+","Sno","Score"]
[null,null,null,null,null,"Dist.",563,465,215,409,333,702,431,282,814,{"$f":"SUM(G6:O6)","v":4214},{"$f":"P6+P2","v":7677},null,null,"Front",{"$f":"COUNTIF(G4:O4,\"1\")","v":0},{"$f":"COUNTConditionColorCells($G$4:$O$4,V5)","v":0},{"$f":"COUNTConditionColorCells($G$4:$O$4,W5)","v":3},4,2,0,{"$f":"COUNTIF(G4:O4,\"8\")","v":0},{"$f":"P4","v":31}]
[null,null,null,null,null,"Par",4,4,3,4,3,5,4,3,5,{"$f":"SUM(G7:O7)","v":35},{"$f":"P7+P3","v":67},null,null,"Back",{"$f":"COUNTIF(G8:O8,\"1\")","v":0},{"$f":"COUNTConditionColorCells($G$8:$O$8,V5)","v":0},{"$f":"COUNTConditionColorCells($G$8:$O$8,W5)","v":1},{"$f":"COUNTConditionColorCells($G$8:$O$8,X5)","v":5},{"$f":"COUNTConditionColorCells($G$8:$O$8,Y5)","v":2},1,{"$f":"COUNTIF(G8:O8,\"8\")","v":0},{"$f":"P8","v":42}]
[null,null,null,null,null,"Score",10,4,3,5,3,5,3,3,6,{"$f":"SUM(G8:O8)","v":42},73,null,null,"Total",{"$f":"U6+U7","v":0},{"$f":"V6+V7","v":0},4,9,4,1,0,{"$f":"Q8","v":73}]
[]
[]
[null,"Hole",1,2,3,4,5,6,7,8,9,"Out","NEVIN"]
[null,"Dist.",491,240,375,538,656,317,202,329,593,{"$f":"SUM(C12:K12)","v":3741}]
[null,"Par",4,3,3,4,5,3,3,3,4,{"$f":"SUM(C13:K13)","v":32}]
[null,"Score",3,2,4,4,5,2,4,4,4,32]
[null,"Hole",10,11,12,13,14,15,16,17,18,"In","Total",null,null,null,null,null,null,"NEVIN","Ace","Eag","Bir","Par","Bog","Bg+","Sno","Score"]
[null,"Dist.",630,640,970,274,550,252,596,581,530,{"$f":"SUM(C16:K16)","v":5023},{"$f":"L16+L12","v":8764},null,null,null,null,null,null,"Front",{"$f":"COUNTIF(C14:K14,\"1\")","v":0},{"$f":"COUNTConditionColorCells($C$14:$K$14,V15)","v":0},{"$f":"COUNTConditionColorCells($C$14:$K$14,W15)","v":3},3,3,0,{"$f":"COUNTIF(C14:K14,\"8\")","v":0},{"$f":"L14","v":32}]
[null,"Par",5,4,5,3,4,3,4,5,4,{"$f":"SUM(C17:K17)","v":37},{"$f":"L17+L13","v":69},null,null,null,null,null,null,"Back",{"$f":"COUNTIF(C18:K18,\"1\")","v":0},{"$f":"COUNTConditionColorCells($C$18:$K$18,V15)","v":0},{"$f":"COUNTConditionColorCells($C$18:$K$18,W15)","v":3},5,1,0,{"$f":"COUNTIF(C18:K18,\"8\")","v":0},{"$f":"L18","v":35}]
[null,"Score",5,5,5,2,3,3,4,5,3,{"$f":"SUM(C18:K18)","v":35},67,null,null,null,null,null,null,"Total",{"$f":"U16+U17","v":0},{"$f":"V16+V17","v":0},6,8,4,0,{"$f":"AA16+AA17","v":0},{"$f":"M18","v":67}]
[]
[]
[null,null,null,null,null,"Hole",1,2,3,4,5,6,7,8,9,"Out","RENNY"]
[null,null,null,null,null,"Dist.",523,519,386,551,392,257,465,323,285,{"$f":"SUM(G22:O22)","v":3701}]
[null,null,null,null,null,"Par",4,4,4,4,4,3,4,3,3,{"$f":"SUM(G23:O23)","v":33}]
[null,null,null,null,null,"Score",3,4,3,5,4,3,6,3,2,33]
[null,null,null,null,null,"Hole",10,11,12,13,14,15,16,17,18,"In","Total",null,null,"RENNY","Ace","Eag","Bir","Par","Bog","Bg+","Sno","Score"]
[null,null,null,null,null,"Dist.",538,1042,617,974,564,378,302,517,826,{"$f":"SUM(G26:O26)","v":5758},{"$f":"P26+P22","v":9459},null,null,"Front",{"$f":"COUNTIF(G24:O24,\"1\")","v":0},{"$f":"COUNTConditionColorCells($G$24:$O$24,V25)","v":0},{"$f":"COUNTConditionColorCells($G$24:$O$24,W25)","v":3},4,1,1,{"$f":"COUNTIF(G24:O24,\"8\")","v":0},{"$f":"P24","v":33}]
[null,null,null,null,null,"Par",4,5,4,5,4,3,3,4,5,{"$f":"SUM(G27:O27)","v":37},{"$f":"P27+P23","v":70},null,null,"Back",{"$f":"COUNTIF(G28:O28,\"1\")","v":0},{"$f":"COUNTConditionColorCells($G$28:$O$28,V25)","v":0},{"$f":"COUNTConditionColorCells($G$28:$O$28,W25)","v":1},3,4,1,{"$f":"COUNTIF(G28:O28,\"8\")","v":0},{"$f":"P28","v":44}]
[null,null,null,null,null,"Score",4,5,3,9,5,4,4,5,5,{"$f":"SUM(G28:O28)","v":44},77,null,null,"Total",{"$f":"U26+U27","v":0},{"$f":"V26+V27","v":0},4,7,5,2,0,{"$f":"Q28","v":77}]
[]
[null,"Nevin #2 - Play from short cement pad (not long pad behind creek).",null,null,null,null,null,null,null,null,null,null,"Player"]
[null,null,null,null,null,null,null,null,null,null,null,null,"Witness 1"]
[null,"Turn in your completed, signed score sheet before 9pm",null,null,null,null,null,null,null,null,null,null,"Witness 2"]
[null,"at Divine Barrel Brewery (3701 N. Davidson St).",null,null,null,null,null,null,null,null,null,null,"Witness 3",null,null,null,null,null,null,"FINAL","Ace","Eag","Bir","Par","Bog","Bg+","Sno","Score"]
[null,null,null,null,null,null,null,null,null,null,null,null,null,null,null,null,null,null,null,"TOTAL",{"$f":"SUM(U28,U18,U8)","v":0},{"$f":"SUM(V28,V18,V8)","v":0},14,24,13,3,0,217]

{"sheet":"DaLo","index":17,"n_rows":34,"n_cols":28,"rows_kept":34,"cut":false,"hidden":false,"merged":[[0,0,33,0],[0,16,3,16],[0,17,33,17],[1,20,1,24],[1,26,1,27],[10,12,13,12],[20,16,23,16],[29,1,29,10],[29,12,29,13],[30,1,30,10],[30,12,30,13],[31,1,31,10],[31,12,31,13],[32,1,32,10],[32,12,32,13]]}
["2019 Charlotte Iron Man",null,null,null,null,"Hole",1,2,3,4,5,6,7,8,9,"Out","ANGRY"]
[null,null,null,null,null,"Dist.",235,158,222,439,801,491,282,567,268,{"$f":"SUM(G2:O2)","v":3463},null,null,null,"Name","David Love",null,null,null,null,"Div","Iron Men"]
[null,null,null,null,null,"Par",3,3,3,4,5,4,3,4,3,{"$f":"SUM(G3:O3)","v":32}]
[null,null,null,null,null,"Score",3,3,2,4,5,5,4,3,3,32]
[null,null,null,null,null,"Hole",10,11,12,13,14,15,16,17,18,"In","Total",null,null,"ANGRY","Ace","Eag","Bir","Par","Bog","Bg+","Sno","Score"]
[null,null,null,null,null,"Dist.",563,465,215,409,333,702,431,282,814,{"$f":"SUM(G6:O6)","v":4214},{"$f":"P6+P2","v":7677},null,null,"Front",{"$f":"COUNTIF(G4:O4,\"1\")","v":0},{"$f":"COUNTConditionColorCells($G$4:$O$4,V5)","v":0},{"$f":"COUNTConditionColorCells($G$4:$O$4,W5)","v":2},5,2,0,{"$f":"COUNTIF(G4:O4,\"8\")","v":0},{"$f":"P4","v":32}]
[null,null,null,null,null,"Par",4,4,3,4,3,5,4,3,5,{"$f":"SUM(G7:O7)","v":35},{"$f":"P7+P3","v":67},null,null,"Back",{"$f":"COUNTIF(G8:O8,\"1\")","v":0},{"$f":"COUNTConditionColorCells($G$8:$O$8,V5)","v":0},{"$f":"COUNTConditionColorCells($G$8:$O$8,W5)","v":4},{"$f":"COUNTConditionColorCells($G$8:$O$8,X5)","v":5},{"$f":"COUNTConditionColorCells($G$8:$O$8,Y5)","v":0},0,{"$f":"COUNTIF(G8:O8,\"8\")","v":0},{"$f":"P8","v":31}]
[null,null,null,null,null,"Score",4,3,3,3,3,4,4,3,4,{"$f":"SUM(G8:O8)","v":31},63,null,null,"Total",{"$f":"U6+U7","v":0},{"$f":"V6+V7","v":0},6,10,2,0,0,{"$f":"Q8","v":63}]
[]
[]
[null,"Hole",1,2,3,4,5,6,7,8,9,"Out","NEVIN"]
[null,"Dist.",491,240,375,538,656,317,202,329,593,{"$f":"SUM(C12:K12)","v":3741}]
[null,"Par",4,3,3,4,5,3,3,3,4,{"$f":"SUM(C13:K13)","v":32}]
[null,"Score",3,3,2,3,5,2,3,3,4,28]
[null,"Hole",10,11,12,13,14,15,16,17,18,"In","Total",null,null,null,null,null,null,"NEVIN","Ace","Eag","Bir","Par","Bog","Bg+","Sno","Score"]
[null,"Dist.",630,640,970,274,550,252,596,581,530,{"$f":"SUM(C16:K16)","v":5023},{"$f":"L16+L12","v":8764},null,null,null,null,null,null,"Front",{"$f":"COUNTIF(C14:K14,\"1\")","v":0},{"$f":"COUNTConditionColorCells($C$14:$K$14,V15)","v":0},{"$f":"COUNTConditionColorCells($C$14:$K$14,W15)","v":4},5,0,0,{"$f":"COUNTIF(C14:K14,\"8\")","v":0},{"$f":"L14","v":28}]
[null,"Par",5,4,5,3,4,3,4,5,4,{"$f":"SUM(C17:K17)","v":37},{"$f":"L17+L13","v":69},null,null,null,null,null,null,"Back",{"$f":"COUNTIF(C18:K18,\"1\")","v":0},{"$f":"COUNTConditionColorCells($C$18:$K$18,V15)","v":0},{"$f":"COUNTConditionColorCells($C$18:$K$18,W15)","v":3},5,1,0,{"$f":"COUNTIF(C18:K18,\"8\")","v":0},{"$f":"L18","v":35}]
[null,"Score",4,4,4,2,4,3,4,6,4,{"$f":"SUM(C18:K18)","v":35},63,null,null,null,null,null,null,"Total",{"$f":"U16+U17","v":0},{"$f":"V16+V17","v":0},7,10,1,0,{"$f":"AA16+AA17","v":0},{"$f":"M18","v":63}]
[]
[]
[null,null,null,null,null,"Hole",1,2,3,4,5,6,7,8,9,"Out","RENNY"]
[null,null,null,null,null,"Dist.",523,519,386,551,392,257,465,323,285,{"$f":"SUM(G22:O22)","v":3701}]
[null,null,null,null,null,"Par",4,4,4,4,4,3,4,3,3,{"$f":"SUM(G23:O23)","v":33}]
[null,null,null,null,null,"Score",5,3,4,4,3,3,5,3,2,32]
[null,null,null,null,null,"Hole",10,11,12,13,14,15,16,17,18,"In","Total",null,null,"RENNY","Ace","Eag","Bir","Par","Bog","Bg+","Sno","Score"]
[null,null,null,null,null,"Dist.",538,1042,617,974,564,378,302,517,826,{"$f":"SUM(G26:O26)","v":5758},{"$f":"P26+P22","v":9459},null,null,"Front",{"$f":"COUNTIF(G24:O24,\"1\")","v":0},{"$f":"COUNTConditionColorCells($G$24:$O$24,V25)","v":0},{"$f":"COUNTConditionColorCells($G$24:$O$24,W25)","v":3},4,2,0,{"$f":"COUNTIF(G24:O24,\"8\")","v":0},{"$f":"P24","v":32}]
[null,null,null,null,null,"Par",4,5,4,5,4,3,3,4,5,{"$f":"SUM(G27:O27)","v":37},{"$f":"P27+P23","v":70},null,null,"Back",{"$f":"COUNTIF(G28:O28,\"1\")","v":0},{"$f":"COUNTConditionColorCells($G$28:$O$28,V25)","v":1},{"$f":"COUNTConditionColorCells($G$28:$O$28,W25)","v":2},3,2,1,{"$f":"COUNTIF(G28:O28,\"8\")","v":0},{"$f":"P28","v":37}]
[null,null,null,null,null,"Score",5,4,4,7,5,3,3,3,3,{"$f":"SUM(G28:O28)","v":37},69,null,null,"Total",{"$f":"U26+U27","v":0},{"$f":"V26+V27","v":1},5,7,4,1,0,{"$f":"Q28","v":69}]
[]
[null,"Nevin #2 - Play from short cement pad (not long pad behind creek).",null,null,null,null,null,null,null,null,null,null,"Player"]
[null,null,null,null,null,null,null,null,null,null,null,null,"Witness 1"]
[null,"Turn in your completed, signed score sheet before 9pm",null,null,null,null,null,null,null,null,null,null,"Witness 2"]
[null,"at Divine Barrel Brewery (3701 N. Davidson St).",null,null,null,null,null,null,null,null,null,null,"Witness 3",null,null,null,null,null,null,"FINAL","Ace","Eag","Bir","Par","Bog","Bg+","Sno","Score"]
[null,null,null,null,null,null,null,null,null,null,null,null,null,null,null,null,null,null,null,"TOTAL",{"$f":"SUM(U28,U18,U8)","v":0},{"$f":"SUM(V28,V18,V8)","v":1},18,27,7,1,0,195]

{"sheet":"DeNe","index":18,"n_rows":34,"n_cols":28,"rows_kept":34,"cut":false,"hidden":false,"merged":[[0,0,33,0],[0,16,3,16],[0,17,33,17],[1,20,1,24],[1,26,1,27],[10,12,13,12],[20,16,23,16],[29,1,29,10],[29,12,29,13],[30,1,30,10],[30,12,30,13],[31,1,31,10],[31,12,31,13],[32,1,32,10],[32,12,32,13]]}
["2019 Charlotte Iron Man",null,null,null,null,"Hole",1,2,3,4,5,6,7,8,9,"Out","ANGRY"]
[null,null,null,null,null,"Dist.",235,158,222,439,801,491,282,567,268,{"$f":"SUM(G2:O2)","v":3463},null,null,null,"Name","Devon Neely",null,null,null,null,"Div","Iron Men"]
[null,null,null,null,null,"Par",3,3,3,4,5,4,3,4,3,{"$f":"SUM(G3:O3)","v":32}]
[null,null,null,null,null,"Score",3,3,3,4,7,4,4,4,5,37]
[null,null,null,null,null,"Hole",10,11,12,13,14,15,16,17,18,"In","Total",null,null,"ANGRY","Ace","Eag","Bir","Par","Bog","Bg+","Sno","Score"]
[null,null,null,null,null,"Dist.",563,465,215,409,333,702,431,282,814,{"$f":"SUM(G6:O6)","v":4214},{"$f":"P6+P2","v":7677},null,null,"Front",{"$f":"COUNTIF(G4:O4,\"1\")","v":0},{"$f":"COUNTConditionColorCells($G$4:$O$4,V5)","v":0},{"$f":"COUNTConditionColorCells($G$4:$O$4,W5)","v":0},6,1,2,{"$f":"COUNTIF(G4:O4,\"8\")","v":0},{"$f":"P4","v":37}]
[null,null,null,null,null,"Par",4,4,3,4,3,5,4,3,5,{"$f":"SUM(G7:O7)","v":35},{"$f":"P7+P3","v":67},null,null,"Back",{"$f":"COUNTIF(G8:O8,\"1\")","v":0},{"$f":"COUNTConditionColorCells($G$8:$O$8,V5)","v":0},{"$f":"COUNTConditionColorCells($G$8:$O$8,W5)","v":2},{"$f":"COUNTConditionColorCells($G$8:$O$8,X5)","v":4},{"$f":"COUNTConditionColorCells($G$8:$O$8,Y5)","v":2},1,{"$f":"COUNTIF(G8:O8,\"8\")","v":0},{"$f":"P8","v":37}]
[null,null,null,null,null,"Score",4,3,3,4,3,6,3,4,7,{"$f":"SUM(G8:O8)","v":37},74,null,null,"Total",{"$f":"U6+U7","v":0},{"$f":"V6+V7","v":0},2,10,3,3,0,{"$f":"Q8","v":74}]
[]
[]
[null,"Hole",1,2,3,4,5,6,7,8,9,"Out","NEVIN"]
[null,"Dist.",491,240,375,538,656,317,202,329,593,{"$f":"SUM(C12:K12)","v":3741}]
[null,"Par",4,3,3,4,5,3,3,3,4,{"$f":"SUM(C13:K13)","v":32}]
[null,"Score",5,3,4,3,7,4,3,4,4,37]
[null,"Hole",10,11,12,13,14,15,16,17,18,"In","Total",null,null,null,null,null,null,"NEVIN","Ace","Eag","Bir","Par","Bog","Bg+","Sno","Score"]
[null,"Dist.",630,640,970,274,550,252,596,581,530,{"$f":"SUM(C16:K16)","v":5023},{"$f":"L16+L12","v":8764},null,null,null,null,null,null,"Front",{"$f":"COUNTIF(C14:K14,\"1\")","v":0},{"$f":"COUNTConditionColorCells($C$14:$K$14,V15)","v":0},{"$f":"COUNTConditionColorCells($C$14:$K$14,W15)","v":1},3,4,1,{"$f":"COUNTIF(C14:K14,\"8\")","v":0},{"$f":"L14","v":37}]
[null,"Par",5,4,5,3,4,3,4,5,4,{"$f":"SUM(C17:K17)","v":37},{"$f":"L17+L13","v":69},null,null,null,null,null,null,"Back",{"$f":"COUNTIF(C18:K18,\"1\")","v":0},{"$f":"COUNTConditionColorCells($C$18:$K$18,V15)","v":0},{"$f":"COUNTConditionColorCells($C$18:$K$18,W15)","v":1},6,2,0,{"$f":"COUNTIF(C18:K18,\"8\")","v":0},{"$f":"L18","v":38}]
[null,"Score",5,5,5,3,4,2,4,6,4,{"$f":"SUM(C18:K18)","v":38},75,null,null,null,null,null,null,"Total",{"$f":"U16+U17","v":0},{"$f":"V16+V17","v":0},2,9,6,1,{"$f":"AA16+AA17","v":0},{"$f":"M18","v":75}]
[]
[]
[null,null,null,null,null,"Hole",1,2,3,4,5,6,7,8,9,"Out","RENNY"]
[null,null,null,null,null,"Dist.",523,519,386,551,392,257,465,323,285,{"$f":"SUM(G22:O22)","v":3701}]
[null,null,null,null,null,"Par",4,4,4,4,4,3,4,3,3,{"$f":"SUM(G23:O23)","v":33}]
[null,null,null,null,null,"Score",5,3,5,4,4,4,4,3,3,35]
[null,null,null,null,null,"Hole",10,11,12,13,14,15,16,17,18,"In","Total",null,null,"RENNY","Ace","Eag","Bir","Par","Bog","Bg+","Sno","Score"]
[null,null,null,null,null,"Dist.",538,1042,617,974,564,378,302,517,826,{"$f":"SUM(G26:O26)","v":5758},{"$f":"P26+P22","v":9459},null,null,"Front",{"$f":"COUNTIF(G24:O24,\"1\")","v":0},{"$f":"COUNTConditionColorCells($G$24:$O$24,V25)","v":0},{"$f":"COUNTConditionColorCells($G$24:$O$24,W25)","v":1},5,3,0,{"$f":"COUNTIF(G24:O24,\"8\")","v":0},{"$f":"P24","v":35}]
[null,null,null,null,null,"Par",4,5,4,5,4,3,3,4,5,{"$f":"SUM(G27:O27)","v":37},{"$f":"P27+P23","v":70},null,null,"Back",{"$f":"COUNTIF(G28:O28,\"1\")","v":0},{"$f":"COUNTConditionColorCells($G$28:$O$28,V25)","v":0},{"$f":"COUNTConditionColorCells($G$28:$O$28,W25)","v":0},4,2,3,{"$f":"COUNTIF(G28:O28,\"8\")","v":1},{"$f":"P28","v":46}]
[null,null,null,null,null,"Score",4,5,4,8,6,3,5,5,6,{"$f":"SUM(G28:O28)","v":46},81,null,null,"Total",{"$f":"U26+U27","v":0},{"$f":"V26+V27","v":0},1,9,5,3,1,{"$f":"Q28","v":81}]
[]
[null,"Nevin #2 - Play from short cement pad (not long pad behind creek).",null,null,null,null,null,null,null,null,null,null,"Player"]
[null,null,null,null,null,null,null,null,null,null,null,null,"Witness 1"]
[null,"Turn in your completed, signed score sheet before 9pm",null,null,null,null,null,null,null,null,null,null,"Witness 2"]
[null,"at Divine Barrel Brewery (3701 N. Davidson St).",null,null,null,null,null,null,null,null,null,null,"Witness 3",null,null,null,null,null,null,"FINAL","Ace","Eag","Bir","Par","Bog","Bg+","Sno","Score"]
[null,null,null,null,null,null,null,null,null,null,null,null,null,null,null,null,null,null,null,"TOTAL",{"$f":"SUM(U28,U18,U8)","v":0},{"$f":"SUM(V28,V18,V8)","v":0},5,28,14,7,1,230]

{"sheet":"HaMc","index":19,"n_rows":34,"n_cols":28,"rows_kept":34,"cut":false,"hidden":false,"merged":[[0,0,33,0],[0,16,3,16],[0,17,33,17],[1,20,1,24],[1,26,1,27],[10,12,13,12],[20,16,23,16],[29,1,29,10],[29,12,29,13],[30,1,30,10],[30,12,30,13],[31,1,31,10],[31,12,31,13],[32,1,32,10],[32,12,32,13]]}
["2019 Charlotte Iron Man",null,null,null,null,"Hole",1,2,3,4,5,6,7,8,9,"Out","ANGRY"]
[null,null,null,null,null,"Dist.",235,158,222,439,801,491,282,567,268,{"$f":"SUM(G2:O2)","v":3463},null,null,null,"Name","Hannable McGarity",null,null,null,null,"Div","Iron Men"]
[null,null,null,null,null,"Par",3,3,3,4,5,4,3,4,3,{"$f":"SUM(G3:O3)","v":32}]
[null,null,null,null,null,"Score",4,3,3,3,6,5,5,5,3,37]
[null,null,null,null,null,"Hole",10,11,12,13,14,15,16,17,18,"In","Total",null,null,"ANGRY","Ace","Eag","Bir","Par","Bog","Bg+","Sno","Score"]
[null,null,null,null,null,"Dist.",563,465,215,409,333,702,431,282,814,{"$f":"SUM(G6:O6)","v":4214},{"$f":"P6+P2","v":7677},null,null,"Front",{"$f":"COUNTIF(G4:O4,\"1\")","v":0},{"$f":"COUNTConditionColorCells($G$4:$O$4,V5)","v":0},{"$f":"COUNTConditionColorCells($G$4:$O$4,W5)","v":1},3,4,1,{"$f":"COUNTIF(G4:O4,\"8\")","v":0},{"$f":"P4","v":37}]
[null,null,null,null,null,"Par",4,4,3,4,3,5,4,3,5,{"$f":"SUM(G7:O7)","v":35},{"$f":"P7+P3","v":67},null,null,"Back",{"$f":"COUNTIF(G8:O8,\"1\")","v":0},{"$f":"COUNTConditionColorCells($G$8:$O$8,V5)","v":0},{"$f":"COUNTConditionColorCells($G$8:$O$8,W5)","v":0},{"$f":"COUNTConditionColorCells($G$8:$O$8,X5)","v":2},{"$f":"COUNTConditionColorCells($G$8:$O$8,Y5)","v":3},4,{"$f":"COUNTIF(G8:O8,\"8\")","v":1},{"$f":"P8","v":50}]
[null,null,null,null,null,"Score",6,4,5,5,4,8,4,4,10,{"$f":"SUM(G8:O8)","v":50},87,null,null,"Total",{"$f":"U6+U7","v":0},{"$f":"V6+V7","v":0},1,5,7,5,1,{"$f":"Q8","v":87}]
[]
[]
[null,"Hole",1,2,3,4,5,6,7,8,9,"Out","NEVIN"]
[null,"Dist.",491,240,375,538,656,317,202,329,593,{"$f":"SUM(C12:K12)","v":3741}]
[null,"Par",4,3,3,4,5,3,3,3,4,{"$f":"SUM(C13:K13)","v":32}]
[null,"Score",6,3,3,7,5,7,4,4,6,45]
[null,"Hole",10,11,12,13,14,15,16,17,18,"In","Total",null,null,null,null,null,null,"NEVIN","Ace","Eag","Bir","Par","Bog","Bg+","Sno","Score"]
[null,"Dist.",630,640,970,274,550,252,596,581,530,{"$f":"SUM(C16:K16)","v":5023},{"$f":"L16+L12","v":8764},null,null,null,null,null,null,"Front",{"$f":"COUNTIF(C14:K14,\"1\")","v":0},{"$f":"COUNTConditionColorCells($C$14:$K$14,V15)","v":0},{"$f":"COUNTConditionColorCells($C$14:$K$14,W15)","v":0},3,2,4,{"$f":"COUNTIF(C14:K14,\"8\")","v":0},{"$f":"L14","v":45}]
[null,"Par",5,4,5,3,4,3,4,5,4,{"$f":"SUM(C17:K17)","v":37},{"$f":"L17+L13","v":69},null,null,null,null,null,null,"Back",{"$f":"COUNTIF(C18:K18,\"1\")","v":0},{"$f":"COUNTConditionColorCells($C$18:$K$18,V15)","v":0},{"$f":"COUNTConditionColorCells($C$18:$K$18,W15)","v":0},3,4,2,{"$f":"COUNTIF(C18:K18,\"8\")","v":0},{"$f":"L18","v":49}]
[null,"Score",6,4,9,4,5,4,4,9,4,{"$f":"SUM(C18:K18)","v":49},94,null,null,null,null,null,null,"Total",{"$f":"U16+U17","v":0},{"$f":"V16+V17","v":0},0,6,6,6,{"$f":"AA16+AA17","v":0},{"$f":"M18","v":94}]
[]
[]
[null,null,null,null,null,"Hole",1,2,3,4,5,6,7,8,9,"Out","RENNY"]
[null,null,null,null,null,"Dist.",523,519,386,551,392,257,465,323,285,{"$f":"SUM(G22:O22)","v":3701}]
[null,null,null,null,null,"Par",4,4,4,4,4,3,4,3,3,{"$f":"SUM(G23:O23)","v":33}]
[null,null,null,null,null,"Score",5,5,3,4,5,3,6,4,3,38]
[null,null,null,null,null,"Hole",10,11,12,13,14,15,16,17,18,"In","Total",null,null,"RENNY","Ace","Eag","Bir","Par","Bog","Bg+","Sno","Score"]
[null,null,null,null,null,"Dist.",538,1042,617,974,564,378,302,517,826,{"$f":"SUM(G26:O26)","v":5758},{"$f":"P26+P22","v":9459},null,null,"Front",{"$f":"COUNTIF(G24:O24,\"1\")","v":0},{"$f":"COUNTConditionColorCells($G$24:$O$24,V25)","v":0},{"$f":"COUNTConditionColorCells($G$24:$O$24,W25)","v":1},3,4,1,{"$f":"COUNTIF(G24:O24,\"8\")","v":0},{"$f":"P24","v":38}]
[null,null,null,null,null,"Par",4,5,4,5,4,3,3,4,5,{"$f":"SUM(G27:O27)","v":37},{"$f":"P27+P23","v":70},null,null,"Back",{"$f":"COUNTIF(G28:O28,\"1\")","v":0},{"$f":"COUNTConditionColorCells($G$28:$O$28,V25)","v":0},{"$f":"COUNTConditionColorCells($G$28:$O$28,W25)","v":0},1,3,5,{"$f":"COUNTIF(G28:O28,\"8\")","v":0},{"$f":"P28","v":50}]
[null,null,null,null,null,"Score",6,7,5,7,6,3,4,6,6,{"$f":"SUM(G28:O28)","v":50},88,null,null,"Total",{"$f":"U26+U27","v":0},{"$f":"V26+V27","v":0},1,4,7,6,0,{"$f":"Q28","v":88}]
[]
[null,"Nevin #2 - Play from short cement pad (not long pad behind creek).",null,null,null,null,null,null,null,null,null,null,"Player"]
[null,null,null,null,null,null,null,null,null,null,null,null,"Witness 1"]
[null,"Turn in your completed, signed score sheet before 9pm",null,null,null,null,null,null,null,null,null,null,"Witness 2"]
[null,"at Divine Barrel Brewery (3701 N. Davidson St).",null,null,null,null,null,null,null,null,null,null,"Witness 3",null,null,null,null,null,null,"FINAL","Ace","Eag","Bir","Par","Bog","Bg+","Sno","Score"]
[null,null,null,null,null,null,null,null,null,null,null,null,null,null,null,null,null,null,null,"TOTAL",{"$f":"SUM(U28,U18,U8)","v":0},{"$f":"SUM(V28,V18,V8)","v":0},2,15,20,17,1,269]

{"sheet":"JaFa","index":20,"n_rows":34,"n_cols":28,"rows_kept":34,"cut":false,"hidden":false,"merged":[[0,0,33,0],[0,16,3,16],[0,17,33,17],[1,20,1,24],[1,26,1,27],[10,12,13,12],[20,16,23,16],[29,1,29,10],[29,12,29,13],[30,1,30,10],[30,12,30,13],[31,1,31,10],[31,12,31,13],[32,1,32,10],[32,12,32,13]]}
["2019 Charlotte Iron Man",null,null,null,null,"Hole",1,2,3,4,5,6,7,8,9,"Out","ANGRY"]
[null,null,null,null,null,"Dist.",235,158,222,439,801,491,282,567,268,{"$f":"SUM(G2:O2)","v":3463},null,null,null,"Name","James Farmer",null,null,null,null,"Div","Iron Men"]
[null,null,null,null,null,"Par",3,3,3,4,5,4,3,4,3,{"$f":"SUM(G3:O3)","v":32}]
[null,null,null,null,null,"Score",3,3,3,4,7,4,5,6,4,39]
[null,null,null,null,null,"Hole",10,11,12,13,14,15,16,17,18,"In","Total",null,null,"ANGRY","Ace","Eag","Bir","Par","Bog","Bg+","Sno","Score"]
[null,null,null,null,null,"Dist.",563,465,215,409,333,702,431,282,814,{"$f":"SUM(G6:O6)","v":4214},{"$f":"P6+P2","v":7677},null,null,"Front",{"$f":"COUNTIF(G4:O4,\"1\")","v":0},{"$f":"COUNTConditionColorCells($G$4:$O$4,V5)","v":0},{"$f":"COUNTConditionColorCells($G$4:$O$4,W5)","v":0},5,1,3,{"$f":"COUNTIF(G4:O4,\"8\")","v":0},{"$f":"P4","v":39}]
[null,null,null,null,null,"Par",4,4,3,4,3,5,4,3,5,{"$f":"SUM(G7:O7)","v":35},{"$f":"P7+P3","v":67},null,null,"Back",{"$f":"COUNTIF(G8:O8,\"1\")","v":0},{"$f":"COUNTConditionColorCells($G$8:$O$8,V5)","v":0},{"$f":"COUNTConditionColorCells($G$8:$O$8,W5)","v":3},{"$f":"COUNTConditionColorCells($G$8:$O$8,X5)","v":2},{"$f":"COUNTConditionColorCells($G$8:$O$8,Y5)","v":3},1,{"$f":"COUNTIF(G8:O8,\"8\")","v":0},{"$f":"P8","v":38}]
[null,null,null,null,null,"Score",7,3,4,5,3,6,3,3,4,{"$f":"SUM(G8:O8)","v":38},77,null,null,"Total",{"$f":"U6+U7","v":0},{"$f":"V6+V7","v":0},3,7,4,4,0,{"$f":"Q8","v":77}]
[]
[]
[null,"Hole",1,2,3,4,5,6,7,8,9,"Out","NEVIN"]
[null,"Dist.",491,240,375,538,656,317,202,329,593,{"$f":"SUM(C12:K12)","v":3741}]
[null,"Par",4,3,3,4,5,3,3,3,4,{"$f":"SUM(C13:K13)","v":32}]
[null,"Score",4,3,4,5,7,4,3,3,6,39]
[null,"Hole",10,11,12,13,14,15,16,17,18,"In","Total",null,null,null,null,null,null,"NEVIN","Ace","Eag","Bir","Par","Bog","Bg+","Sno","Score"]
[null,"Dist.",630,640,970,274,550,252,596,581,530,{"$f":"SUM(C16:K16)","v":5023},{"$f":"L16+L12","v":8764},null,null,null,null,null,null,"Front",{"$f":"COUNTIF(C14:K14,\"1\")","v":0},{"$f":"COUNTConditionColorCells($C$14:$K$14,V15)","v":0},{"$f":"COUNTConditionColorCells($C$14:$K$14,W15)","v":0},4,3,2,{"$f":"COUNTIF(C14:K14,\"8\")","v":0},{"$f":"L14","v":39}]
[null,"Par",5,4,5,3,4,3,4,5,4,{"$f":"SUM(C17:K17)","v":37},{"$f":"L17+L13","v":69},null,null,null,null,null,null,"Back",{"$f":"COUNTIF(C18:K18,\"1\")","v":0},{"$f":"COUNTConditionColorCells($C$18:$K$18,V15)","v":0},{"$f":"COUNTConditionColorCells($C$18:$K$18,W15)","v":0},2,5,2,{"$f":"COUNTIF(C18:K18,\"8\")","v":0},{"$f":"L18","v":48}]
[null,"Score",6,5,6,3,7,3,7,6,5,{"$f":"SUM(C18:K18)","v":48},87,null,null,null,null,null,null,"Total",{"$f":"U16+U17","v":0},{"$f":"V16+V17","v":0},0,6,8,4,{"$f":"AA16+AA17","v":0},{"$f":"M18","v":87}]
[]
[]
[null,null,null,null,null,"Hole",1,2,3,4,5,6,7,8,9,"Out","RENNY"]
[null,null,null,null,null,"Dist.",523,519,386,551,392,257,465,323,285,{"$f":"SUM(G22:O22)","v":3701}]
[null,null,null,null,null,"Par",4,4,4,4,4,3,4,3,3,{"$f":"SUM(G23:O23)","v":33}]
[null,null,null,null,null,"Score",4,4,5,4,5,2,5,3,2,34]
[null,null,null,null,null,"Hole",10,11,12,13,14,15,16,17,18,"In","Total",null,null,"RENNY","Ace","Eag","Bir","Par","Bog","Bg+","Sno","Score"]
[null,null,null,null,null,"Dist.",538,1042,617,974,564,378,302,517,826,{"$f":"SUM(G26:O26)","v":5758},{"$f":"P26+P22","v":9459},null,null,"Front",{"$f":"COUNTIF(G24:O24,\"1\")","v":0},{"$f":"COUNTConditionColorCells($G$24:$O$24,V25)","v":0},{"$f":"COUNTConditionColorCells($G$24:$O$24,W25)","v":2},4,3,0,{"$f":"COUNTIF(G24:O24,\"8\")","v":0},{"$f":"P24","v":34}]
[null,null,null,null,null,"Par",4,5,4,5,4,3,3,4,5,{"$f":"SUM(G27:O27)","v":37},{"$f":"P27+P23","v":70},null,null,"Back",{"$f":"COUNTIF(G28:O28,\"1\")","v":0},{"$f":"COUNTConditionColorCells($G$28:$O$28,V25)","v":0},{"$f":"COUNTConditionColorCells($G$28:$O$28,W25)","v":0},5,1,3,{"$f":"COUNTIF(G28:O28,\"8\")","v":1},{"$f":"P28","v":45}]
[null,null,null,null,null,"Score",4,6,4,8,6,3,3,4,7,{"$f":"SUM(G28:O28)","v":45},79,null,null,"Total",{"$f":"U26+U27","v":0},{"$f":"V26+V27","v":0},2,9,4,3,1,{"$f":"Q28","v":79}]
[]
[null,"Nevin #2 - Play from short cement pad (not long pad behind creek).",null,null,null,null,null,null,null,null,null,null,"Player"]
[null,null,null,null,null,null,null,null,null,null,null,null,"Witness 1"]
[null,"Turn in your completed, signed score sheet before 9pm",null,null,null,null,null,null,null,null,null,null,"Witness 2"]
[null,"at Divine Barrel Brewery (3701 N. Davidson St).",null,null,null,null,null,null,null,null,null,null,"Witness 3",null,null,null,null,null,null,"FINAL","Ace","Eag","Bir","Par","Bog","Bg+","Sno","Score"]
[null,null,null,null,null,null,null,null,null,null,null,null,null,null,null,null,null,null,null,"TOTAL",{"$f":"SUM(U28,U18,U8)","v":0},{"$f":"SUM(V28,V18,V8)","v":0},5,22,16,11,1,243]

{"sheet":"JaGr","index":21,"n_rows":34,"n_cols":28,"rows_kept":34,"cut":false,"hidden":false,"merged":[[0,0,33,0],[0,16,3,16],[0,17,33,17],[1,20,1,24],[1,26,1,27],[10,12,13,12],[20,16,23,16],[29,1,29,10],[29,12,29,13],[30,1,30,10],[30,12,30,13],[31,1,31,10],[31,12,31,13],[32,1,32,10],[32,12,32,13]]}
["2019 Charlotte Iron Man",null,null,null,null,"Hole",1,2,3,4,5,6,7,8,9,"Out","ANGRY"]
[null,null,null,null,null,"Dist.",235,158,222,439,801,491,282,567,268,{"$f":"SUM(G2:O2)","v":3463},null,null,null,"Name","James Graves",null,null,null,null,"Div","Iron Men"]
[null,null,null,null,null,"Par",3,3,3,4,5,4,3,4,3,{"$f":"SUM(G3:O3)","v":32}]
[null,null,null,null,null,"Score",6,3,4,3,7,5,4,5,4,41]
[null,null,null,null,null,"Hole",10,11,12,13,14,15,16,17,18,"In","Total",null,null,"ANGRY","Ace","Eag","Bir","Par","Bog","Bg+","Sno","Score"]
[null,null,null,null,null,"Dist.",563,465,215,409,333,702,431,282,814,{"$f":"SUM(G6:O6)","v":4214},{"$f":"P6+P2","v":7677},null,null,"Front",{"$f":"COUNTIF(G4:O4,\"1\")","v":0},{"$f":"COUNTConditionColorCells($G$4:$O$4,V5)","v":0},{"$f":"COUNTConditionColorCells($G$4:$O$4,W5)","v":1},1,5,2,{"$f":"COUNTIF(G4:O4,\"8\")","v":0},{"$f":"P4","v":41}]
[null,null,null,null,null,"Par",4,4,3,4,3,5,4,3,5,{"$f":"SUM(G7:O7)","v":35},{"$f":"P7+P3","v":67},null,null,"Back",{"$f":"COUNTIF(G8:O8,\"1\")","v":0},{"$f":"COUNTConditionColorCells($G$8:$O$8,V5)","v":0},{"$f":"COUNTConditionColorCells($G$8:$O$8,W5)","v":1},{"$f":"COUNTConditionColorCells($G$8:$O$8,X5)","v":4},{"$f":"COUNTConditionColorCells($G$8:$O$8,Y5)","v":3},1,{"$f":"COUNTIF(G8:O8,\"8\")","v":0},{"$f":"P8","v":39}]
[null,null,null,null,null,"Score",5,4,3,4,4,7,3,3,6,{"$f":"SUM(G8:O8)","v":39},80,null,null,"Total",{"$f":"U6+U7","v":0},{"$f":"V6+V7","v":0},2,5,8,3,0,{"$f":"Q8","v":80}]
[]
[]
[null,"Hole",1,2,3,4,5,6,7,8,9,"Out","NEVIN"]
[null,"Dist.",491,240,375,538,656,317,202,329,593,{"$f":"SUM(C12:K12)","v":3741}]
[null,"Par",4,3,3,4,5,3,3,3,4,{"$f":"SUM(C13:K13)","v":32}]
[null,"Score",5,3,4,5,5,3,3,3,5,36]
[null,"Hole",10,11,12,13,14,15,16,17,18,"In","Total",null,null,null,null,null,null,"NEVIN","Ace","Eag","Bir","Par","Bog","Bg+","Sno","Score"]
[null,"Dist.",630,640,970,274,550,252,596,581,530,{"$f":"SUM(C16:K16)","v":5023},{"$f":"L16+L12","v":8764},null,null,null,null,null,null,"Front",{"$f":"COUNTIF(C14:K14,\"1\")","v":0},{"$f":"COUNTConditionColorCells($C$14:$K$14,V15)","v":0},{"$f":"COUNTConditionColorCells($C$14:$K$14,W15)","v":0},5,4,0,{"$f":"COUNTIF(C14:K14,\"8\")","v":0},{"$f":"L14","v":36}]
[null,"Par",5,4,5,3,4,3,4,5,4,{"$f":"SUM(C17:K17)","v":37},{"$f":"L17+L13","v":69},null,null,null,null,null,null,"Back",{"$f":"COUNTIF(C18:K18,\"1\")","v":0},{"$f":"COUNTConditionColorCells($C$18:$K$18,V15)","v":0},{"$f":"COUNTConditionColorCells($C$18:$K$18,W15)","v":0},4,2,3,{"$f":"COUNTIF(C18:K18,\"8\")","v":1},{"$f":"L18","v":47}]
[null,"Score",5,5,7,3,5,3,8,7,4,{"$f":"SUM(C18:K18)","v":47},83,null,null,null,null,null,null,"Total",{"$f":"U16+U17","v":0},{"$f":"V16+V17","v":0},0,9,6,3,{"$f":"AA16+AA17","v":1},{"$f":"M18","v":83}]
[]
[]
[null,null,null,null,null,"Hole",1,2,3,4,5,6,7,8,9,"Out","RENNY"]
[null,null,null,null,null,"Dist.",523,519,386,551,392,257,465,323,285,{"$f":"SUM(G22:O22)","v":3701}]
[null,null,null,null,null,"Par",4,4,4,4,4,3,4,3,3,{"$f":"SUM(G23:O23)","v":33}]
[null,null,null,null,null,"Score",4,5,4,4,5,4,7,3,3,39]
[null,null,null,null,null,"Hole",10,11,12,13,14,15,16,17,18,"In","Total",null,null,"RENNY","Ace","Eag","Bir","Par","Bog","Bg+","Sno","Score"]
[null,null,null,null,null,"Dist.",538,1042,617,974,564,378,302,517,826,{"$f":"SUM(G26:O26)","v":5758},{"$f":"P26+P22","v":9459},null,null,"Front",{"$f":"COUNTIF(G24:O24,\"1\")","v":0},{"$f":"COUNTConditionColorCells($G$24:$O$24,V25)","v":0},{"$f":"COUNTConditionColorCells($G$24:$O$24,W25)","v":0},5,3,1,{"$f":"COUNTIF(G24:O24,\"8\")","v":0},{"$f":"P24","v":39}]
[null,null,null,null,null,"Par",4,5,4,5,4,3,3,4,5,{"$f":"SUM(G27:O27)","v":37},{"$f":"P27+P23","v":70},null,null,"Back",{"$f":"COUNTIF(G28:O28,\"1\")","v":0},{"$f":"COUNTConditionColorCells($G$28:$O$28,V25)","v":0},{"$f":"COUNTConditionColorCells($G$28:$O$28,W25)","v":0},1,4,4,{"$f":"COUNTIF(G28:O28,\"8\")","v":0},{"$f":"P28","v":51}]
[null,null,null,null,null,"Score",6,7,4,9,5,4,4,6,6,{"$f":"SUM(G28:O28)","v":51},90,null,null,"Total",{"$f":"U26+U27","v":0},{"$f":"V26+V27","v":0},0,6,7,5,0,{"$f":"Q28","v":90}]
[]
[null,"Nevin #2 - Play from short cement pad (not long pad behind creek).",null,null,null,null,null,null,null,null,null,null,"Player"]
[null,null,null,null,null,null,null,null,null,null,null,null,"Witness 1"]
[null,"Turn in your completed, signed score sheet before 9pm",null,null,null,null,null,null,null,null,null,null,"Witness 2"]
[null,"at Divine Barrel Brewery (3701 N. Davidson St).",null,null,null,null,null,null,null,null,null,null,"Witness 3",null,null,null,null,null,null,"FINAL","Ace","Eag","Bir","Par","Bog","Bg+","Sno","Score"]
[null,null,null,null,null,null,null,null,null,null,null,null,null,null,null,null,null,null,null,"TOTAL",{"$f":"SUM(U28,U18,U8)","v":0},{"$f":"SUM(V28,V18,V8)","v":0},2,20,21,11,1,253]

{"sheet":"JaHo","index":22,"n_rows":34,"n_cols":28,"rows_kept":34,"cut":false,"hidden":false,"merged":[[0,0,33,0],[0,16,3,16],[0,17,33,17],[1,20,1,24],[1,26,1,27],[10,12,13,12],[20,16,23,16],[29,1,29,10],[29,12,29,13],[30,1,30,10],[30,12,30,13],[31,1,31,10],[31,12,31,13],[32,1,32,10],[32,12,32,13]]}
["2019 Charlotte Iron Man",null,null,null,null,"Hole",1,2,3,4,5,6,7,8,9,"Out","ANGRY"]
[null,null,null,null,null,"Dist.",235,158,222,439,801,491,282,567,268,{"$f":"SUM(G2:O2)","v":3463},null,null,null,"Name","James Hopkins",null,null,null,null,"Div","Iron Men"]
[null,null,null,null,null,"Par",3,3,3,4,5,4,3,4,3,{"$f":"SUM(G3:O3)","v":32}]
[null,null,null,null,null,"Score",3,3,2,4,4,4,3,4,2,29]
[null,null,null,null,null,"Hole",10,11,12,13,14,15,16,17,18,"In","Total",null,null,"ANGRY","Ace","Eag","Bir","Par","Bog","Bg+","Sno","Score"]
[null,null,null,null,null,"Dist.",563,465,215,409,333,702,431,282,814,{"$f":"SUM(G6:O6)","v":4214},{"$f":"P6+P2","v":7677},null,null,"Front",{"$f":"COUNTIF(G4:O4,\"1\")","v":0},{"$f":"COUNTConditionColorCells($G$4:$O$4,V5)","v":0},{"$f":"COUNTConditionColorCells($G$4:$O$4,W5)","v":3},6,0,0,{"$f":"COUNTIF(G4:O4,\"8\")","v":0},{"$f":"P4","v":29}]
[null,null,null,null,null,"Par",4,4,3,4,3,5,4,3,5,{"$f":"SUM(G7:O7)","v":35},{"$f":"P7+P3","v":67},null,null,"Back",{"$f":"COUNTIF(G8:O8,\"1\")","v":0},{"$f":"COUNTConditionColorCells($G$8:$O$8,V5)","v":0},{"$f":"COUNTConditionColorCells($G$8:$O$8,W5)","v":3},{"$f":"COUNTConditionColorCells($G$8:$O$8,X5)","v":4},{"$f":"COUNTConditionColorCells($G$8:$O$8,Y5)","v":2},0,{"$f":"COUNTIF(G8:O8,\"8\")","v":0},{"$f":"P8","v":34}]
[null,null,null,null,null,"Score",5,4,2,4,4,4,4,2,5,{"$f":"SUM(G8:O8)","v":34},63,null,null,"Total",{"$f":"U6+U7","v":0},{"$f":"V6+V7","v":0},6,10,2,0,0,{"$f":"Q8","v":63}]
[]
[]
[null,"Hole",1,2,3,4,5,6,7,8,9,"Out","NEVIN"]
[null,"Dist.",491,240,375,538,656,317,202,329,593,{"$f":"SUM(C12:K12)","v":3741}]
[null,"Par",4,3,3,4,5,3,3,3,4,{"$f":"SUM(C13:K13)","v":32}]
[null,"Score",3,2,3,4,5,2,3,3,3,28]
[null,"Hole",10,11,12,13,14,15,16,17,18,"In","Total",null,null,null,null,null,null,"NEVIN","Ace","Eag","Bir","Par","Bog","Bg+","Sno","Score"]
[null,"Dist.",630,640,970,274,550,252,596,581,530,{"$f":"SUM(C16:K16)","v":5023},{"$f":"L16+L12","v":8764},null,null,null,null,null,null,"Front",{"$f":"COUNTIF(C14:K14,\"1\")","v":0},{"$f":"COUNTConditionColorCells($C$14:$K$14,V15)","v":0},{"$f":"COUNTConditionColorCells($C$14:$K$14,W15)","v":4},5,0,0,{"$f":"COUNTIF(C14:K14,\"8\")","v":0},{"$f":"L14","v":28}]
[null,"Par",5,4,5,3,4,3,4,5,4,{"$f":"SUM(C17:K17)","v":37},{"$f":"L17+L13","v":69},null,null,null,null,null,null,"Back",{"$f":"COUNTIF(C18:K18,\"1\")","v":0},{"$f":"COUNTConditionColorCells($C$18:$K$18,V15)","v":0},{"$f":"COUNTConditionColorCells($C$18:$K$18,W15)","v":4},5,0,0,{"$f":"COUNTIF(C18:K18,\"8\")","v":0},{"$f":"L18","v":33}]
[null,"Score",5,3,5,3,3,2,4,5,3,{"$f":"SUM(C18:K18)","v":33},61,null,null,null,null,null,null,"Total",{"$f":"U16+U17","v":0},{"$f":"V16+V17","v":0},8,10,0,0,{"$f":"AA16+AA17","v":0},{"$f":"M18","v":61}]
[]
[]
[null,null,null,null,null,"Hole",1,2,3,4,5,6,7,8,9,"Out","RENNY"]
[null,null,null,null,null,"Dist.",523,519,386,551,392,257,465,323,285,{"$f":"SUM(G22:O22)","v":3701}]
[null,null,null,null,null,"Par",4,4,4,4,4,3,4,3,3,{"$f":"SUM(G23:O23)","v":33}]
[null,null,null,null,null,"Score",3,3,3,3,4,4,4,3,3,30]
[null,null,null,null,null,"Hole",10,11,12,13,14,15,16,17,18,"In","Total",null,null,"RENNY","Ace","Eag","Bir","Par","Bog","Bg+","Sno","Score"]
[null,null,null,null,null,"Dist.",538,1042,617,974,564,378,302,517,826,{"$f":"SUM(G26:O26)","v":5758},{"$f":"P26+P22","v":9459},null,null,"Front",{"$f":"COUNTIF(G24:O24,\"1\")","v":0},{"$f":"COUNTConditionColorCells($G$24:$O$24,V25)","v":0},{"$f":"COUNTConditionColorCells($G$24:$O$24,W25)","v":4},4,1,0,{"$f":"COUNTIF(G24:O24,\"8\")","v":0},{"$f":"P24","v":30}]
[null,null,null,null,null,"Par",4,5,4,5,4,3,3,4,5,{"$f":"SUM(G27:O27)","v":37},{"$f":"P27+P23","v":70},null,null,"Back",{"$f":"COUNTIF(G28:O28,\"1\")","v":0},{"$f":"COUNTConditionColorCells($G$28:$O$28,V25)","v":0},{"$f":"COUNTConditionColorCells($G$28:$O$28,W25)","v":2},7,0,0,{"$f":"COUNTIF(G28:O28,\"8\")","v":0},{"$f":"P28","v":35}]
[null,null,null,null,null,"Score",4,5,3,5,4,3,3,4,4,{"$f":"SUM(G28:O28)","v":35},65,null,null,"Total",{"$f":"U26+U27","v":0},{"$f":"V26+V27","v":0},6,11,1,0,0,{"$f":"Q28","v":65}]
[]
[null,"Nevin #2 - Play from short cement pad (not long pad behind creek).",null,null,null,null,null,null,null,null,null,null,"Player"]
[null,null,null,null,null,null,null,null,null,null,null,null,"Witness 1"]
[null,"Turn in your completed, signed score sheet before 9pm",null,null,null,null,null,null,null,null,null,null,"Witness 2"]
[null,"at Divine Barrel Brewery (3701 N. Davidson St).",null,null,null,null,null,null,null,null,null,null,"Witness 3",null,null,null,null,null,null,"FINAL","Ace","Eag","Bir","Par","Bog","Bg+","Sno","Score"]
[null,null,null,null,null,null,null,null,null,null,null,null,null,null,null,null,null,null,null,"TOTAL",{"$f":"SUM(U28,U18,U8)","v":0},{"$f":"SUM(V28,V18,V8)","v":0},20,31,3,0,0,189]

{"sheet":"JiBu","index":23,"n_rows":34,"n_cols":28,"rows_kept":34,"cut":false,"hidden":false,"merged":[[0,0,33,0],[0,16,3,16],[0,17,33,17],[1,20,1,24],[1,26,1,27],[10,12,13,12],[20,16,23,16],[29,1,29,10],[29,12,29,13],[30,1,30,10],[30,12,30,13],[31,1,31,10],[31,12,31,13],[32,1,32,10],[32,12,32,13]]}
["2019 Charlotte Iron Man",null,null,null,null,"Hole",1,2,3,4,5,6,7,8,9,"Out","ANGRY"]
[null,null,null,null,null,"Dist.",235,158,222,439,801,491,282,567,268,{"$f":"SUM(G2:O2)","v":3463},null,null,null,"Name","Jim Buckalew",null,null,null,null,"Div","Iron Men"]
[null,null,null,null,null,"Par",3,3,3,4,5,4,3,4,3,{"$f":"SUM(G3:O3)","v":32}]
[null,null,null,null,null,"Score",3,2,3,4,6,5,5,5,4,37]
[null,null,null,null,null,"Hole",10,11,12,13,14,15,16,17,18,"In","Total",null,null,"ANGRY","Ace","Eag","Bir","Par","Bog","Bg+","Sno","Score"]
[null,null,null,null,null,"Dist.",563,465,215,409,333,702,431,282,814,{"$f":"SUM(G6:O6)","v":4214},{"$f":"P6+P2","v":7677},null,null,"Front",{"$f":"COUNTIF(G4:O4,\"1\")","v":0},{"$f":"COUNTConditionColorCells($G$4:$O$4,V5)","v":0},{"$f":"COUNTConditionColorCells($G$4:$O$4,W5)","v":1},3,4,1,{"$f":"COUNTIF(G4:O4,\"8\")","v":0},{"$f":"P4","v":37}]
[null,null,null,null,null,"Par",4,4,3,4,3,5,4,3,5,{"$f":"SUM(G7:O7)","v":35},{"$f":"P7+P3","v":67},null,null,"Back",{"$f":"COUNTIF(G8:O8,\"1\")","v":0},{"$f":"COUNTConditionColorCells($G$8:$O$8,V5)","v":0},{"$f":"COUNTConditionColorCells($G$8:$O$8,W5)","v":0},{"$f":"COUNTConditionColorCells($G$8:$O$8,X5)","v":5},{"$f":"COUNTConditionColorCells($G$8:$O$8,Y5)","v":4},0,{"$f":"COUNTIF(G8:O8,\"8\")","v":0},{"$f":"P8","v":39}]
[null,null,null,null,null,"Score",4,5,3,4,3,6,4,4,6,{"$f":"SUM(G8:O8)","v":39},76,null,null,"Total",{"$f":"U6+U7","v":0},{"$f":"V6+V7","v":0},1,8,8,1,0,{"$f":"Q8","v":76}]
[]
[]
[null,"Hole",1,2,3,4,5,6,7,8,9,"Out","NEVIN"]
[null,"Dist.",491,240,375,538,656,317,202,329,593,{"$f":"SUM(C12:K12)","v":3741}]
[null,"Par",4,3,3,4,5,3,3,3,4,{"$f":"SUM(C13:K13)","v":32}]
[null,"Score",5,3,4,4,5,5,3,3,4,36]
[null,"Hole",10,11,12,13,14,15,16,17,18,"In","Total",null,null,null,null,null,null,"NEVIN","Ace","Eag","Bir","Par","Bog","Bg+","Sno","Score"]
[null,"Dist.",630,640,970,274,550,252,596,581,530,{"$f":"SUM(C16:K16)","v":5023},{"$f":"L16+L12","v":8764},null,null,null,null,null,null,"Front",{"$f":"COUNTIF(C14:K14,\"1\")","v":0},{"$f":"COUNTConditionColorCells($C$14:$K$14,V15)","v":0},{"$f":"COUNTConditionColorCells($C$14:$K$14,W15)","v":0},6,2,1,{"$f":"COUNTIF(C14:K14,\"8\")","v":0},{"$f":"L14","v":36}]
[null,"Par",5,4,5,3,4,3,4,5,4,{"$f":"SUM(C17:K17)","v":37},{"$f":"L17+L13","v":69},null,null,null,null,null,null,"Back",{"$f":"COUNTIF(C18:K18,\"1\")","v":0},{"$f":"COUNTConditionColorCells($C$18:$K$18,V15)","v":0},{"$f":"COUNTConditionColorCells($C$18:$K$18,W15)","v":0},5,4,0,{"$f":"COUNTIF(C18:K18,\"8\")","v":0},{"$f":"L18","v":41}]
[null,"Score",5,4,6,3,5,3,5,6,4,{"$f":"SUM(C18:K18)","v":41},77,null,null,null,null,null,null,"Total",{"$f":"U16+U17","v":0},{"$f":"V16+V17","v":0},0,11,6,1,{"$f":"AA16+AA17","v":0},{"$f":"M18","v":77}]
[]
[]
[null,null,null,null,null,"Hole",1,2,3,4,5,6,7,8,9,"Out","RENNY"]
[null,null,null,null,null,"Dist.",523,519,386,551,392,257,465,323,285,{"$f":"SUM(G22:O22)","v":3701}]
[null,null,null,null,null,"Par",4,4,4,4,4,3,4,3,3,{"$f":"SUM(G23:O23)","v":33}]
[null,null,null,null,null,"Score",5,4,5,3,4,3,5,3,4,36]
[null,null,null,null,null,"Hole",10,11,12,13,14,15,16,17,18,"In","Total",null,null,"RENNY","Ace","Eag","Bir","Par","Bog","Bg+","Sno","Score"]
[null,null,null,null,null,"Dist.",538,1042,617,974,564,378,302,517,826,{"$f":"SUM(G26:O26)","v":5758},{"$f":"P26+P22","v":9459},null,null,"Front",{"$f":"COUNTIF(G24:O24,\"1\")","v":0},{"$f":"COUNTConditionColorCells($G$24:$O$24,V25)","v":0},{"$f":"COUNTConditionColorCells($G$24:$O$24,W25)","v":1},4,4,0,{"$f":"COUNTIF(G24:O24,\"8\")","v":0},{"$f":"P24","v":36}]
[null,null,null,null,null,"Par",4,5,4,5,4,3,3,4,5,{"$f":"SUM(G27:O27)","v":37},{"$f":"P27+P23","v":70},null,null,"Back",{"$f":"COUNTIF(G28:O28,\"1\")","v":0},{"$f":"COUNTConditionColorCells($G$28:$O$28,V25)","v":0},{"$f":"COUNTConditionColorCells($G$28:$O$28,W25)","v":0},3,3,3,{"$f":"COUNTIF(G28:O28,\"8\")","v":0},{"$f":"P28","v":46}]
[null,null,null,null,null,"Score",6,7,4,6,5,3,4,4,7,{"$f":"SUM(G28:O28)","v":46},82,null,null,"Total",{"$f":"U26+U27","v":0},{"$f":"V26+V27","v":0},1,7,7,3,0,{"$f":"Q28","v":82}]
[]
[null,"Nevin #2 - Play from short cement pad (not long pad behind creek).",null,null,null,null,null,null,null,null,null,null,"Player"]
[null,null,null,null,null,null,null,null,null,null,null,null,"Witness 1"]
[null,"Turn in your completed, signed score sheet before 9pm",null,null,null,null,null,null,null,null,null,null,"Witness 2"]
[null,"at Divine Barrel Brewery (3701 N. Davidson St).",null,null,null,null,null,null,null,null,null,null,"Witness 3",null,null,null,null,null,null,"FINAL","Ace","Eag","Bir","Par","Bog","Bg+","Sno","Score"]
[null,null,null,null,null,null,null,null,null,null,null,null,null,null,null,null,null,null,null,"TOTAL",{"$f":"SUM(U28,U18,U8)","v":0},{"$f":"SUM(V28,V18,V8)","v":0},2,26,21,5,0,235]

{"sheet":"JiZi","index":24,"n_rows":34,"n_cols":28,"rows_kept":34,"cut":false,"hidden":false,"merged":[[0,0,33,0],[0,16,3,16],[0,17,33,17],[1,20,1,24],[1,26,1,27],[10,12,13,12],[20,16,23,16],[29,1,29,10],[29,12,29,13],[30,1,30,10],[30,12,30,13],[31,1,31,10],[31,12,31,13],[32,1,32,10],[32,12,32,13]]}
["2019 Charlotte Iron Man",null,null,null,null,"Hole",1,2,3,4,5,6,7,8,9,"Out","ANGRY"]
[null,null,null,null,null,"Dist.",235,158,222,439,801,491,282,567,268,{"$f":"SUM(G2:O2)","v":3463},null,null,null,"Name","Jimmy Ziros",null,null,null,null,"Div","Iron Men"]
[null,null,null,null,null,"Par",3,3,3,4,5,4,3,4,3,{"$f":"SUM(G3:O3)","v":32}]
[null,null,null,null,null,"Score",3,3,2,4,4,3,3,3,4,29]
[null,null,null,null,null,"Hole",10,11,12,13,14,15,16,17,18,"In","Total",null,null,"ANGRY","Ace","Eag","Bir","Par","Bog","Bg+","Sno","Score"]
[null,null,null,null,null,"Dist.",563,465,215,409,333,702,431,282,814,{"$f":"SUM(G6:O6)","v":4214},{"$f":"P6+P2","v":7677},null,null,"Front",{"$f":"COUNTIF(G4:O4,\"1\")","v":0},{"$f":"COUNTConditionColorCells($G$4:$O$4,V5)","v":0},{"$f":"COUNTConditionColorCells($G$4:$O$4,W5)","v":4},4,1,0,{"$f":"COUNTIF(G4:O4,\"8\")","v":0},{"$f":"P4","v":29}]
[null,null,null,null,null,"Par",4,4,3,4,3,5,4,3,5,{"$f":"SUM(G7:O7)","v":35},{"$f":"P7+P3","v":67},null,null,"Back",{"$f":"COUNTIF(G8:O8,\"1\")","v":0},{"$f":"COUNTConditionColorCells($G$8:$O$8,V5)","v":0},{"$f":"COUNTConditionColorCells($G$8:$O$8,W5)","v":1},{"$f":"COUNTConditionColorCells($G$8:$O$8,X5)","v":5},{"$f":"COUNTConditionColorCells($G$8:$O$8,Y5)","v":2},1,{"$f":"COUNTIF(G8:O8,\"8\")","v":0},{"$f":"P8","v":38}]
[null,null,null,null,null,"Score",4,6,3,3,3,5,4,4,6,{"$f":"SUM(G8:O8)","v":38},67,null,null,"Total",{"$f":"U6+U7","v":0},{"$f":"V6+V7","v":0},5,9,3,1,0,{"$f":"Q8","v":67}]
[]
[]
[null,"Hole",1,2,3,4,5,6,7,8,9,"Out","NEVIN"]
[null,"Dist.",491,240,375,538,656,317,202,329,593,{"$f":"SUM(C12:K12)","v":3741}]
[null,"Par",4,3,3,4,5,3,3,3,4,{"$f":"SUM(C13:K13)","v":32}]
[null,"Score",4,3,4,4,5,3,4,4,5,36]
[null,"Hole",10,11,12,13,14,15,16,17,18,"In","Total",null,null,null,null,null,null,"NEVIN","Ace","Eag","Bir","Par","Bog","Bg+","Sno","Score"]
[null,"Dist.",630,640,970,274,550,252,596,581,530,{"$f":"SUM(C16:K16)","v":5023},{"$f":"L16+L12","v":8764},null,null,null,null,null,null,"Front",{"$f":"COUNTIF(C14:K14,\"1\")","v":0},{"$f":"COUNTConditionColorCells($C$14:$K$14,V15)","v":0},{"$f":"COUNTConditionColorCells($C$14:$K$14,W15)","v":0},5,4,0,{"$f":"COUNTIF(C14:K14,\"8\")","v":0},{"$f":"L14","v":36}]
[null,"Par",5,4,5,3,4,3,4,5,4,{"$f":"SUM(C17:K17)","v":37},{"$f":"L17+L13","v":69},null,null,null,null,null,null,"Back",{"$f":"COUNTIF(C18:K18,\"1\")","v":0},{"$f":"COUNTConditionColorCells($C$18:$K$18,V15)","v":0},{"$f":"COUNTConditionColorCells($C$18:$K$18,W15)","v":4},1,3,1,{"$f":"COUNTIF(C18:K18,\"8\")","v":0},{"$f":"L18","v":38}]
[null,"Score",7,4,6,2,3,4,5,4,3,{"$f":"SUM(C18:K18)","v":38},74,null,null,null,null,null,null,"Total",{"$f":"U16+U17","v":0},{"$f":"V16+V17","v":0},4,6,7,1,{"$f":"AA16+AA17","v":0},{"$f":"M18","v":74}]
[]
[]
[null,null,null,null,null,"Hole",1,2,3,4,5,6,7,8,9,"Out","RENNY"]
[null,null,null,null,null,"Dist.",523,519,386,551,392,257,465,323,285,{"$f":"SUM(G22:O22)","v":3701}]
[null,null,null,null,null,"Par",4,4,4,4,4,3,4,3,3,{"$f":"SUM(G23:O23)","v":33}]
[null,null,null,null,null,"Score",3,4,4,7,3,3,4,2,3,33]
[null,null,null,null,null,"Hole",10,11,12,13,14,15,16,17,18,"In","Total",null,null,"RENNY","Ace","Eag","Bir","Par","Bog","Bg+","Sno","Score"]
[null,null,null,null,null,"Dist.",538,1042,617,974,564,378,302,517,826,{"$f":"SUM(G26:O26)","v":5758},{"$f":"P26+P22","v":9459},null,null,"Front",{"$f":"COUNTIF(G24:O24,\"1\")","v":0},{"$f":"COUNTConditionColorCells($G$24:$O$24,V25)","v":0},{"$f":"COUNTConditionColorCells($G$24:$O$24,W25)","v":3},5,0,1,{"$f":"COUNTIF(G24:O24,\"8\")","v":0},{"$f":"P24","v":33}]
[null,null,null,null,null,"Par",4,5,4,5,4,3,3,4,5,{"$f":"SUM(G27:O27)","v":37},{"$f":"P27+P23","v":70},null,null,"Back",{"$f":"COUNTIF(G28:O28,\"1\")","v":0},{"$f":"COUNTConditionColorCells($G$28:$O$28,V25)","v":0},{"$f":"COUNTConditionColorCells($G$28:$O$28,W25)","v":2},3,3,1,{"$f":"COUNTIF(G28:O28,\"8\")","v":0},{"$f":"P28","v":40}]
[null,null,null,null,null,"Score",5,7,3,6,4,3,3,5,4,{"$f":"SUM(G28:O28)","v":40},73,null,null,"Total",{"$f":"U26+U27","v":0},{"$f":"V26+V27","v":0},5,8,3,2,0,{"$f":"Q28","v":73}]
[]
[null,"Nevin #2 - Play from short cement pad (not long pad behind creek).",null,null,null,null,null,null,null,null,null,null,"Player"]
[null,null,null,null,null,null,null,null,null,null,null,null,"Witness 1"]
[null,"Turn in your completed, signed score sheet before 9pm",null,null,null,null,null,null,null,null,null,null,"Witness 2"]
[null,"at Divine Barrel Brewery (3701 N. Davidson St).",null,null,null,null,null,null,null,null,null,null,"Witness 3",null,null,null,null,null,null,"FINAL","Ace","Eag","Bir","Par","Bog","Bg+","Sno","Score"]
[null,null,null,null,null,null,null,null,null,null,null,null,null,null,null,null,null,null,null,"TOTAL",{"$f":"SUM(U28,U18,U8)","v":0},{"$f":"SUM(V28,V18,V8)","v":0},14,23,13,4,0,214]

{"sheet":"JoCh","index":25,"n_rows":34,"n_cols":28,"rows_kept":34,"cut":false,"hidden":false,"merged":[[0,0,33,0],[0,16,3,16],[0,17,33,17],[1,20,1,24],[1,26,1,27],[10,12,13,12],[20,16,23,16],[29,1,29,10],[29,12,29,13],[30,1,30,10],[30,12,30,13],[31,1,31,10],[31,12,31,13],[32,1,32,10],[32,12,32,13]]}
["2019 Charlotte Iron Man",null,null,null,null,"Hole",1,2,3,4,5,6,7,8,9,"Out","ANGRY"]
[null,null,null,null,null,"Dist.",235,158,222,439,801,491,282,567,268,{"$f":"SUM(G2:O2)","v":3463},null,null,null,"Name","Jonathan Charping",null,null,null,null,"Div","Iron Men"]
[null,null,null,null,null,"Par",3,3,3,4,5,4,3,4,3,{"$f":"SUM(G3:O3)","v":32}]
[null,null,null,null,null,"Score",4,3,2,3,5,3,2,5,4,31]
[null,null,null,null,null,"Hole",10,11,12,13,14,15,16,17,18,"In","Total",null,null,"ANGRY","Ace","Eag","Bir","Par","Bog","Bg+","Sno","Score"]
[null,null,null,null,null,"Dist.",563,465,215,409,333,702,431,282,814,{"$f":"SUM(G6:O6)","v":4214},{"$f":"P6+P2","v":7677},null,null,"Front",{"$f":"COUNTIF(G4:O4,\"1\")","v":0},{"$f":"COUNTConditionColorCells($G$4:$O$4,V5)","v":0},{"$f":"COUNTConditionColorCells($G$4:$O$4,W5)","v":4},2,3,0,{"$f":"COUNTIF(G4:O4,\"8\")","v":0},{"$f":"P4","v":31}]
[null,null,null,null,null,"Par",4,4,3,4,3,5,4,3,5,{"$f":"SUM(G7:O7)","v":35},{"$f":"P7+P3","v":67},null,null,"Back",{"$f":"COUNTIF(G8:O8,\"1\")","v":0},{"$f":"COUNTConditionColorCells($G$8:$O$8,V5)","v":0},{"$f":"COUNTConditionColorCells($G$8:$O$8,W5)","v":0},{"$f":"COUNTConditionColorCells($G$8:$O$8,X5)","v":7},{"$f":"COUNTConditionColorCells($G$8:$O$8,Y5)","v":2},0,{"$f":"COUNTIF(G8:O8,\"8\")","v":0},{"$f":"P8","v":37}]
[null,null,null,null,null,"Score",5,4,3,4,3,6,4,3,5,{"$f":"SUM(G8:O8)","v":37},68,null,null,"Total",{"$f":"U6+U7","v":0},{"$f":"V6+V7","v":0},4,9,5,0,0,{"$f":"Q8","v":68}]
[]
[]
[null,"Hole",1,2,3,4,5,6,7,8,9,"Out","NEVIN"]
[null,"Dist.",491,240,375,538,656,317,202,329,593,{"$f":"SUM(C12:K12)","v":3741}]
[null,"Par",4,3,3,4,5,3,3,3,4,{"$f":"SUM(C13:K13)","v":32}]
[null,"Score",4,4,5,5,8,4,3,4,4,41]
[null,"Hole",10,11,12,13,14,15,16,17,18,"In","Total",null,null,null,null,null,null,"NEVIN","Ace","Eag","Bir","Par","Bog","Bg+","Sno","Score"]
[null,"Dist.",630,640,970,274,550,252,596,581,530,{"$f":"SUM(C16:K16)","v":5023},{"$f":"L16+L12","v":8764},null,null,null,null,null,null,"Front",{"$f":"COUNTIF(C14:K14,\"1\")","v":0},{"$f":"COUNTConditionColorCells($C$14:$K$14,V15)","v":0},{"$f":"COUNTConditionColorCells($C$14:$K$14,W15)","v":0},3,4,2,{"$f":"COUNTIF(C14:K14,\"8\")","v":1},{"$f":"L14","v":41}]
[null,"Par",5,4,5,3,4,3,4,5,4,{"$f":"SUM(C17:K17)","v":37},{"$f":"L17+L13","v":69},null,null,null,null,null,null,"Back",{"$f":"COUNTIF(C18:K18,\"1\")","v":0},{"$f":"COUNTConditionColorCells($C$18:$K$18,V15)","v":0},{"$f":"COUNTConditionColorCells($C$18:$K$18,W15)","v":0},4,5,0,{"$f":"COUNTIF(C18:K18,\"8\")","v":0},{"$f":"L18","v":42}]
[null,"Score",5,5,6,3,4,4,4,6,5,{"$f":"SUM(C18:K18)","v":42},83,null,null,null,null,null,null,"Total",{"$f":"U16+U17","v":0},{"$f":"V16+V17","v":0},0,7,9,2,{"$f":"AA16+AA17","v":1},{"$f":"M18","v":83}]
[]
[]
[null,null,null,null,null,"Hole",1,2,3,4,5,6,7,8,9,"Out","RENNY"]
[null,null,null,null,null,"Dist.",523,519,386,551,392,257,465,323,285,{"$f":"SUM(G22:O22)","v":3701}]
[null,null,null,null,null,"Par",4,4,4,4,4,3,4,3,3,{"$f":"SUM(G23:O23)","v":33}]
[null,null,null,null,null,"Score",5,4,4,4,4,3,6,3,3,36]
[null,null,null,null,null,"Hole",10,11,12,13,14,15,16,17,18,"In","Total",null,null,"RENNY","Ace","Eag","Bir","Par","Bog","Bg+","Sno","Score"]
[null,null,null,null,null,"Dist.",538,1042,617,974,564,378,302,517,826,{"$f":"SUM(G26:O26)","v":5758},{"$f":"P26+P22","v":9459},null,null,"Front",{"$f":"COUNTIF(G24:O24,\"1\")","v":0},{"$f":"COUNTConditionColorCells($G$24:$O$24,V25)","v":0},{"$f":"COUNTConditionColorCells($G$24:$O$24,W25)","v":0},7,1,1,{"$f":"COUNTIF(G24:O24,\"8\")","v":0},{"$f":"P24","v":36}]
[null,null,null,null,null,"Par",4,5,4,5,4,3,3,4,5,{"$f":"SUM(G27:O27)","v":37},{"$f":"P27+P23","v":70},null,null,"Back",{"$f":"COUNTIF(G28:O28,\"1\")","v":0},{"$f":"COUNTConditionColorCells($G$28:$O$28,V25)","v":0},{"$f":"COUNTConditionColorCells($G$28:$O$28,W25)","v":1},1,5,2,{"$f":"COUNTIF(G28:O28,\"8\")","v":0},{"$f":"P28","v":45}]
[null,null,null,null,null,"Score",6,6,4,7,3,4,4,5,6,{"$f":"SUM(G28:O28)","v":45},81,null,null,"Total",{"$f":"U26+U27","v":0},{"$f":"V26+V27","v":0},1,8,6,3,0,{"$f":"Q28","v":81}]
[]
[null,"Nevin #2 - Play from short cement pad (not long pad behind creek).",null,null,null,null,null,null,null,null,null,null,"Player"]
[null,null,null,null,null,null,null,null,null,null,null,null,"Witness 1"]
[null,"Turn in your completed, signed score sheet before 9pm",null,null,null,null,null,null,null,null,null,null,"Witness 2"]
[null,"at Divine Barrel Brewery (3701 N. Davidson St).",null,null,null,null,null,null,null,null,null,null,"Witness 3",null,null,null,null,null,null,"FINAL","Ace","Eag","Bir","Par","Bog","Bg+","Sno","Score"]
[null,null,null,null,null,null,null,null,null,null,null,null,null,null,null,null,null,null,null,"TOTAL",{"$f":"SUM(U28,U18,U8)","v":0},{"$f":"SUM(V28,V18,V8)","v":0},5,24,20,5,1,232]

{"sheet":"JoLy","index":26,"n_rows":34,"n_cols":28,"rows_kept":34,"cut":false,"hidden":false,"merged":[[0,0,33,0],[0,16,3,16],[0,17,33,17],[1,20,1,24],[1,26,1,27],[10,12,13,12],[20,16,23,16],[29,1,29,10],[29,12,29,13],[30,1,30,10],[30,12,30,13],[31,1,31,10],[31,12,31,13],[32,1,32,10],[32,12,32,13]]}
["2019 Charlotte Iron Man",null,null,null,null,"Hole",1,2,3,4,5,6,7,8,9,"Out","ANGRY"]
[null,null,null,null,null,"Dist.",235,158,222,439,801,491,282,567,268,{"$f":"SUM(G2:O2)","v":3463},null,null,null,"Name","Jordan Lyndaker",null,null,null,null,"Div","Iron Men"]
[null,null,null,null,null,"Par",3,3,3,4,5,4,3,4,3,{"$f":"SUM(G3:O3)","v":32}]
[null,null,null,null,null,"Score",3,3,3,4,7,7,4,6,5,42]
[null,null,null,null,null,"Hole",10,11,12,13,14,15,16,17,18,"In","Total",null,null,"ANGRY","Ace","Eag","Bir","Par","Bog","Bg+","Sno","Score"]
[null,null,null,null,null,"Dist.",563,465,215,409,333,702,431,282,814,{"$f":"SUM(G6:O6)","v":4214},{"$f":"P6+P2","v":7677},null,null,"Front",{"$f":"COUNTIF(G4:O4,\"1\")","v":0},{"$f":"COUNTConditionColorCells($G$4:$O$4,V5)","v":0},{"$f":"COUNTConditionColorCells($G$4:$O$4,W5)","v":0},4,1,4,{"$f":"COUNTIF(G4:O4,\"8\")","v":0},{"$f":"P4","v":42}]
[null,null,null,null,null,"Par",4,4,3,4,3,5,4,3,5,{"$f":"SUM(G7:O7)","v":35},{"$f":"P7+P3","v":67},null,null,"Back",{"$f":"COUNTIF(G8:O8,\"1\")","v":0},{"$f":"COUNTConditionColorCells($G$8:$O$8,V5)","v":0},{"$f":"COUNTConditionColorCells($G$8:$O$8,W5)","v":0},{"$f":"COUNTConditionColorCells($G$8:$O$8,X5)","v":2},{"$f":"COUNTConditionColorCells($G$8:$O$8,Y5)","v":3},4,{"$f":"COUNTIF(G8:O8,\"8\")","v":1},{"$f":"P8","v":47}]
[null,null,null,null,null,"Score",5,5,3,4,4,7,6,5,8,{"$f":"SUM(G8:O8)","v":47},89,null,null,"Total",{"$f":"U6+U7","v":0},{"$f":"V6+V7","v":0},0,6,4,8,1,{"$f":"Q8","v":89}]
[]
[]
[null,"Hole",1,2,3,4,5,6,7,8,9,"Out","NEVIN"]
[null,"Dist.",491,240,375,538,656,317,202,329,593,{"$f":"SUM(C12:K12)","v":3741}]
[null,"Par",4,3,3,4,5,3,3,3,4,{"$f":"SUM(C13:K13)","v":32}]
[null,"Score",5,5,4,5,8,6,5,4,6,48]
[null,"Hole",10,11,12,13,14,15,16,17,18,"In","Total",null,null,null,null,null,null,"NEVIN","Ace","Eag","Bir","Par","Bog","Bg+","Sno","Score"]
[null,"Dist.",630,640,970,274,550,252,596,581,530,{"$f":"SUM(C16:K16)","v":5023},{"$f":"L16+L12","v":8764},null,null,null,null,null,null,"Front",{"$f":"COUNTIF(C14:K14,\"1\")","v":0},{"$f":"COUNTConditionColorCells($C$14:$K$14,V15)","v":0},{"$f":"COUNTConditionColorCells($C$14:$K$14,W15)","v":0},0,4,5,{"$f":"COUNTIF(C14:K14,\"8\")","v":1},{"$f":"L14","v":48}]
[null,"Par",5,4,5,3,4,3,4,5,4,{"$f":"SUM(C17:K17)","v":37},{"$f":"L17+L13","v":69},null,null,null,null,null,null,"Back",{"$f":"COUNTIF(C18:K18,\"1\")","v":0},{"$f":"COUNTConditionColorCells($C$18:$K$18,V15)","v":0},{"$f":"COUNTConditionColorCells($C$18:$K$18,W15)","v":0},3,1,5,{"$f":"COUNTIF(C18:K18,\"8\")","v":3},{"$f":"L18","v":54}]
[null,"Score",9,8,8,3,4,3,6,8,5,{"$f":"SUM(C18:K18)","v":54},102,null,null,null,null,null,null,"Total",{"$f":"U16+U17","v":0},{"$f":"V16+V17","v":0},0,3,5,10,{"$f":"AA16+AA17","v":4},{"$f":"M18","v":102}]
[]
[]
[null,null,null,null,null,"Hole",1,2,3,4,5,6,7,8,9,"Out","RENNY"]
[null,null,null,null,null,"Dist.",523,519,386,551,392,257,465,323,285,{"$f":"SUM(G22:O22)","v":3701}]
[null,null,null,null,null,"Par",4,4,4,4,4,3,4,3,3,{"$f":"SUM(G23:O23)","v":33}]
[null,null,null,null,null,"Score",7,6,8,7,6,4,7,3,3,51]
[null,null,null,null,null,"Hole",10,11,12,13,14,15,16,17,18,"In","Total",null,null,"RENNY","Ace","Eag","Bir","Par","Bog","Bg+","Sno","Score"]
[null,null,null,null,null,"Dist.",538,1042,617,974,564,378,302,517,826,{"$f":"SUM(G26:O26)","v":5758},{"$f":"P26+P22","v":9459},null,null,"Front",{"$f":"COUNTIF(G24:O24,\"1\")","v":0},{"$f":"COUNTConditionColorCells($G$24:$O$24,V25)","v":0},{"$f":"COUNTConditionColorCells($G$24:$O$24,W25)","v":0},2,1,6,{"$f":"COUNTIF(G24:O24,\"8\")","v":1},{"$f":"P24","v":51}]
[null,null,null,null,null,"Par",4,5,4,5,4,3,3,4,5,{"$f":"SUM(G27:O27)","v":37},{"$f":"P27+P23","v":70},null,null,"Back",{"$f":"COUNTIF(G28:O28,\"1\")","v":0},{"$f":"COUNTConditionColorCells($G$28:$O$28,V25)","v":0},{"$f":"COUNTConditionColorCells($G$28:$O$28,W25)","v":0},1,3,5,{"$f":"COUNTIF(G28:O28,\"8\")","v":2},{"$f":"P28","v":56}]
[null,null,null,null,null,"Score",5,8,5,10,5,5,3,7,8,{"$f":"SUM(G28:O28)","v":56},107,null,null,"Total",{"$f":"U26+U27","v":0},{"$f":"V26+V27","v":0},0,3,4,11,3,{"$f":"Q28","v":107}]
[]
[null,"Nevin #2 - Play from short cement pad (not long pad behind creek).",null,null,null,null,null,null,null,null,null,null,"Player"]
[null,null,null,null,null,null,null,null,null,null,null,null,"Witness 1"]
[null,"Turn in your completed, signed score sheet before 9pm",null,null,null,null,null,null,null,null,null,null,"Witness 2"]
[null,"at Divine Barrel Brewery (3701 N. Davidson St).",null,null,null,null,null,null,null,null,null,null,"Witness 3",null,null,null,null,null,null,"FINAL","Ace","Eag","Bir","Par","Bog","Bg+","Sno","Score"]
[null,null,null,null,null,null,null,null,null,null,null,null,null,null,null,null,null,null,null,"TOTAL",{"$f":"SUM(U28,U18,U8)","v":0},{"$f":"SUM(V28,V18,V8)","v":0},0,12,13,29,8,298]

{"sheet":"JTFo","index":27,"n_rows":34,"n_cols":28,"rows_kept":34,"cut":false,"hidden":false,"merged":[[0,0,33,0],[0,16,3,16],[0,17,33,17],[1,20,1,24],[1,26,1,27],[10,12,13,12],[20,16,23,16],[29,1,29,10],[29,12,29,13],[30,1,30,10],[30,12,30,13],[31,1,31,10],[31,12,31,13],[32,1,32,10],[32,12,32,13]]}
["2019 Charlotte Iron Man",null,null,null,null,"Hole",1,2,3,4,5,6,7,8,9,"Out","ANGRY"]
[null,null,null,null,null,"Dist.",235,158,222,439,801,491,282,567,268,{"$f":"SUM(G2:O2)","v":3463},null,null,null,"Name","JT Ford",null,null,null,null,"Div","Iron Men"]
[null,null,null,null,null,"Par",3,3,3,4,5,4,3,4,3,{"$f":"SUM(G3:O3)","v":32}]
[null,null,null,null,null,"Score",3,3,4,4,5,8,2,3,3,35]
[null,null,null,null,null,"Hole",10,11,12,13,14,15,16,17,18,"In","Total",null,null,"ANGRY","Ace","Eag","Bir","Par","Bog","Bg+","Sno","Score"]
[null,null,null,null,null,"Dist.",563,465,215,409,333,702,431,282,814,{"$f":"SUM(G6:O6)","v":4214},{"$f":"P6+P2","v":7677},null,null,"Front",{"$f":"COUNTIF(G4:O4,\"1\")","v":0},{"$f":"COUNTConditionColorCells($G$4:$O$4,V5)","v":0},{"$f":"COUNTConditionColorCells($G$4:$O$4,W5)","v":2},5,1,1,{"$f":"COUNTIF(G4:O4,\"8\")","v":1},{"$f":"P4","v":35}]
[null,null,null,null,null,"Par",4,4,3,4,3,5,4,3,5,{"$f":"SUM(G7:O7)","v":35},{"$f":"P7+P3","v":67},null,null,"Back",{"$f":"COUNTIF(G8:O8,\"1\")","v":0},{"$f":"COUNTConditionColorCells($G$8:$O$8,V5)","v":0},{"$f":"COUNTConditionColorCells($G$8:$O$8,W5)","v":0},{"$f":"COUNTConditionColorCells($G$8:$O$8,X5)","v":5},{"$f":"COUNTConditionColorCells($G$8:$O$8,Y5)","v":3},{"$f":"COUNTConditionColorCells($G$8:$O$8,Z5)","v":1},{"$f":"COUNTIF(G8:O8,\"8\")","v":0},{"$f":"P8","v":40}]
[null,null,null,null,null,"Score",5,4,3,4,3,6,4,5,6,{"$f":"SUM(G8:O8)","v":40},75,null,null,"Total",{"$f":"U6+U7","v":0},{"$f":"V6+V7","v":0},2,10,4,2,1,{"$f":"Q8","v":75}]
[]
[]
[null,"Hole",1,2,3,4,5,6,7,8,9,"Out","NEVIN"]
[null,"Dist.",491,240,375,538,656,317,202,329,593,{"$f":"SUM(C12:K12)","v":3741}]
[null,"Par",4,3,3,4,5,3,3,3,4,{"$f":"SUM(C13:K13)","v":32}]
[null,"Score",4,3,3,5,5,3,3,4,5,{"$f":"SUM(C14:K14)","v":35}]
[null,"Hole",10,11,12,13,14,15,16,17,18,"In","Total",null,null,null,null,null,null,"NEVIN","Ace","Eag","Bir","Par","Bog","Bg+","Sno","Score"]
[null,"Dist.",630,640,970,274,550,252,596,581,530,{"$f":"SUM(C16:K16)","v":5023},{"$f":"L16+L12","v":8764},null,null,null,null,null,null,"Front",{"$f":"COUNTIF(C14:K14,\"1\")","v":0},{"$f":"COUNTConditionColorCells($C$14:$K$14,V15)","v":0},{"$f":"COUNTConditionColorCells($C$14:$K$14,W15)","v":0},{"$f":"COUNTConditionColorCells($C$14:$K$14,X15)","v":6},{"$f":"COUNTConditionColorCells($C$14:$K$14,Y15)","v":3},{"$f":"COUNTConditionColorCells($C$14:$K$14,Z15)","v":0},{"$f":"COUNTIF(C14:K14,\"8\")","v":0},{"$f":"L14","v":35}]
[null,"Par",5,4,5,3,4,3,4,5,4,{"$f":"SUM(C17:K17)","v":37},{"$f":"L17+L13","v":69},null,null,null,null,null,null,"Back",{"$f":"COUNTIF(C18:K18,\"1\")","v":0},{"$f":"COUNTConditionColorCells($C$18:$K$18,V15)","v":0},{"$f":"COUNTConditionColorCells($C$18:$K$18,W15)","v":1},7,1,0,{"$f":"COUNTIF(C18:K18,\"8\")","v":0},{"$f":"L18","v":37}]
[null,"Score",4,4,6,3,4,3,4,5,4,{"$f":"SUM(C18:K18)","v":37},72,null,null,null,null,null,null,"Total",{"$f":"U16+U17","v":0},{"$f":"V16+V17","v":0},1,13,4,0,{"$f":"AA16+AA17","v":0},{"$f":"M18","v":72}]
[]
[]
[null,null,null,null,null,"Hole",1,2,3,4,5,6,7,8,9,"Out","RENNY"]
[null,null,null,null,null,"Dist.",523,519,386,551,392,257,465,323,285,{"$f":"SUM(G22:O22)","v":3701}]
[null,null,null,null,null,"Par",4,4,4,4,4,3,4,3,3,{"$f":"SUM(G23:O23)","v":33}]
[null,null,null,null,null,"Score",6,4,4,4,3,3,4,2,3,33]
[null,null,null,null,null,"Hole",10,11,12,13,14,15,16,17,18,"In","Total",null,null,"RENNY","Ace","Eag","Bir","Par","Bog","Bg+","Sno","Score"]
[null,null,null,null,null,"Dist.",538,1042,617,974,564,378,302,517,826,{"$f":"SUM(G26:O26)","v":5758},{"$f":"P26+P22","v":9459},null,null,"Front",{"$f":"COUNTIF(G24:O24,\"1\")","v":0},{"$f":"COUNTConditionColorCells($G$24:$O$24,V25)","v":0},{"$f":"COUNTConditionColorCells($G$24:$O$24,W25)","v":2},6,0,1,{"$f":"COUNTIF(G24:O24,\"8\")","v":0},{"$f":"P24","v":33}]
[null,null,null,null,null,"Par",4,5,4,5,4,3,3,4,5,{"$f":"SUM(G27:O27)","v":37},{"$f":"P27+P23","v":70},null,null,"Back",{"$f":"COUNTIF(G28:O28,\"1\")","v":0},{"$f":"COUNTConditionColorCells($G$28:$O$28,V25)","v":0},{"$f":"COUNTConditionColorCells($G$28:$O$28,W25)","v":0},6,1,2,{"$f":"COUNTIF(G28:O28,\"8\")","v":1},{"$f":"P28","v":43}]
[null,null,null,null,null,"Score",4,5,4,8,4,5,4,4,5,{"$f":"SUM(G28:O28)","v":43},76,null,null,"Total",{"$f":"U26+U27","v":0},{"$f":"V26+V27","v":0},2,12,1,3,1,{"$f":"Q28","v":76}]
[]
[null,"Nevin #2 - Play from short cement pad (not long pad behind creek).",null,null,null,null,null,null,null,null,null,null,"Player"]
[null,null,null,null,null,null,null,null,null,null,null,null,"Witness 1"]
[null,"Turn in your completed, signed score sheet before 9pm",null,null,null,null,null,null,null,null,null,null,"Witness 2"]
[null,"at Divine Barrel Brewery (3701 N. Davidson St).",null,null,null,null,null,null,null,null,null,null,"Witness 3",null,null,null,null,null,null,"FINAL","Ace","Eag","Bir","Par","Bog","Bg+","Sno","Score"]
[null,null,null,null,null,null,null,null,null,null,null,null,null,null,null,null,null,null,null,"TOTAL",{"$f":"SUM(U28,U18,U8)","v":0},{"$f":"SUM(V28,V18,V8)","v":0},5,35,9,5,2,223]

{"sheet":"JuBl","index":28,"n_rows":34,"n_cols":28,"rows_kept":34,"cut":false,"hidden":false,"merged":[[0,0,33,0],[0,16,3,16],[0,17,33,17],[1,20,1,24],[1,26,1,27],[10,12,13,12],[20,16,23,16],[29,1,29,10],[29,12,29,13],[30,1,30,10],[30,12,30,13],[31,1,31,10],[31,12,31,13],[32,1,32,10],[32,12,32,13]]}
["2019 Charlotte Iron Man",null,null,null,null,"Hole",1,2,3,4,5,6,7,8,9,"Out","ANGRY"]
[null,null,null,null,null,"Dist.",235,158,222,439,801,491,282,567,268,{"$f":"SUM(G2:O2)","v":3463},null,null,null,"Name","Justin Black",null,null,null,null,"Div","Iron Men"]
[null,null,null,null,null,"Par",3,3,3,4,5,4,3,4,3,{"$f":"SUM(G3:O3)","v":32}]
[null,null,null,null,null,"Score",2,3,3,4,6,4,3,5,5,35]
[null,null,null,null,null,"Hole",10,11,12,13,14,15,16,17,18,"In","Total",null,null,"ANGRY","Ace","Eag","Bir","Par","Bog","Bg+","Sno","Score"]
[null,null,null,null,null,"Dist.",563,465,215,409,333,702,431,282,814,{"$f":"SUM(G6:O6)","v":4214},{"$f":"P6+P2","v":7677},null,null,"Front",{"$f":"COUNTIF(G4:O4,\"1\")","v":0},{"$f":"COUNTConditionColorCells($G$4:$O$4,V5)","v":0},{"$f":"COUNTConditionColorCells($G$4:$O$4,W5)","v":1},5,2,1,{"$f":"COUNTIF(G4:O4,\"8\")","v":0},{"$f":"P4","v":35}]
[null,null,null,null,null,"Par",4,4,3,4,3,5,4,3,5,{"$f":"SUM(G7:O7)","v":35},{"$f":"P7+P3","v":67},null,null,"Back",{"$f":"COUNTIF(G8:O8,\"1\")","v":0},{"$f":"COUNTConditionColorCells($G$8:$O$8,V5)","v":0},{"$f":"COUNTConditionColorCells($G$8:$O$8,W5)","v":1},{"$f":"COUNTConditionColorCells($G$8:$O$8,X5)","v":6},{"$f":"COUNTConditionColorCells($G$8:$O$8,Y5)","v":0},2,{"$f":"COUNTIF(G8:O8,\"8\")","v":0},{"$f":"P8","v":38}]
[null,null,null,null,null,"Score",6,4,3,3,3,5,6,3,5,{"$f":"SUM(G8:O8)","v":38},73,null,null,"Total",{"$f":"U6+U7","v":0},{"$f":"V6+V7","v":0},2,11,2,3,0,{"$f":"Q8","v":73}]
[]
[]
[null,"Hole",1,2,3,4,5,6,7,8,9,"Out","NEVIN"]
[null,"Dist.",491,240,375,538,656,317,202,329,593,{"$f":"SUM(C12:K12)","v":3741}]
[null,"Par",4,3,3,4,5,3,3,3,4,{"$f":"SUM(C13:K13)","v":32}]
[null,"Score",4,3,2,5,5,4,2,4,5,34]
[null,"Hole",10,11,12,13,14,15,16,17,18,"In","Total",null,null,null,null,null,null,"NEVIN","Ace","Eag","Bir","Par","Bog","Bg+","Sno","Score"]
[null,"Dist.",630,640,970,274,550,252,596,581,530,{"$f":"SUM(C16:K16)","v":5023},{"$f":"L16+L12","v":8764},null,null,null,null,null,null,"Front",{"$f":"COUNTIF(C14:K14,\"1\")","v":0},{"$f":"COUNTConditionColorCells($C$14:$K$14,V15)","v":0},{"$f":"COUNTConditionColorCells($C$14:$K$14,W15)","v":2},3,4,0,{"$f":"COUNTIF(C14:K14,\"8\")","v":0},{"$f":"L14","v":34}]
[null,"Par",5,4,5,3,4,3,4,5,4,{"$f":"SUM(C17:K17)","v":37},{"$f":"L17+L13","v":69},null,null,null,null,null,null,"Back",{"$f":"COUNTIF(C18:K18,\"1\")","v":0},{"$f":"COUNTConditionColorCells($C$18:$K$18,V15)","v":0},{"$f":"COUNTConditionColorCells($C$18:$K$18,W15)","v":1},4,2,2,{"$f":"COUNTIF(C18:K18,\"8\")","v":0},{"$f":"L18","v":42}]
[null,"Score",5,5,7,3,4,2,6,6,4,{"$f":"SUM(C18:K18)","v":42},76,null,null,null,null,null,null,"Total",{"$f":"U16+U17","v":0},{"$f":"V16+V17","v":0},3,7,6,2,{"$f":"AA16+AA17","v":0},{"$f":"M18","v":76}]
[]
[]
[null,null,null,null,null,"Hole",1,2,3,4,5,6,7,8,9,"Out","RENNY"]
[null,null,null,null,null,"Dist.",523,519,386,551,392,257,465,323,285,{"$f":"SUM(G22:O22)","v":3701}]
[null,null,null,null,null,"Par",4,4,4,4,4,3,4,3,3,{"$f":"SUM(G23:O23)","v":33}]
[null,null,null,null,null,"Score",4,5,4,6,4,3,5,4,3,38]
[null,null,null,null,null,"Hole",10,11,12,13,14,15,16,17,18,"In","Total",null,null,"RENNY","Ace","Eag","Bir","Par","Bog","Bg+","Sno","Score"]
[null,null,null,null,null,"Dist.",538,1042,617,974,564,378,302,517,826,{"$f":"SUM(G26:O26)","v":5758},{"$f":"P26+P22","v":9459},null,null,"Front",{"$f":"COUNTIF(G24:O24,\"1\")","v":0},{"$f":"COUNTConditionColorCells($G$24:$O$24,V25)","v":0},{"$f":"COUNTConditionColorCells($G$24:$O$24,W25)","v":0},5,3,1,{"$f":"COUNTIF(G24:O24,\"8\")","v":0},{"$f":"P24","v":38}]
[null,null,null,null,null,"Par",4,5,4,5,4,3,3,4,5,{"$f":"SUM(G27:O27)","v":37},{"$f":"P27+P23","v":70},null,null,"Back",{"$f":"COUNTIF(G28:O28,\"1\")","v":0},{"$f":"COUNTConditionColorCells($G$28:$O$28,V25)","v":0},{"$f":"COUNTConditionColorCells($G$28:$O$28,W25)","v":0},3,6,0,{"$f":"COUNTIF(G28:O28,\"8\")","v":0},{"$f":"P28","v":43}]
[null,null,null,null,null,"Score",5,6,4,6,5,4,3,5,5,{"$f":"SUM(G28:O28)","v":43},81,null,null,"Total",{"$f":"U26+U27","v":0},{"$f":"V26+V27","v":0},0,8,9,1,0,{"$f":"Q28","v":81}]
[]
[null,"Nevin #2 - Play from short cement pad (not long pad behind creek).",null,null,null,null,null,null,null,null,null,null,"Player"]
[null,null,null,null,null,null,null,null,null,null,null,null,"Witness 1"]
[null,"Turn in your completed, signed score sheet before 9pm",null,null,null,null,null,null,null,null,null,null,"Witness 2"]
[null,"at Divine Barrel Brewery (3701 N. Davidson St).",null,null,null,null,null,null,null,null,null,null,"Witness 3",null,null,null,null,null,null,"FINAL","Ace","Eag","Bir","Par","Bog","Bg+","Sno","Score"]
[null,null,null,null,null,null,null,null,null,null,null,null,null,null,null,null,null,null,null,"TOTAL",{"$f":"SUM(U28,U18,U8)","v":0},{"$f":"SUM(V28,V18,V8)","v":0},5,26,17,6,0,230]

{"sheet":"KaBy","index":29,"n_rows":34,"n_cols":28,"rows_kept":34,"cut":false,"hidden":false,"merged":[[0,0,33,0],[0,16,3,16],[0,17,33,17],[1,20,1,24],[1,26,1,27],[10,12,13,12],[20,16,23,16],[29,1,29,10],[29,12,29,13],[30,1,30,10],[30,12,30,13],[31,1,31,10],[31,12,31,13],[32,1,32,10],[32,12,32,13]]}
["2019 Charlotte Iron Man",null,null,null,null,"Hole",1,2,3,4,5,6,7,8,9,"Out","ANGRY"]
[null,null,null,null,null,"Dist.",235,158,222,439,801,491,282,567,268,{"$f":"SUM(G2:O2)","v":3463},null,null,null,"Name","Kael Byrd",null,null,null,null,"Div","Iron Men"]
[null,null,null,null,null,"Par",3,3,3,4,5,4,3,4,3,{"$f":"SUM(G3:O3)","v":32}]
[null,null,null,null,null,"Score",4,2,2,4,6,4,3,4,4,33]
[null,null,null,null,null,"Hole",10,11,12,13,14,15,16,17,18,"In","Total",null,null,"ANGRY","Ace","Eag","Bir","Par","Bog","Bg+","Sno","Score"]
[null,null,null,null,null,"Dist.",563,465,215,409,333,702,431,282,814,{"$f":"SUM(G6:O6)","v":4214},{"$f":"P6+P2","v":7677},null,null,"Front",{"$f":"COUNTIF(G4:O4,\"1\")","v":0},{"$f":"COUNTConditionColorCells($G$4:$O$4,V5)","v":0},{"$f":"COUNTConditionColorCells($G$4:$O$4,W5)","v":2},4,3,0,{"$f":"COUNTIF(G4:O4,\"8\")","v":0},{"$f":"P4","v":33}]
[null,null,null,null,null,"Par",4,4,3,4,3,5,4,3,5,{"$f":"SUM(G7:O7)","v":35},{"$f":"P7+P3","v":67},null,null,"Back",{"$f":"COUNTIF(G8:O8,\"1\")","v":0},{"$f":"COUNTConditionColorCells($G$8:$O$8,V5)","v":0},{"$f":"COUNTConditionColorCells($G$8:$O$8,W5)","v":0},{"$f":"COUNTConditionColorCells($G$8:$O$8,X5)","v":4},{"$f":"COUNTConditionColorCells($G$8:$O$8,Y5)","v":4},1,{"$f":"COUNTIF(G8:O8,\"8\")","v":0},{"$f":"P8","v":41}]
[null,null,null,null,null,"Score",5,5,4,4,4,7,4,3,5,{"$f":"SUM(G8:O8)","v":41},74,null,null,"Total",{"$f":"U6+U7","v":0},{"$f":"V6+V7","v":0},2,8,7,1,0,{"$f":"Q8","v":74}]
[]
[]
[null,"Hole",1,2,3,4,5,6,7,8,9,"Out","NEVIN"]
[null,"Dist.",491,240,375,538,656,317,202,329,593,{"$f":"SUM(C12:K12)","v":3741}]
[null,"Par",4,3,3,4,5,3,3,3,4,{"$f":"SUM(C13:K13)","v":32}]
[null,"Score",4,3,3,4,5,3,5,3,3,33]
[null,"Hole",10,11,12,13,14,15,16,17,18,"In","Total",null,null,null,null,null,null,"NEVIN","Ace","Eag","Bir","Par","Bog","Bg+","Sno","Score"]
[null,"Dist.",630,640,970,274,550,252,596,581,530,{"$f":"SUM(C16:K16)","v":5023},{"$f":"L16+L12","v":8764},null,null,null,null,null,null,"Front",{"$f":"COUNTIF(C14:K14,\"1\")","v":0},{"$f":"COUNTConditionColorCells($C$14:$K$14,V15)","v":0},{"$f":"COUNTConditionColorCells($C$14:$K$14,W15)","v":1},7,0,1,{"$f":"COUNTIF(C14:K14,\"8\")","v":0},{"$f":"L14","v":33}]
[null,"Par",5,4,5,3,4,3,4,5,4,{"$f":"SUM(C17:K17)","v":37},{"$f":"L17+L13","v":69},null,null,null,null,null,null,"Back",{"$f":"COUNTIF(C18:K18,\"1\")","v":0},{"$f":"COUNTConditionColorCells($C$18:$K$18,V15)","v":0},{"$f":"COUNTConditionColorCells($C$18:$K$18,W15)","v":2},3,2,2,{"$f":"COUNTIF(C18:K18,\"8\")","v":0},{"$f":"L18","v":41}]
[null,"Score",6,4,7,2,4,4,6,5,3,{"$f":"SUM(C18:K18)","v":41},74,null,null,null,null,null,null,"Total",{"$f":"U16+U17","v":0},{"$f":"V16+V17","v":0},3,10,2,3,{"$f":"AA16+AA17","v":0},{"$f":"M18","v":74}]
[]
[]
[null,null,null,null,null,"Hole",1,2,3,4,5,6,7,8,9,"Out","RENNY"]
[null,null,null,null,null,"Dist.",523,519,386,551,392,257,465,323,285,{"$f":"SUM(G22:O22)","v":3701}]
[null,null,null,null,null,"Par",4,4,4,4,4,3,4,3,3,{"$f":"SUM(G23:O23)","v":33}]
[null,null,null,null,null,"Score",5,4,4,6,4,3,4,3,3,36]
[null,null,null,null,null,"Hole",10,11,12,13,14,15,16,17,18,"In","Total",null,null,"RENNY","Ace","Eag","Bir","Par","Bog","Bg+","Sno","Score"]
[null,null,null,null,null,"Dist.",538,1042,617,974,564,378,302,517,826,{"$f":"SUM(G26:O26)","v":5758},{"$f":"P26+P22","v":9459},null,null,"Front",{"$f":"COUNTIF(G24:O24,\"1\")","v":0},{"$f":"COUNTConditionColorCells($G$24:$O$24,V25)","v":0},{"$f":"COUNTConditionColorCells($G$24:$O$24,W25)","v":0},7,1,1,{"$f":"COUNTIF(G24:O24,\"8\")","v":0},{"$f":"P24","v":36}]
[null,null,null,null,null,"Par",4,5,4,5,4,3,3,4,5,{"$f":"SUM(G27:O27)","v":37},{"$f":"P27+P23","v":70},null,null,"Back",{"$f":"COUNTIF(G28:O28,\"1\")","v":0},{"$f":"COUNTConditionColorCells($G$28:$O$28,V25)","v":0},{"$f":"COUNTConditionColorCells($G$28:$O$28,W25)","v":0},2,5,2,{"$f":"COUNTIF(G28:O28,\"8\")","v":1},{"$f":"P28","v":47}]
[null,null,null,null,null,"Score",5,6,4,8,6,3,4,5,6,{"$f":"SUM(G28:O28)","v":47},83,null,null,"Total",{"$f":"U26+U27","v":0},{"$f":"V26+V27","v":0},0,9,6,3,1,{"$f":"Q28","v":83}]
[]
[null,"Nevin #2 - Play from short cement pad (not long pad behind creek).",null,null,null,null,null,null,null,null,null,null,"Player"]
[null,null,null,null,null,null,null,null,null,null,null,null,"Witness 1"]
[null,"Turn in your completed, signed score sheet before 9pm",null,null,null,null,null,null,null,null,null,null,"Witness 2"]
[null,"at Divine Barrel Brewery (3701 N. Davidson St).",null,null,null,null,null,null,null,null,null,null,"Witness 3",null,null,null,null,null,null,"FINAL","Ace","Eag","Bir","Par","Bog","Bg+","Sno","Score"]
[null,null,null,null,null,null,null,null,null,null,null,null,null,null,null,null,null,null,null,"TOTAL",{"$f":"SUM(U28,U18,U8)","v":0},{"$f":"SUM(V28,V18,V8)","v":0},5,27,15,7,1,231]

{"sheet":"MiWa","index":30,"n_rows":34,"n_cols":28,"rows_kept":34,"cut":false,"hidden":false,"merged":[[0,0,33,0],[0,16,3,16],[0,17,33,17],[1,20,1,24],[1,26,1,27],[10,12,13,12],[20,16,23,16],[29,1,29,10],[29,12,29,13],[30,1,30,10],[30,12,30,13],[31,1,31,10],[31,12,31,13],[32,1,32,10],[32,12,32,13]]}
["2019 Charlotte Iron Man",null,null,null,null,"Hole",1,2,3,4,5,6,7,8,9,"Out","ANGRY"]
[null,null,null,null,null,"Dist.",235,158,222,439,801,491,282,567,268,{"$f":"SUM(G2:O2)","v":3463},null,null,null,"Name","Michael Walseman",null,null,null,null,"Div","Iron Men"]
[null,null,null,null,null,"Par",3,3,3,4,5,4,3,4,3,{"$f":"SUM(G3:O3)","v":32}]
[null,null,null,null,null,"Score",3,3,3,5,5,5,3,4,4,35]
[null,null,null,null,null,"Hole",10,11,12,13,14,15,16,17,18,"In","Total",null,null,"ANGRY","Ace","Eag","Bir","Par","Bog","Bg+","Sno","Score"]
[null,null,null,null,null,"Dist.",563,465,215,409,333,702,431,282,814,{"$f":"SUM(G6:O6)","v":4214},{"$f":"P6+P2","v":7677},null,null,"Front",{"$f":"COUNTIF(G4:O4,\"1\")","v":0},{"$f":"COUNTConditionColorCells($G$4:$O$4,V5)","v":0},{"$f":"COUNTConditionColorCells($G$4:$O$4,W5)","v":0},6,3,0,{"$f":"COUNTIF(G4:O4,\"8\")","v":0},{"$f":"P4","v":35}]
[null,null,null,null,null,"Par",4,4,3,4,3,5,4,3,5,{"$f":"SUM(G7:O7)","v":35},{"$f":"P7+P3","v":67},null,null,"Back",{"$f":"COUNTIF(G8:O8,\"1\")","v":0},{"$f":"COUNTConditionColorCells($G$8:$O$8,V5)","v":0},{"$f":"COUNTConditionColorCells($G$8:$O$8,W5)","v":0},{"$f":"COUNTConditionColorCells($G$8:$O$8,X5)","v":4},{"$f":"COUNTConditionColorCells($G$8:$O$8,Y5)","v":3},2,{"$f":"COUNTIF(G8:O8,\"8\")","v":0},{"$f":"P8","v":42}]
[null,null,null,null,null,"Score",6,4,4,4,3,6,6,3,6,{"$f":"SUM(G8:O8)","v":42},77,null,null,"Total",{"$f":"U6+U7","v":0},{"$f":"V6+V7","v":0},0,10,6,2,0,{"$f":"Q8","v":77}]
[]
[]
[null,"Hole",1,2,3,4,5,6,7,8,9,"Out","NEVIN"]
[null,"Dist.",491,240,375,538,656,317,202,329,593,{"$f":"SUM(C12:K12)","v":3741}]
[null,"Par",4,3,3,4,5,3,3,3,4,{"$f":"SUM(C13:K13)","v":32}]
[null,"Score",6,3,4,4,8,2,4,4,5,40]
[null,"Hole",10,11,12,13,14,15,16,17,18,"In","Total",null,null,null,null,null,null,"NEVIN","Ace","Eag","Bir","Par","Bog","Bg+","Sno","Score"]
[null,"Dist.",630,640,970,274,550,252,596,581,530,{"$f":"SUM(C16:K16)","v":5023},{"$f":"L16+L12","v":8764},null,null,null,null,null,null,"Front",{"$f":"COUNTIF(C14:K14,\"1\")","v":0},{"$f":"COUNTConditionColorCells($C$14:$K$14,V15)","v":0},{"$f":"COUNTConditionColorCells($C$14:$K$14,W15)","v":1},2,4,2,{"$f":"COUNTIF(C14:K14,\"8\")","v":1},{"$f":"L14","v":40}]
[null,"Par",5,4,5,3,4,3,4,5,4,{"$f":"SUM(C17:K17)","v":37},{"$f":"L17+L13","v":69},null,null,null,null,null,null,"Back",{"$f":"COUNTIF(C18:K18,\"1\")","v":0},{"$f":"COUNTConditionColorCells($C$18:$K$18,V15)","v":0},{"$f":"COUNTConditionColorCells($C$18:$K$18,W15)","v":1},3,4,1,{"$f":"COUNTIF(C18:K18,\"8\")","v":0},{"$f":"L18","v":42}]
[null,"Score",6,4,7,3,5,3,3,6,5,{"$f":"SUM(C18:K18)","v":42},82,null,null,null,null,null,null,"Total",{"$f":"U16+U17","v":0},{"$f":"V16+V17","v":0},2,5,8,3,{"$f":"AA16+AA17","v":1},{"$f":"M18","v":82}]
[]
[]
[null,null,null,null,null,"Hole",1,2,3,4,5,6,7,8,9,"Out","RENNY"]
[null,null,null,null,null,"Dist.",523,519,386,551,392,257,465,323,285,{"$f":"SUM(G22:O22)","v":3701}]
[null,null,null,null,null,"Par",4,4,4,4,4,3,4,3,3,{"$f":"SUM(G23:O23)","v":33}]
[null,null,null,null,null,"Score",5,4,5,4,5,5,6,3,3,40]
[null,null,null,null,null,"Hole",10,11,12,13,14,15,16,17,18,"In","Total",null,null,"RENNY","Ace","Eag","Bir","Par","Bog","Bg+","Sno","Score"]
[null,null,null,null,null,"Dist.",538,1042,617,974,564,378,302,517,826,{"$f":"SUM(G26:O26)","v":5758},{"$f":"P26+P22","v":9459},null,null,"Front",{"$f":"COUNTIF(G24:O24,\"1\")","v":0},{"$f":"COUNTConditionColorCells($G$24:$O$24,V25)","v":0},{"$f":"COUNTConditionColorCells($G$24:$O$24,W25)","v":0},4,3,2,{"$f":"COUNTIF(G24:O24,\"8\")","v":0},{"$f":"P24","v":40}]
[null,null,null,null,null,"Par",4,5,4,5,4,3,3,4,5,{"$f":"SUM(G27:O27)","v":37},{"$f":"P27+P23","v":70},null,null,"Back",{"$f":"COUNTIF(G28:O28,\"1\")","v":0},{"$f":"COUNTConditionColorCells($G$28:$O$28,V25)","v":0},{"$f":"COUNTConditionColorCells($G$28:$O$28,W25)","v":1},5,2,1,{"$f":"COUNTIF(G28:O28,\"8\")","v":0},{"$f":"P28","v":41}]
[null,null,null,null,null,"Score",7,4,4,5,5,4,3,4,5,{"$f":"SUM(G28:O28)","v":41},81,null,null,"Total",{"$f":"U26+U27","v":0},{"$f":"V26+V27","v":0},1,9,5,3,0,{"$f":"Q28","v":81}]
[]
[null,"Nevin #2 - Play from short cement pad (not long pad behind creek).",null,null,null,null,null,null,null,null,null,null,"Player"]
[null,null,null,null,null,null,null,null,null,null,null,null,"Witness 1"]
[null,"Turn in your completed, signed score sheet before 9pm",null,null,null,null,null,null,null,null,null,null,"Witness 2"]
[null,"at Divine Barrel Brewery (3701 N. Davidson St).",null,null,null,null,null,null,null,null,null,null,"Witness 3",null,null,null,null,null,null,"FINAL","Ace","Eag","Bir","Par","Bog","Bg+","Sno","Score"]
[null,null,null,null,null,null,null,null,null,null,null,null,null,null,null,null,null,null,null,"TOTAL",{"$f":"SUM(U28,U18,U8)","v":0},{"$f":"SUM(V28,V18,V8)","v":0},3,24,19,8,1,240]

{"sheet":"MiWi","index":31,"n_rows":34,"n_cols":28,"rows_kept":34,"cut":false,"hidden":false,"merged":[[0,0,33,0],[0,16,3,16],[0,17,33,17],[1,20,1,24],[1,26,1,27],[10,12,13,12],[20,16,23,16],[29,1,29,10],[29,12,29,13],[30,1,30,10],[30,12,30,13],[31,1,31,10],[31,12,31,13],[32,1,32,10],[32,12,32,13]]}
["2019 Charlotte Iron Man",null,null,null,null,"Hole",1,2,3,4,5,6,7,8,9,"Out","ANGRY"]
[null,null,null,null,null,"Dist.",235,158,222,439,801,491,282,567,268,{"$f":"SUM(G2:O2)","v":3463},null,null,null,"Name","Michael Williams",null,null,null,null,"Div","Iron Men"]
[null,null,null,null,null,"Par",3,3,3,4,5,4,3,4,3,{"$f":"SUM(G3:O3)","v":32}]
[null,null,null,null,null,"Score",5,4,2,4,7,6,4,6,6,44]
[null,null,null,null,null,"Hole",10,11,12,13,14,15,16,17,18,"In","Total",null,null,"ANGRY","Ace","Eag","Bir","Par","Bog","Bg+","Sno","Score"]
[null,null,null,null,null,"Dist.",563,465,215,409,333,702,431,282,814,{"$f":"SUM(G6:O6)","v":4214},{"$f":"P6+P2","v":7677},null,null,"Front",{"$f":"COUNTIF(G4:O4,\"1\")","v":0},{"$f":"COUNTConditionColorCells($G$4:$O$4,V5)","v":0},{"$f":"COUNTConditionColorCells($G$4:$O$4,W5)","v":1},1,2,5,{"$f":"COUNTIF(G4:O4,\"8\")","v":0},{"$f":"P4","v":44}]
[null,null,null,null,null,"Par",4,4,3,4,3,5,4,3,5,{"$f":"SUM(G7:O7)","v":35},{"$f":"P7+P3","v":67},null,null,"Back",{"$f":"COUNTIF(G8:O8,\"1\")","v":0},{"$f":"COUNTConditionColorCells($G$8:$O$8,V5)","v":0},{"$f":"COUNTConditionColorCells($G$8:$O$8,W5)","v":0},{"$f":"COUNTConditionColorCells($G$8:$O$8,X5)","v":1},{"$f":"COUNTConditionColorCells($G$8:$O$8,Y5)","v":5},3,{"$f":"COUNTIF(G8:O8,\"8\")","v":1},{"$f":"P8","v":50}]
[null,null,null,null,null,"Score",5,5,4,4,4,10,5,5,8,{"$f":"SUM(G8:O8)","v":50},94,null,null,"Total",{"$f":"U6+U7","v":0},{"$f":"V6+V7","v":0},1,2,7,8,1,{"$f":"Q8","v":94}]
[]
[]
[null,"Hole",1,2,3,4,5,6,7,8,9,"Out","NEVIN"]
[null,"Dist.",491,240,375,538,656,317,202,329,593,{"$f":"SUM(C12:K12)","v":3741}]
[null,"Par",4,3,3,4,5,3,3,3,4,{"$f":"SUM(C13:K13)","v":32}]
[null,"Score",5,4,6,5,7,4,5,4,6,46]
[null,"Hole",10,11,12,13,14,15,16,17,18,"In","Total",null,null,null,null,null,null,"NEVIN","Ace","Eag","Bir","Par","Bog","Bg+","Sno","Score"]
[null,"Dist.",630,640,970,274,550,252,596,581,530,{"$f":"SUM(C16:K16)","v":5023},{"$f":"L16+L12","v":8764},null,null,null,null,null,null,"Front",{"$f":"COUNTIF(C14:K14,\"1\")","v":0},{"$f":"COUNTConditionColorCells($C$14:$K$14,V15)","v":0},{"$f":"COUNTConditionColorCells($C$14:$K$14,W15)","v":0},0,5,4,{"$f":"COUNTIF(C14:K14,\"8\")","v":0},{"$f":"L14","v":46}]
[null,"Par",5,4,5,3,4,3,4,5,4,{"$f":"SUM(C17:K17)","v":37},{"$f":"L17+L13","v":69},null,null,null,null,null,null,"Back",{"$f":"COUNTIF(C18:K18,\"1\")","v":0},{"$f":"COUNTConditionColorCells($C$18:$K$18,V15)","v":0},{"$f":"COUNTConditionColorCells($C$18:$K$18,W15)","v":0},2,2,5,{"$f":"COUNTIF(C18:K18,\"8\")","v":1},{"$f":"L18","v":50}]
[null,"Score",7,5,8,3,6,4,4,7,6,{"$f":"SUM(C18:K18)","v":50},96,null,null,null,null,null,null,"Total",{"$f":"U16+U17","v":0},{"$f":"V16+V17","v":0},0,2,7,9,{"$f":"AA16+AA17","v":1},{"$f":"M18","v":96}]
[]
[]
[null,null,null,null,null,"Hole",1,2,3,4,5,6,7,8,9,"Out","RENNY"]
[null,null,null,null,null,"Dist.",523,519,386,551,392,257,465,323,285,{"$f":"SUM(G22:O22)","v":3701}]
[null,null,null,null,null,"Par",4,4,4,4,4,3,4,3,3,{"$f":"SUM(G23:O23)","v":33}]
[null,null,null,null,null,"Score",5,4,4,5,4,4,6,5,3,40]
[null,null,null,null,null,"Hole",10,11,12,13,14,15,16,17,18,"In","Total",null,null,"RENNY","Ace","Eag","Bir","Par","Bog","Bg+","Sno","Score"]
[null,null,null,null,null,"Dist.",538,1042,617,974,564,378,302,517,826,{"$f":"SUM(G26:O26)","v":5758},{"$f":"P26+P22","v":9459},null,null,"Front",{"$f":"COUNTIF(G24:O24,\"1\")","v":0},{"$f":"COUNTConditionColorCells($G$24:$O$24,V25)","v":0},{"$f":"COUNTConditionColorCells($G$24:$O$24,W25)","v":0},4,3,2,{"$f":"COUNTIF(G24:O24,\"8\")","v":0},{"$f":"P24","v":40}]
[null,null,null,null,null,"Par",4,5,4,5,4,3,3,4,5,{"$f":"SUM(G27:O27)","v":37},{"$f":"P27+P23","v":70},null,null,"Back",{"$f":"COUNTIF(G28:O28,\"1\")","v":0},{"$f":"COUNTConditionColorCells($G$28:$O$28,V25)","v":0},{"$f":"COUNTConditionColorCells($G$28:$O$28,W25)","v":1},4,2,2,{"$f":"COUNTIF(G28:O28,\"8\")","v":0},{"$f":"P28","v":44}]
[null,null,null,null,null,"Score",4,6,6,9,4,3,3,5,4,{"$f":"SUM(G28:O28)","v":44},84,null,null,"Total",{"$f":"U26+U27","v":0},{"$f":"V26+V27","v":0},1,8,5,4,0,{"$f":"Q28","v":84}]
[]
[null,"Nevin #2 - Play from short cement pad (not long pad behind creek).",null,null,null,null,null,null,null,null,null,null,"Player"]
[null,null,null,null,null,null,null,null,null,null,null,null,"Witness 1"]
[null,"Turn in your completed, signed score sheet before 9pm",null,null,null,null,null,null,null,null,null,null,"Witness 2"]
[null,"at Divine Barrel Brewery (3701 N. Davidson St).",null,null,null,null,null,null,null,null,null,null,"Witness 3",null,null,null,null,null,null,"FINAL","Ace","Eag","Bir","Par","Bog","Bg+","Sno","Score"]
[null,null,null,null,null,null,null,null,null,null,null,null,null,null,null,null,null,null,null,"TOTAL",{"$f":"SUM(U28,U18,U8)","v":0},{"$f":"SUM(V28,V18,V8)","v":0},2,12,19,21,2,274]

{"sheet":"MiMc","index":32,"n_rows":34,"n_cols":28,"rows_kept":34,"cut":false,"hidden":false,"merged":[[0,0,33,0],[0,16,3,16],[0,17,33,17],[1,20,1,24],[1,26,1,27],[10,12,13,12],[20,16,23,16],[29,1,29,10],[29,12,29,13],[30,1,30,10],[30,12,30,13],[31,1,31,10],[31,12,31,13],[32,1,32,10],[32,12,32,13]]}
["2019 Charlotte Iron Man",null,null,null,null,"Hole",1,2,3,4,5,6,7,8,9,"Out","ANGRY"]
[null,null,null,null,null,"Dist.",235,158,222,439,801,491,282,567,268,{"$f":"SUM(G2:O2)","v":3463},null,null,null,"Name","Mitchell McGarity",null,null,null,null,"Div","Iron Men"]
[null,null,null,null,null,"Par",3,3,3,4,5,4,3,4,3,{"$f":"SUM(G3:O3)","v":32}]
[null,null,null,null,null,"Score",5,4,5,6,9,6,6,7,4,52]
[null,null,null,null,null,"Hole",10,11,12,13,14,15,16,17,18,"In","Total",null,null,"ANGRY","Ace","Eag","Bir","Par","Bog","Bg+","Sno","Score"]
[null,null,null,null,null,"Dist.",563,465,215,409,333,702,431,282,814,{"$f":"SUM(G6:O6)","v":4214},{"$f":"P6+P2","v":7677},null,null,"Front",{"$f":"COUNTIF(G4:O4,\"1\")","v":0},{"$f":"COUNTConditionColorCells($G$4:$O$4,V5)","v":0},{"$f":"COUNTConditionColorCells($G$4:$O$4,W5)","v":0},0,2,7,{"$f":"COUNTIF(G4:O4,\"8\")","v":0},{"$f":"P4","v":52}]
[null,null,null,null,null,"Par",4,4,3,4,3,5,4,3,5,{"$f":"SUM(G7:O7)","v":35},{"$f":"P7+P3","v":67},null,null,"Back",{"$f":"COUNTIF(G8:O8,\"1\")","v":0},{"$f":"COUNTConditionColorCells($G$8:$O$8,V5)","v":0},{"$f":"COUNTConditionColorCells($G$8:$O$8,W5)","v":0},{"$f":"COUNTConditionColorCells($G$8:$O$8,X5)","v":1},{"$f":"COUNTConditionColorCells($G$8:$O$8,Y5)","v":4},4,{"$f":"COUNTIF(G8:O8,\"8\")","v":0},{"$f":"P8","v":51}]
[null,null,null,null,null,"Score",5,5,5,5,4,9,4,5,9,{"$f":"SUM(G8:O8)","v":51},103,null,null,"Total",{"$f":"U6+U7","v":0},{"$f":"V6+V7","v":0},0,1,6,11,0,{"$f":"Q8","v":103}]
[]
[]
[null,"Hole",1,2,3,4,5,6,7,8,9,"Out","NEVIN"]
[null,"Dist.",491,240,375,538,656,317,202,329,593,{"$f":"SUM(C12:K12)","v":3741}]
[null,"Par",4,3,3,4,5,3,3,3,4,{"$f":"SUM(C13:K13)","v":32}]
[null,"Score",6,3,6,5,8,6,4,5,5,48]
[null,"Hole",10,11,12,13,14,15,16,17,18,"In","Total",null,null,null,null,null,null,"NEVIN","Ace","Eag","Bir","Par","Bog","Bg+","Sno","Score"]
[null,"Dist.",630,640,970,274,550,252,596,581,530,{"$f":"SUM(C16:K16)","v":5023},{"$f":"L16+L12","v":8764},null,null,null,null,null,null,"Front",{"$f":"COUNTIF(C14:K14,\"1\")","v":0},{"$f":"COUNTConditionColorCells($C$14:$K$14,V15)","v":0},{"$f":"COUNTConditionColorCells($C$14:$K$14,W15)","v":0},1,3,5,{"$f":"COUNTIF(C14:K14,\"8\")","v":1},{"$f":"L14","v":48}]
[null,"Par",5,4,5,3,4,3,4,5,4,{"$f":"SUM(C17:K17)","v":37},{"$f":"L17+L13","v":69},null,null,null,null,null,null,"Back",{"$f":"COUNTIF(C18:K18,\"1\")","v":0},{"$f":"COUNTConditionColorCells($C$18:$K$18,V15)","v":0},{"$f":"COUNTConditionColorCells($C$18:$K$18,W15)","v":0},2,5,2,{"$f":"COUNTIF(C18:K18,\"8\")","v":0},{"$f":"L18","v":48}]
[null,"Score",6,5,6,4,4,3,7,6,7,{"$f":"SUM(C18:K18)","v":48},96,null,null,null,null,null,null,"Total",{"$f":"U16+U17","v":0},{"$f":"V16+V17","v":0},0,3,8,7,{"$f":"AA16+AA17","v":1},{"$f":"M18","v":96}]
[]
[]
[null,null,null,null,null,"Hole",1,2,3,4,5,6,7,8,9,"Out","RENNY"]
[null,null,null,null,null,"Dist.",523,519,386,551,392,257,465,323,285,{"$f":"SUM(G22:O22)","v":3701}]
[null,null,null,null,null,"Par",4,4,4,4,4,3,4,3,3,{"$f":"SUM(G23:O23)","v":33}]
[null,null,null,null,null,"Score",4,4,4,8,5,4,6,4,4,43]
[null,null,null,null,null,"Hole",10,11,12,13,14,15,16,17,18,"In","Total",null,null,"RENNY","Ace","Eag","Bir","Par","Bog","Bg+","Sno","Score"]
[null,null,null,null,null,"Dist.",538,1042,617,974,564,378,302,517,826,{"$f":"SUM(G26:O26)","v":5758},{"$f":"P26+P22","v":9459},null,null,"Front",{"$f":"COUNTIF(G24:O24,\"1\")","v":0},{"$f":"COUNTConditionColorCells($G$24:$O$24,V25)","v":0},{"$f":"COUNTConditionColorCells($G$24:$O$24,W25)","v":0},3,4,2,{"$f":"COUNTIF(G24:O24,\"8\")","v":1},{"$f":"P24","v":43}]
[null,null,null,null,null,"Par",4,5,4,5,4,3,3,4,5,{"$f":"SUM(G27:O27)","v":37},{"$f":"P27+P23","v":70},null,null,"Back",{"$f":"COUNTIF(G28:O28,\"1\")","v":0},{"$f":"COUNTConditionColorCells($G$28:$O$28,V25)","v":0},{"$f":"COUNTConditionColorCells($G$28:$O$28,W25)","v":0},1,1,7,{"$f":"COUNTIF(G28:O28,\"8\")","v":1},{"$f":"P28","v":58}]
[null,null,null,null,null,"Score",7,8,6,9,5,6,3,7,7,{"$f":"SUM(G28:O28)","v":58},101,null,null,"Total",{"$f":"U26+U27","v":0},{"$f":"V26+V27","v":0},0,4,5,9,2,{"$f":"Q28","v":101}]
[]
[null,"Nevin #2 - Play from short cement pad (not long pad behind creek).",null,null,null,null,null,null,null,null,null,null,"Player"]
[null,null,null,null,null,null,null,null,null,null,null,null,"Witness 1"]
[null,"Turn in your completed, signed score sheet before 9pm",null,null,null,null,null,null,null,null,null,null,"Witness 2"]
[null,"at Divine Barrel Brewery (3701 N. Davidson St).",null,null,null,null,null,null,null,null,null,null,"Witness 3",null,null,null,null,null,null,"FINAL","Ace","Eag","Bir","Par","Bog","Bg+","Sno","Score"]
[null,null,null,null,null,null,null,null,null,null,null,null,null,null,null,null,null,null,null,"TOTAL",{"$f":"SUM(U28,U18,U8)","v":0},{"$f":"SUM(V28,V18,V8)","v":0},0,8,19,27,3,300]

{"sheet":"RoSa","index":33,"n_rows":34,"n_cols":28,"rows_kept":34,"cut":false,"hidden":false,"merged":[[0,0,33,0],[0,16,3,16],[0,17,33,17],[1,20,1,24],[1,26,1,27],[10,12,13,12],[20,16,23,16],[29,1,29,10],[29,12,29,13],[30,1,30,10],[30,12,30,13],[31,1,31,10],[31,12,31,13],[32,1,32,10],[32,12,32,13]]}
["2019 Charlotte Iron Man",null,null,null,null,"Hole",1,2,3,4,5,6,7,8,9,"Out","ANGRY"]
[null,null,null,null,null,"Dist.",235,158,222,439,801,491,282,567,268,{"$f":"SUM(G2:O2)","v":3463},null,null,null,"Name","Robert Sadowski",null,null,null,null,"Div","Iron Men"]
[null,null,null,null,null,"Par",3,3,3,4,5,4,3,4,3,{"$f":"SUM(G3:O3)","v":32}]
[null,null,null,null,null,"Score",3,5,3,7,6,6,6,6,4,46]
[null,null,null,null,null,"Hole",10,11,12,13,14,15,16,17,18,"In","Total",null,null,"ANGRY","Ace","Eag","Bir","Par","Bog","Bg+","Sno","Score"]
[null,null,null,null,null,"Dist.",563,465,215,409,333,702,431,282,814,{"$f":"SUM(G6:O6)","v":4214},{"$f":"P6+P2","v":7677},null,null,"Front",{"$f":"COUNTIF(G4:O4,\"1\")","v":0},{"$f":"COUNTConditionColorCells($G$4:$O$4,V5)","v":0},{"$f":"COUNTConditionColorCells($G$4:$O$4,W5)","v":0},2,2,5,{"$f":"COUNTIF(G4:O4,\"8\")","v":0},{"$f":"P4","v":46}]
[null,null,null,null,null,"Par",4,4,3,4,3,5,4,3,5,{"$f":"SUM(G7:O7)","v":35},{"$f":"P7+P3","v":67},null,null,"Back",{"$f":"COUNTIF(G8:O8,\"1\")","v":0},{"$f":"COUNTConditionColorCells($G$8:$O$8,V5)","v":0},{"$f":"COUNTConditionColorCells($G$8:$O$8,W5)","v":0},{"$f":"COUNTConditionColorCells($G$8:$O$8,X5)","v":3},{"$f":"COUNTConditionColorCells($G$8:$O$8,Y5)","v":4},2,{"$f":"COUNTIF(G8:O8,\"8\")","v":0},{"$f":"P8","v":43}]
[null,null,null,null,null,"Score",6,4,4,6,3,6,4,4,6,{"$f":"SUM(G8:O8)","v":43},89,null,null,"Total",{"$f":"U6+U7","v":0},{"$f":"V6+V7","v":0},0,5,6,7,0,{"$f":"Q8","v":89}]
[]
[]
[null,"Hole",1,2,3,4,5,6,7,8,9,"Out","NEVIN"]
[null,"Dist.",491,240,375,538,656,317,202,329,593,{"$f":"SUM(C12:K12)","v":3741}]
[null,"Par",4,3,3,4,5,3,3,3,4,{"$f":"SUM(C13:K13)","v":32}]
[null,"Score",5,4,5,6,5,3,3,4,4,39]
[null,"Hole",10,11,12,13,14,15,16,17,18,"In","Total",null,null,null,null,null,null,"NEVIN","Ace","Eag","Bir","Par","Bog","Bg+","Sno","Score"]
[null,"Dist.",630,640,970,274,550,252,596,581,530,{"$f":"SUM(C16:K16)","v":5023},{"$f":"L16+L12","v":8764},null,null,null,null,null,null,"Front",{"$f":"COUNTIF(C14:K14,\"1\")","v":0},{"$f":"COUNTConditionColorCells($C$14:$K$14,V15)","v":0},{"$f":"COUNTConditionColorCells($C$14:$K$14,W15)","v":0},4,3,2,{"$f":"COUNTIF(C14:K14,\"8\")","v":0},{"$f":"L14","v":39}]
[null,"Par",5,4,5,3,4,3,4,5,4,{"$f":"SUM(C17:K17)","v":37},{"$f":"L17+L13","v":69},null,null,null,null,null,null,"Back",{"$f":"COUNTIF(C18:K18,\"1\")","v":0},{"$f":"COUNTConditionColorCells($C$18:$K$18,V15)","v":0},{"$f":"COUNTConditionColorCells($C$18:$K$18,W15)","v":1},2,3,3,{"$f":"COUNTIF(C18:K18,\"8\")","v":0},{"$f":"L18","v":45}]
[null,"Score",5,5,7,2,5,3,6,6,6,{"$f":"SUM(C18:K18)","v":45},84,null,null,null,null,null,null,"Total",{"$f":"U16+U17","v":0},{"$f":"V16+V17","v":0},1,6,6,5,{"$f":"AA16+AA17","v":0},{"$f":"M18","v":84}]
[]
[]
[null,null,null,null,null,"Hole",1,2,3,4,5,6,7,8,9,"Out","RENNY"]
[null,null,null,null,null,"Dist.",523,519,386,551,392,257,465,323,285,{"$f":"SUM(G22:O22)","v":3701}]
[null,null,null,null,null,"Par",4,4,4,4,4,3,4,3,3,{"$f":"SUM(G23:O23)","v":33}]
[null,null,null,null,null,"Score",4,3,7,5,4,5,5,3,3,39]
[null,null,null,null,null,"Hole",10,11,12,13,14,15,16,17,18,"In","Total",null,null,"RENNY","Ace","Eag","Bir","Par","Bog","Bg+","Sno","Score"]
[null,null,null,null,null,"Dist.",538,1042,617,974,564,378,302,517,826,{"$f":"SUM(G26:O26)","v":5758},{"$f":"P26+P22","v":9459},null,null,"Front",{"$f":"COUNTIF(G24:O24,\"1\")","v":0},{"$f":"COUNTConditionColorCells($G$24:$O$24,V25)","v":0},{"$f":"COUNTConditionColorCells($G$24:$O$24,W25)","v":1},4,2,2,{"$f":"COUNTIF(G24:O24,\"8\")","v":0},{"$f":"P24","v":39}]
[null,null,null,null,null,"Par",4,5,4,5,4,3,3,4,5,{"$f":"SUM(G27:O27)","v":37},{"$f":"P27+P23","v":70},null,null,"Back",{"$f":"COUNTIF(G28:O28,\"1\")","v":0},{"$f":"COUNTConditionColorCells($G$28:$O$28,V25)","v":0},{"$f":"COUNTConditionColorCells($G$28:$O$28,W25)","v":0},0,5,4,{"$f":"COUNTIF(G28:O28,\"8\")","v":0},{"$f":"P28","v":53}]
[null,null,null,null,null,"Score",5,7,5,10,5,4,4,6,7,{"$f":"SUM(G28:O28)","v":53},92,null,null,"Total",{"$f":"U26+U27","v":0},{"$f":"V26+V27","v":0},1,4,7,6,0,{"$f":"Q28","v":92}]
[]
[null,"Nevin #2 - Play from short cement pad (not long pad behind creek).",null,null,null,null,null,null,null,null,null,null,"Player"]
[null,null,null,null,null,null,null,null,null,null,null,null,"Witness 1"]
[null,"Turn in your completed, signed score sheet before 9pm",null,null,null,null,null,null,null,null,null,null,"Witness 2"]
[null,"at Divine Barrel Brewery (3701 N. Davidson St).",null,null,null,null,null,null,null,null,null,null,"Witness 3",null,null,null,null,null,null,"FINAL","Ace","Eag","Bir","Par","Bog","Bg+","Sno","Score"]
[null,null,null,null,null,null,null,null,null,null,null,null,null,null,null,null,null,null,null,"TOTAL",{"$f":"SUM(U28,U18,U8)","v":0},{"$f":"SUM(V28,V18,V8)","v":0},2,15,19,18,0,265]

{"sheet":"TiHa","index":34,"n_rows":34,"n_cols":28,"rows_kept":34,"cut":false,"hidden":false,"merged":[[0,0,33,0],[0,16,3,16],[0,17,33,17],[1,20,1,24],[1,26,1,27],[10,12,13,12],[20,16,23,16],[29,1,29,10],[29,12,29,13],[30,1,30,10],[30,12,30,13],[31,1,31,10],[31,12,31,13],[32,1,32,10],[32,12,32,13]]}
["2019 Charlotte Iron Man",null,null,null,null,"Hole",1,2,3,4,5,6,7,8,9,"Out","ANGRY"]
[null,null,null,null,null,"Dist.",235,158,222,439,801,491,282,567,268,{"$f":"SUM(G2:O2)","v":3463},null,null,null,"Name","Tim Hatley",null,null,null,null,"Div","Iron Men"]
[null,null,null,null,null,"Par",3,3,3,4,5,4,3,4,3,{"$f":"SUM(G3:O3)","v":32}]
[null,null,null,null,null,"Score",3,2,2,4,7,4,3,4,4,33]
[null,null,null,null,null,"Hole",10,11,12,13,14,15,16,17,18,"In","Total",null,null,"ANGRY","Ace","Eag","Bir","Par","Bog","Bg+","Sno","Score"]
[null,null,null,null,null,"Dist.",563,465,215,409,333,702,431,282,814,{"$f":"SUM(G6:O6)","v":4214},{"$f":"P6+P2","v":7677},null,null,"Front",{"$f":"COUNTIF(G4:O4,\"1\")","v":0},{"$f":"COUNTConditionColorCells($G$4:$O$4,V5)","v":0},{"$f":"COUNTConditionColorCells($G$4:$O$4,W5)","v":2},5,1,1,{"$f":"COUNTIF(G4:O4,\"8\")","v":0},{"$f":"P4","v":33}]
[null,null,null,null,null,"Par",4,4,3,4,3,5,4,3,5,{"$f":"SUM(G7:O7)","v":35},{"$f":"P7+P3","v":67},null,null,"Back",{"$f":"COUNTIF(G8:O8,\"1\")","v":0},{"$f":"COUNTConditionColorCells($G$8:$O$8,V5)","v":0},{"$f":"COUNTConditionColorCells($G$8:$O$8,W5)","v":1},{"$f":"COUNTConditionColorCells($G$8:$O$8,X5)","v":5},{"$f":"COUNTConditionColorCells($G$8:$O$8,Y5)","v":1},2,{"$f":"COUNTIF(G8:O8,\"8\")","v":0},{"$f":"P8","v":41}]
[null,null,null,null,null,"Score",4,4,7,5,5,4,4,3,5,{"$f":"SUM(G8:O8)","v":41},74,null,null,"Total",{"$f":"U6+U7","v":0},{"$f":"V6+V7","v":0},3,10,2,3,0,{"$f":"Q8","v":74}]
[]
[]
[null,"Hole",1,2,3,4,5,6,7,8,9,"Out","NEVIN"]
[null,"Dist.",491,240,375,538,656,317,202,329,593,{"$f":"SUM(C12:K12)","v":3741}]
[null,"Par",4,3,3,4,5,3,3,3,4,{"$f":"SUM(C13:K13)","v":32}]
[null,"Score",4,3,4,6,7,4,3,3,4,38]
[null,"Hole",10,11,12,13,14,15,16,17,18,"In","Total",null,null,null,null,null,null,"NEVIN","Ace","Eag","Bir","Par","Bog","Bg+","Sno","Score"]
[null,"Dist.",630,640,970,274,550,252,596,581,530,{"$f":"SUM(C16:K16)","v":5023},{"$f":"L16+L12","v":8764},null,null,null,null,null,null,"Front",{"$f":"COUNTIF(C14:K14,\"1\")","v":0},{"$f":"COUNTConditionColorCells($C$14:$K$14,V15)","v":0},{"$f":"COUNTConditionColorCells($C$14:$K$14,W15)","v":0},5,2,2,{"$f":"COUNTIF(C14:K14,\"8\")","v":0},{"$f":"L14","v":38}]
[null,"Par",5,4,5,3,4,3,4,5,4,{"$f":"SUM(C17:K17)","v":37},{"$f":"L17+L13","v":69},null,null,null,null,null,null,"Back",{"$f":"COUNTIF(C18:K18,\"1\")","v":0},{"$f":"COUNTConditionColorCells($C$18:$K$18,V15)","v":0},{"$f":"COUNTConditionColorCells($C$18:$K$18,W15)","v":2},5,2,0,{"$f":"COUNTIF(C18:K18,\"8\")","v":0},{"$f":"L18","v":37}]
[null,"Score",5,3,5,3,4,2,5,6,4,{"$f":"SUM(C18:K18)","v":37},75,null,null,null,null,null,null,"Total",{"$f":"U16+U17","v":0},{"$f":"V16+V17","v":0},2,10,4,2,{"$f":"AA16+AA17","v":0},{"$f":"M18","v":75}]
[]
[]
[null,null,null,null,null,"Hole",1,2,3,4,5,6,7,8,9,"Out","RENNY"]
[null,null,null,null,null,"Dist.",523,519,386,551,392,257,465,323,285,{"$f":"SUM(G22:O22)","v":3701}]
[null,null,null,null,null,"Par",4,4,4,4,4,3,4,3,3,{"$f":"SUM(G23:O23)","v":33}]
[null,null,null,null,null,"Score",4,4,4,4,4,3,3,4,3,33]
[null,null,null,null,null,"Hole",10,11,12,13,14,15,16,17,18,"In","Total",null,null,"RENNY","Ace","Eag","Bir","Par","Bog","Bg+","Sno","Score"]
[null,null,null,null,null,"Dist.",538,1042,617,974,564,378,302,517,826,{"$f":"SUM(G26:O26)","v":5758},{"$f":"P26+P22","v":9459},null,null,"Front",{"$f":"COUNTIF(G24:O24,\"1\")","v":0},{"$f":"COUNTConditionColorCells($G$24:$O$24,V25)","v":0},{"$f":"COUNTConditionColorCells($G$24:$O$24,W25)","v":1},7,1,0,{"$f":"COUNTIF(G24:O24,\"8\")","v":0},{"$f":"P24","v":33}]
[null,null,null,null,null,"Par",4,5,4,5,4,3,3,4,5,{"$f":"SUM(G27:O27)","v":37},{"$f":"P27+P23","v":70},null,null,"Back",{"$f":"COUNTIF(G28:O28,\"1\")","v":0},{"$f":"COUNTConditionColorCells($G$28:$O$28,V25)","v":0},{"$f":"COUNTConditionColorCells($G$28:$O$28,W25)","v":0},2,7,0,{"$f":"COUNTIF(G28:O28,\"8\")","v":0},{"$f":"P28","v":44}]
[null,null,null,null,null,"Score",5,6,4,6,5,3,4,5,6,{"$f":"SUM(G28:O28)","v":44},77,null,null,"Total",{"$f":"U26+U27","v":0},{"$f":"V26+V27","v":0},1,9,8,0,0,{"$f":"Q28","v":77}]
[]
[null,"Nevin #2 - Play from short cement pad (not long pad behind creek).",null,null,null,null,null,null,null,null,null,null,"Player"]
[null,null,null,null,null,null,null,null,null,null,null,null,"Witness 1"]
[null,"Turn in your completed, signed score sheet before 9pm",null,null,null,null,null,null,null,null,null,null,"Witness 2"]
[null,"at Divine Barrel Brewery (3701 N. Davidson St).",null,null,null,null,null,null,null,null,null,null,"Witness 3",null,null,null,null,null,null,"FINAL","Ace","Eag","Bir","Par","Bog","Bg+","Sno","Score"]
[null,null,null,null,null,null,null,null,null,null,null,null,null,null,null,null,null,null,null,"TOTAL",{"$f":"SUM(U28,U18,U8)","v":0},{"$f":"SUM(V28,V18,V8)","v":0},6,29,14,5,0,226]

{"sheet":"TrKi","index":35,"n_rows":34,"n_cols":28,"rows_kept":34,"cut":false,"hidden":false,"merged":[[0,0,33,0],[0,16,3,16],[0,17,33,17],[1,20,1,24],[1,26,1,27],[10,12,13,12],[20,16,23,16],[29,1,29,10],[29,12,29,13],[30,1,30,10],[30,12,30,13],[31,1,31,10],[31,12,31,13],[32,1,32,10],[32,12,32,13]]}
["2019 Charlotte Iron Man",null,null,null,null,"Hole",1,2,3,4,5,6,7,8,9,"Out","ANGRY"]
[null,null,null,null,null,"Dist.",235,158,222,439,801,491,282,567,268,{"$f":"SUM(G2:O2)","v":3463},null,null,null,"Name","Trey King",null,null,null,null,"Div","Iron Men"]
[null,null,null,null,null,"Par",3,3,3,4,5,4,3,4,3,{"$f":"SUM(G3:O3)","v":32}]
[null,null,null,null,null,"Score",4,2,3,4,5,3,2,4,5,32]
[null,null,null,null,null,"Hole",10,11,12,13,14,15,16,17,18,"In","Total",null,null,"ANGRY","Ace","Eag","Bir","Par","Bog","Bg+","Sno","Score"]
[null,null,null,null,null,"Dist.",563,465,215,409,333,702,431,282,814,{"$f":"SUM(G6:O6)","v":4214},{"$f":"P6+P2","v":7677},null,null,"Front",{"$f":"COUNTIF(G4:O4,\"1\")","v":0},{"$f":"COUNTConditionColorCells($G$4:$O$4,V5)","v":0},{"$f":"COUNTConditionColorCells($G$4:$O$4,W5)","v":3},4,1,1,{"$f":"COUNTIF(G4:O4,\"8\")","v":0},{"$f":"P4","v":32}]
[null,null,null,null,null,"Par",4,4,3,4,3,5,4,3,5,{"$f":"SUM(G7:O7)","v":35},{"$f":"P7+P3","v":67},null,null,"Back",{"$f":"COUNTIF(G8:O8,\"1\")","v":0},{"$f":"COUNTConditionColorCells($G$8:$O$8,V5)","v":0},{"$f":"COUNTConditionColorCells($G$8:$O$8,W5)","v":5},{"$f":"COUNTConditionColorCells($G$8:$O$8,X5)","v":3},{"$f":"COUNTConditionColorCells($G$8:$O$8,Y5)","v":1},0,{"$f":"COUNTIF(G8:O8,\"8\")","v":0},{"$f":"P8","v":31}]
[null,null,null,null,null,"Score",3,3,3,4,2,4,3,4,5,{"$f":"SUM(G8:O8)","v":31},63,null,null,"Total",{"$f":"U6+U7","v":0},{"$f":"V6+V7","v":0},8,7,2,1,0,{"$f":"Q8","v":63}]
[]
[]
[null,"Hole",1,2,3,4,5,6,7,8,9,"Out","NEVIN"]
[null,"Dist.",491,240,375,538,656,317,202,329,593,{"$f":"SUM(C12:K12)","v":3741}]
[null,"Par",4,3,3,4,5,3,3,3,4,{"$f":"SUM(C13:K13)","v":32}]
[null,"Score",4,3,3,4,5,4,3,3,6,35]
[null,"Hole",10,11,12,13,14,15,16,17,18,"In","Total",null,null,null,null,null,null,"NEVIN","Ace","Eag","Bir","Par","Bog","Bg+","Sno","Score"]
[null,"Dist.",630,640,970,274,550,252,596,581,530,{"$f":"SUM(C16:K16)","v":5023},{"$f":"L16+L12","v":8764},null,null,null,null,null,null,"Front",{"$f":"COUNTIF(C14:K14,\"1\")","v":0},{"$f":"COUNTConditionColorCells($C$14:$K$14,V15)","v":0},{"$f":"COUNTConditionColorCells($C$14:$K$14,W15)","v":0},7,1,1,{"$f":"COUNTIF(C14:K14,\"8\")","v":0},{"$f":"L14","v":35}]
[null,"Par",5,4,5,3,4,3,4,5,4,{"$f":"SUM(C17:K17)","v":37},{"$f":"L17+L13","v":69},null,null,null,null,null,null,"Back",{"$f":"COUNTIF(C18:K18,\"1\")","v":0},{"$f":"COUNTConditionColorCells($C$18:$K$18,V15)","v":0},{"$f":"COUNTConditionColorCells($C$18:$K$18,W15)","v":1},7,1,0,{"$f":"COUNTIF(C18:K18,\"8\")","v":0},{"$f":"L18","v":37}]
[null,"Score",5,4,5,3,3,4,4,5,4,{"$f":"SUM(C18:K18)","v":37},72,null,null,null,null,null,null,"Total",{"$f":"U16+U17","v":0},{"$f":"V16+V17","v":0},1,14,2,1,{"$f":"AA16+AA17","v":0},{"$f":"M18","v":72}]
[]
[]
[null,null,null,null,null,"Hole",1,2,3,4,5,6,7,8,9,"Out","RENNY"]
[null,null,null,null,null,"Dist.",523,519,386,551,392,257,465,323,285,{"$f":"SUM(G22:O22)","v":3701}]
[null,null,null,null,null,"Par",4,4,4,4,4,3,4,3,3,{"$f":"SUM(G23:O23)","v":33}]
[null,null,null,null,null,"Score",4,3,4,5,5,3,5,3,3,35]
[null,null,null,null,null,"Hole",10,11,12,13,14,15,16,17,18,"In","Total",null,null,"RENNY","Ace","Eag","Bir","Par","Bog","Bg+","Sno","Score"]
[null,null,null,null,null,"Dist.",538,1042,617,974,564,378,302,517,826,{"$f":"SUM(G26:O26)","v":5758},{"$f":"P26+P22","v":9459},null,null,"Front",{"$f":"COUNTIF(G24:O24,\"1\")","v":0},{"$f":"COUNTConditionColorCells($G$24:$O$24,V25)","v":0},{"$f":"COUNTConditionColorCells($G$24:$O$24,W25)","v":1},5,3,0,{"$f":"COUNTIF(G24:O24,\"8\")","v":0},{"$f":"P24","v":35}]
[null,null,null,null,null,"Par",4,5,4,5,4,3,3,4,5,{"$f":"SUM(G27:O27)","v":37},{"$f":"P27+P23","v":70},null,null,"Back",{"$f":"COUNTIF(G28:O28,\"1\")","v":0},{"$f":"COUNTConditionColorCells($G$28:$O$28,V25)","v":0},{"$f":"COUNTConditionColorCells($G$28:$O$28,W25)","v":2},5,2,0,{"$f":"COUNTIF(G28:O28,\"8\")","v":0},{"$f":"P28","v":37}]
[null,null,null,null,null,"Score",4,5,3,6,4,3,3,5,4,{"$f":"SUM(G28:O28)","v":37},72,null,null,"Total",{"$f":"U26+U27","v":0},{"$f":"V26+V27","v":0},3,10,5,0,0,{"$f":"Q28","v":72}]
[]
[null,"Nevin #2 - Play from short cement pad (not long pad behind creek).",null,null,null,null,null,null,null,null,null,null,"Player"]
[null,null,null,null,null,null,null,null,null,null,null,null,"Witness 1"]
[null,"Turn in your completed, signed score sheet before 9pm",null,null,null,null,null,null,null,null,null,null,"Witness 2"]
[null,"at Divine Barrel Brewery (3701 N. Davidson St).",null,null,null,null,null,null,null,null,null,null,"Witness 3",null,null,null,null,null,null,"FINAL","Ace","Eag","Bir","Par","Bog","Bg+","Sno","Score"]
[null,null,null,null,null,null,null,null,null,null,null,null,null,null,null,null,null,null,null,"TOTAL",{"$f":"SUM(U28,U18,U8)","v":0},{"$f":"SUM(V28,V18,V8)","v":0},12,31,9,2,0,207]

{"sheet":"StSa","index":36,"n_rows":34,"n_cols":28,"rows_kept":34,"cut":false,"hidden":false,"merged":[[0,0,33,0],[0,16,3,16],[0,17,33,17],[1,20,1,24],[1,26,1,27],[10,12,13,12],[20,16,23,16],[29,1,29,10],[29,12,29,13],[30,1,30,10],[30,12,30,13],[31,1,31,10],[31,12,31,13],[32,1,32,10],[32,12,32,13]]}
["2019 Charlotte Iron Man",null,null,null,null,"Hole",1,2,3,4,5,6,7,8,9,"Out","ANGRY"]
[null,null,null,null,null,"Dist.",235,158,222,439,801,491,282,567,268,{"$f":"SUM(G2:O2)","v":3463},null,null,null,"Name","Stuart Salmon",null,null,null,null,"Div","Iron Men"]
[null,null,null,null,null,"Par",3,3,3,4,5,4,3,4,3,{"$f":"SUM(G3:O3)","v":32}]
[null,null,null,null,null,"Score",9,9,9,9,9,9,9,9,9,81]
[null,null,null,null,null,"Hole",10,11,12,13,14,15,16,17,18,"In","Total",null,null,"ANGRY","Ace","Eag","Bir","Par","Bog","Bg+","Sno","Score"]
[null,null,null,null,null,"Dist.",563,465,215,409,333,702,431,282,814,{"$f":"SUM(G6:O6)","v":4214},{"$f":"P6+P2","v":7677},null,null,"Front",{"$f":"COUNTIF(G4:O4,\"1\")","v":0},{"$f":"COUNTConditionColorCells($G$4:$O$4,V5)","v":0},{"$f":"COUNTConditionColorCells($G$4:$O$4,W5)","v":0},0,0,9,{"$f":"COUNTIF(G4:O4,\"8\")","v":0},{"$f":"P4","v":81}]
[null,null,null,null,null,"Par",4,4,3,4,3,5,4,3,5,{"$f":"SUM(G7:O7)","v":35},{"$f":"P7+P3","v":67},null,null,"Back",{"$f":"COUNTIF(G8:O8,\"1\")","v":0},{"$f":"COUNTConditionColorCells($G$8:$O$8,V5)","v":0},{"$f":"COUNTConditionColorCells($G$8:$O$8,W5)","v":0},{"$f":"COUNTConditionColorCells($G$8:$O$8,X5)","v":0},{"$f":"COUNTConditionColorCells($G$8:$O$8,Y5)","v":0},9,{"$f":"COUNTIF(G8:O8,\"8\")","v":0},{"$f":"P8","v":81}]
[null,null,null,null,null,"Score",9,9,9,9,9,9,9,9,9,{"$f":"SUM(G8:O8)","v":81},162,null,null,"Total",{"$f":"U6+U7","v":0},{"$f":"V6+V7","v":0},0,0,0,18,0,{"$f":"Q8","v":162}]
[]
[]
[null,"Hole",1,2,3,4,5,6,7,8,9,"Out","NEVIN"]
[null,"Dist.",491,240,375,538,656,317,202,329,593,{"$f":"SUM(C12:K12)","v":3741}]
[null,"Par",4,3,3,4,5,3,3,3,4,{"$f":"SUM(C13:K13)","v":32}]
[null,"Score",9,9,9,9,9,9,9,9,9,81]
[null,"Hole",10,11,12,13,14,15,16,17,18,"In","Total",null,null,null,null,null,null,"NEVIN","Ace","Eag","Bir","Par","Bog","Bg+","Sno","Score"]
[null,"Dist.",630,640,970,274,550,252,596,581,530,{"$f":"SUM(C16:K16)","v":5023},{"$f":"L16+L12","v":8764},null,null,null,null,null,null,"Front",{"$f":"COUNTIF(C14:K14,\"1\")","v":0},{"$f":"COUNTConditionColorCells($C$14:$K$14,V15)","v":0},{"$f":"COUNTConditionColorCells($C$14:$K$14,W15)","v":0},0,0,9,{"$f":"COUNTIF(C14:K14,\"8\")","v":0},{"$f":"L14","v":81}]
[null,"Par",5,4,5,3,4,3,4,5,4,{"$f":"SUM(C17:K17)","v":37},{"$f":"L17+L13","v":69},null,null,null,null,null,null,"Back",{"$f":"COUNTIF(C18:K18,\"1\")","v":0},{"$f":"COUNTConditionColorCells($C$18:$K$18,V15)","v":0},{"$f":"COUNTConditionColorCells($C$18:$K$18,W15)","v":0},0,0,9,{"$f":"COUNTIF(C18:K18,\"8\")","v":0},{"$f":"L18","v":81}]
[null,"Score",9,9,9,9,9,9,9,9,9,{"$f":"SUM(C18:K18)","v":81},162,null,null,null,null,null,null,"Total",{"$f":"U16+U17","v":0},{"$f":"V16+V17","v":0},0,0,0,18,{"$f":"AA16+AA17","v":0},{"$f":"M18","v":162}]
[]
[]
[null,null,null,null,null,"Hole",1,2,3,4,5,6,7,8,9,"Out","RENNY"]
[null,null,null,null,null,"Dist.",523,519,386,551,392,257,465,323,285,{"$f":"SUM(G22:O22)","v":3701}]
[null,null,null,null,null,"Par",4,4,4,4,4,3,4,3,3,{"$f":"SUM(G23:O23)","v":33}]
[null,null,null,null,null,"Score",9,9,9,9,9,9,9,9,9,81]
[null,null,null,null,null,"Hole",10,11,12,13,14,15,16,17,18,"In","Total",null,null,"RENNY","Ace","Eag","Bir","Par","Bog","Bg+","Sno","Score"]
[null,null,null,null,null,"Dist.",538,1042,617,974,564,378,302,517,826,{"$f":"SUM(G26:O26)","v":5758},{"$f":"P26+P22","v":9459},null,null,"Front",{"$f":"COUNTIF(G24:O24,\"1\")","v":0},{"$f":"COUNTConditionColorCells($G$24:$O$24,V25)","v":0},{"$f":"COUNTConditionColorCells($G$24:$O$24,W25)","v":0},0,0,9,{"$f":"COUNTIF(G24:O24,\"8\")","v":0},{"$f":"P24","v":81}]
[null,null,null,null,null,"Par",4,5,4,5,4,3,3,4,5,{"$f":"SUM(G27:O27)","v":37},{"$f":"P27+P23","v":70},null,null,"Back",{"$f":"COUNTIF(G28:O28,\"1\")","v":0},{"$f":"COUNTConditionColorCells($G$28:$O$28,V25)","v":0},{"$f":"COUNTConditionColorCells($G$28:$O$28,W25)","v":0},0,0,9,{"$f":"COUNTIF(G28:O28,\"8\")","v":0},{"$f":"P28","v":81}]
[null,null,null,null,null,"Score",9,9,9,9,9,9,9,9,9,{"$f":"SUM(G28:O28)","v":81},162,null,null,"Total",{"$f":"U26+U27","v":0},{"$f":"V26+V27","v":0},0,0,0,18,0,{"$f":"Q28","v":162}]
[]
[null,"Nevin #2 - Play from short cement pad (not long pad behind creek).",null,null,null,null,null,null,null,null,null,null,"Player"]
[null,null,null,null,null,null,null,null,null,null,null,null,"Witness 1"]
[null,"Turn in your completed, signed score sheet before 9pm",null,null,null,null,null,null,null,null,null,null,"Witness 2"]
[null,"at Divine Barrel Brewery (3701 N. Davidson St).",null,null,null,null,null,null,null,null,null,null,"Witness 3",null,null,null,null,null,null,"FINAL","Ace","Eag","Bir","Par","Bog","Bg+","Sno","Score"]
[null,null,null,null,null,null,null,null,null,null,null,null,null,null,null,null,null,null,null,"TOTAL",{"$f":"SUM(U28,U18,U8)","v":0},{"$f":"SUM(V28,V18,V8)","v":0},0,0,0,54,0,486]